{"text_format":"1","workbook":"xlsx","n_sheets":10,"sheets":["Introduction","a.) Employé+résumé","a.) Saisie Temps partiels","a.) Saisie Volontaires","a.) Saisie Stagiaires","a.) Saisie trav. sur Honoraires","a.) Saisie Benevole-Honorifique","a.) Honorifique ou Benevole","Infos organisation","PROG"],"not_rendered":{"charts":0,"images":3,"macros":1,"external_links":0,"defined_names":7,"comments":0,"pivot_tables":0},"unopened":[],"bounds":{"document_bytes":16777216,"sheet_cells":100000,"rows_first":2000,"rows_last":500,"rows_between":2000,"halvings":0,"cell_chars":16384,"cell_head_chars":4096},"cells_cut":0,"cells_raw":0,"read":"whole","date_system":"1900"}

{"sheet":"Introduction","index":0,"n_rows":27,"n_cols":10,"rows_kept":27,"cut":false,"hidden":false,"merged":[[22,2,22,9],[23,2,23,9],[26,2,26,9],[7,2,7,3],[13,0,13,9],[16,8,16,9],[16,2,16,7],[21,2,21,9]]}
[null,null,null,"Vereinigung Cerebral Schweiz"]
[null,null,null,"Association Cerebral Suisse",null,null,null,null,null,"Fichier \"coûts prestations\""]
[null,null,null,"Associazione Cerebral Svizzera",null,null,null,null,null,"Introduction"]
[]
[]
[]
[]
[null,null,"Onglets information",null,null,"Onglets contenant uniquement des informations"]
[null,null,"Onglets à traiter",null,null,"Remplir uniquement les cellules en vert"]
[null,null,"Listes de travail à remplir",null,null,"Outils pour la saisie des temps de travail"]
[null,null,"Résultats",null,null,"Onglets présentant des résultats"]
[]
["L'évaluation des coût de prestation passe par la mise en place de deux conditions initiales (a et b)"]
["Le présent fichier a pour but de récolter les informations auprès de chaque association régionale en vue d'un rapport consolidé pour l'OFAS"]
[]
["a.) ","Saisie des heures de travail (circulaire page 40 chap. 9 et )"]
[null,"1.)","Saisie journalière, décompte mensuelle par employé et par type d'activité.\nDoit être tenu tout au long de l'année",null,null,null,null,null,"solution AR \nou tableaux (onglets \"Saisie\")"]
[null,"2.)","Résumé annuel, reprise et consolidation selon saisie (point 1.)",null,null,null,null,null,"Onglet \"Total Travail\""]
[null,"3.)","Répartition aux différents types d'activités",null,null,null,null,null,"Onglet \"Clé de répartition\""]
[]
["b.) ","Comptabilité analytique"]
[null,null,"Sur la base de la comptabilié analytique, les résultats financiers seront confrontés d'une part aux temps de travail, d'autre part au volume des activités réalisées."]
[null,null,"Compte tenu de la situation actuelle qui sera présentée en détail lors de la conférence des Présidium du 11 juin 2016, nous proposons la démarche suivante :"]
[null,"1.)","Chaque association régionale fournit, en même temps que le présent fichier, les résultats financiers de sa comptabilité, compte par compte."]
[null,"2.)","L'association faìtière reprends les données qu'elle a besoin pour faire le reporting OFAS 2015"]
[null,"3.)","L'association régionale reste disponible pour fournir tous les compléments d'information nécessaires"]
[null,"4.)","Le fichier \"coûts prestation\" finalisé avec les donnée comptable, sera renvoyé au Associations régionales pour approbation définitive"]

{"sheet":"a.) Employé+résumé","index":1,"n_rows":46,"n_cols":44,"rows_kept":46,"cut":false,"hidden":false,"merged":[[0,18,1,19],[0,20,1,21],[0,22,1,23],[0,24,1,27],[30,2,30,42],[6,18,6,24],[11,3,12,3],[27,0,28,4],[11,9,12,9],[11,35,12,35],[11,5,12,5],[8,4,12,4],[28,24,28,25],[28,26,28,27],[28,28,28,29],[28,30,28,31],[28,32,28,33],[11,7,12,7],[11,11,12,11],[28,12,28,13],[28,14,28,15],[28,16,28,17],[28,18,28,19],[34,40,34,41],[11,6,12,6],[28,22,28,23],[11,40,12,40],[11,41,12,41],[11,38,11,39],[11,10,12,10],[28,20,28,21],[34,20,34,21],[6,48,6,49],[11,36,11,37],[6,42,6,47],[1,42,1,49],[11,12,11,13],[11,14,11,15],[11,16,11,17],[11,18,11,19],[11,20,11,21],[11,22,11,23],[11,24,11,25],[11,26,11,27],[11,28,11,29],[11,30,11,31],[11,42,12,42],[11,34,12,34],[7,0,7,42],[8,2,12,2],[11,8,12,8],[0,0,2,0],[10,5,10,6],[10,8,10,10],[0,8,1,10],[0,11,1,15],[43,20,43,21],[43,22,43,23],[43,24,43,25],[43,26,43,27],[43,28,43,29],[34,24,34,25],[34,26,34,27],[34,28,34,29],[36,2,36,42],[34,30,34,31],[34,32,34,33],[33,0,34,4],[34,22,34,23],[34,16,34,17],[43,18,43,19],[34,12,34,13],[42,0,43,4],[43,12,43,13],[43,14,43,15],[43,16,43,17],[34,18,34,19],[34,14,34,15],[34,36,34,37],[34,38,34,39],[45,40,45,41],[45,0,45,4],[39,2,39,42],[28,36,28,37],[28,38,28,39],[28,40,28,41],[45,12,45,13],[45,14,45,15],[45,16,45,17],[45,18,45,19],[45,20,45,21],[45,22,45,23],[45,24,45,25],[45,26,45,27],[45,28,45,29],[45,30,45,31],[45,32,45,33],[45,36,45,37],[45,38,45,39],[43,30,43,31],[43,32,43,33],[43,36,43,37],[43,38,43,39],[43,40,43,41]]}
[null,"Vereinigung Cerebral Schweiz",null,null,null,null,null,null,"Association régionale :",null,null,null,null,null,null,null,null,null,"OFAS n°",null,null,null,"Editeur/trice :",null,null,null,null,null,"Mail :"]
[null,"Association Cerebral Suisse",null,null,null,null,null,null,null,null,null,null,null,null,null,null,null,null,null,null,null,null,null,null,null,null,null,null,"Tel. :"]
[null,"Associazione Cerebral Svizzera"]
[]
[]
[]
["Répartition des temps de travail",null,null,null,null,null,null,null,null,null,null,null,null,null,null,null,"Année :",null,2015]
["Sur cette page sont reportés les emplois fixes de l'association, auquel s'ajoute le totoal des différentes autres activités listées dans le onglets selon types de travail."]
[null,null,"Code",null,"Poste (%)","Coûts indirects",null,null,null,null,null,null,"Prestation et activités Art. 74",null,null,null,null,null,null,null,null,null,null,null,null,null,null,null,null,null,null,null,null,null,null,null,"Prestations et activités hors Art. 74",null,null,null,null,null,null,"Consolidé"]
[null,null,null,null,null,"Temps de travail consacrés",null,null,null,null,null,null,"Temps de travail consacrés",null,null,null,null,null,null,null,null,null,null,null,null,null,null,null,null,null,null,null,null,null,null,null,"Temps de travail consacrés",null,null,null,null,null,null,"valeur 100%"]
[null,null,null,"Circulaire \npage 69",null,"Tâches sans lien avec prestations",null,null,"Page 10, 1014 et 1015, ong.\nHonorifique ou benevole ",null,null,null,"Circulaire page 69"]
["Employés",null,null,"Qualification\n",null,"Autres frais de personnel","Tâches concernant les locaux \net infrastructures","Direction, administration, gestion","Groupe de travail","Représentation des intérêts","Relations publiques","Total","Conseil et aide aux handicapés et aux proches\nKGA 1-2-3",null,"Aide dans les lieux d'accueil\nKGA 4",null,"Conseil en matière de construction\nKG5-6",null,"Conseil juridique\nKGA 7-8",null,"Mise en relation avec des services d'aide et d'interprètes\nKGA 9",null,"Cours en bloc pour handicapés et proches\nKGA 11",null,"Cours d'un jour pour handicapés et proches\nKGA 12",null,"Cours annuels et semestriels pour handicapés et proches\nKGA 13",null,"Prestation ayant pour objet de soutenir et de promouvoir la réadaptation des handicapés\nKGB - KGC ",null,"Accompagnement à domicile\nKGA 10",null,"Récolte de fonds",null,"Travaux specifique en relation avec la fonction de la faìtière","Total","Prestations et activités \npour le Canton",null,"Projets et prestations diverses",null,"Autres",null,"Total"]
["Nom, prénom",null,null,null,null,null,null,null,null,null,null,null,"Activité","Prépa.","Activité","Prépa.","Activité","Prépa.","Activité","Prépa.","Activité","Prépa.","Activité","Prépa.","Activité","Prépa.","Activité","Prépa.","Activité","Prépa.","Activité","Prépa.","Activité","Prépa.",null,null,"Activité","Prépa.","Activité","Prépa."]
[null,null,{"$f":"IF(A14=\"\",\"\",LEFT(A14,3) & MID(A14,SEARCH(\" \",A14)+1,3))","v":""},null,null,null,null,null,null,null,null,{"$f":"SUM(F14:K14)","v":0},null,null,null,null,null,null,null,null,null,null,null,null,null,null,null,null,null,null,null,null,null,null,null,{"$f":"SUM(M14:AI14)","v":0},null,null,null,null,null,null,{"$f":"SUM(AK14:AP14)","v":0}]
[null,null,{"$f":"IF(A15=\"\",\"\",LEFT(A15,3) & MID(A15,SEARCH(\" \",A15)+1,3))","v":""},null,null,null,null,null,null,null,null,0,null,null,null,null,null,null,null,null,null,null,null,null,null,null,null,null,null,null,null,null,null,null,null,{"$f":"SUM(M15:AI15)","v":0},null,null,null,null,null,null,{"$f":"SUM(AK15:AP15)","v":0}]
[null,null,"",null,null,null,null,null,null,null,null,0,null,null,null,null,null,null,null,null,null,null,null,null,null,null,null,null,null,null,null,null,null,null,null,0,null,null,null,null,null,null,0]
[null,null,"",null,null,null,null,null,null,null,null,0,null,null,null,null,null,null,null,null,null,null,null,null,null,null,null,null,null,null,null,null,null,null,null,0,null,null,null,null,null,null,0]
[null,null,"",null,null,null,null,null,null,null,null,0,null,null,null,null,null,null,null,null,null,null,null,null,null,null,null,null,null,null,null,null,null,null,null,0,null,null,null,null,null,null,0]
[null,null,"",null,null,null,null,null,null,null,null,0,null,null,null,null,null,null,null,null,null,null,null,null,null,null,null,null,null,null,null,null,null,null,null,0,null,null,null,null,null,null,0]
[null,null,"",null,null,null,null,null,null,null,null,0,null,null,null,null,null,null,null,null,null,null,null,null,null,null,null,null,null,null,null,null,null,null,null,0,null,null,null,null,null,null,0]
[null,null,"",null,null,null,null,null,null,null,null,0,null,null,null,null,null,null,null,null,null,null,null,null,null,null,null,null,null,null,null,null,null,null,null,0,null,null,null,null,null,null,0]
[null,null,"",null,null,null,null,null,null,null,null,0,null,null,null,null,null,null,null,null,null,null,null,null,null,null,null,null,null,null,null,null,null,null,null,{"$f":"SUM(M22:AI22)","v":0},null,null,null,null,null,null,{"$f":"SUM(AK22:AP22)","v":0}]
[null,null,"",null,null,null,null,null,null,null,null,0,null,null,null,null,null,null,null,null,null,null,null,null,null,null,null,null,null,null,null,null,null,null,null,0,null,null,null,null,null,null,0]
[null,null,"",null,null,null,null,null,null,null,null,0,null,null,null,null,null,null,null,null,null,null,null,null,null,null,null,null,null,null,null,null,null,null,null,0,null,null,null,null,null,null,0]
["Total selon onglet \"Saisie Temps partiels\"",null,null,null,null,{"$f":"'a.) Saisie Temps partiels'!E5","v":0},{"$f":"'a.) Saisie Temps partiels'!F5","v":0},{"$f":"'a.) Saisie Temps partiels'!G5","v":0},{"$f":"'a.) Saisie Temps partiels'!H5","v":0},{"$f":"'a.) Saisie Temps partiels'!I5","v":0},{"$f":"'a.) Saisie Temps partiels'!J5","v":0},0,{"$f":"'a.) Saisie Temps partiels'!L5","v":0},{"$f":"'a.) Saisie Temps partiels'!M5","v":0},{"$f":"'a.) Saisie Temps partiels'!N5","v":0},{"$f":"'a.) Saisie Temps partiels'!O5","v":0},{"$f":"'a.) Saisie Temps partiels'!P5","v":0},{"$f":"'a.) Saisie Temps partiels'!Q5","v":0},{"$f":"'a.) Saisie Temps partiels'!R5","v":0},{"$f":"'a.) Saisie Temps partiels'!S5","v":0},{"$f":"'a.) Saisie Temps partiels'!T5","v":0},{"$f":"'a.) Saisie Temps partiels'!U5","v":0},{"$f":"'a.) Saisie Temps partiels'!V5","v":0},{"$f":"'a.) Saisie Temps partiels'!W5","v":0},{"$f":"'a.) Saisie Temps partiels'!X5","v":0},{"$f":"'a.) Saisie Temps partiels'!Y5","v":0},{"$f":"'a.) Saisie Temps partiels'!Z5","v":0},{"$f":"'a.) Saisie Temps partiels'!AA5","v":0},{"$f":"'a.) Saisie Temps partiels'!AB5","v":0},{"$f":"'a.) Saisie Temps partiels'!AC5","v":0},{"$f":"'a.) Saisie Temps partiels'!AD5","v":0},{"$f":"'a.) Saisie Temps partiels'!AE5","v":0},{"$f":"'a.) Saisie Temps partiels'!AF5","v":0},{"$f":"'a.) Saisie Temps partiels'!AG5","v":0},{"$f":"'a.) Saisie Temps partiels'!AH5","v":0},{"$f":"SUM(M25:AI25)","v":0},{"$f":"'a.) Saisie Temps partiels'!AJ5","v":"00:00:00"},{"$f":"'a.) Saisie Temps partiels'!AK5","v":"00:00:00"},{"$f":"'a.) Saisie Temps partiels'!AL5","v":"00:00:00"},{"$f":"'a.) Saisie Temps partiels'!AM5","v":"00:00:00"},{"$f":"'a.) Saisie Temps partiels'!AN5","v":"00:00:00"},{"$f":"'a.) Saisie Temps partiels'!AO5","v":"00:00:00"},0]
["Total selon onglet \"Saisie Volontaires\"",null,null,null,null,{"$f":"'a.) Saisie Volontaires'!E5","v":0},{"$f":"'a.) Saisie Volontaires'!F5","v":0},{"$f":"'a.) Saisie Volontaires'!G5","v":0},{"$f":"'a.) Saisie Volontaires'!H5","v":0},{"$f":"'a.) Saisie Volontaires'!I5","v":0},{"$f":"'a.) Saisie Volontaires'!J5","v":0},0,{"$f":"'a.) Saisie Volontaires'!L5","v":0},{"$f":"'a.) Saisie Volontaires'!M5","v":0},{"$f":"'a.) Saisie Volontaires'!N5","v":0},{"$f":"'a.) Saisie Volontaires'!O5","v":0},{"$f":"'a.) Saisie Volontaires'!P5","v":0},{"$f":"'a.) Saisie Volontaires'!Q5","v":0},{"$f":"'a.) Saisie Volontaires'!R5","v":0},{"$f":"'a.) Saisie Volontaires'!S5","v":0},{"$f":"'a.) Saisie Volontaires'!T5","v":0},{"$f":"'a.) Saisie Volontaires'!U5","v":0},{"$f":"'a.) Saisie Volontaires'!V5","v":0},{"$f":"'a.) Saisie Volontaires'!W5","v":0},{"$f":"'a.) Saisie Volontaires'!X5","v":0},{"$f":"'a.) Saisie Volontaires'!Y5","v":0},{"$f":"'a.) Saisie Volontaires'!Z5","v":0},{"$f":"'a.) Saisie Volontaires'!AA5","v":0},{"$f":"'a.) Saisie Volontaires'!AB5","v":0},{"$f":"'a.) Saisie Volontaires'!AC5","v":0},{"$f":"'a.) Saisie Volontaires'!AD5","v":0},{"$f":"'a.) Saisie Volontaires'!AE5","v":0},{"$f":"'a.) Saisie Volontaires'!AF5","v":0},{"$f":"'a.) Saisie Volontaires'!AG5","v":0},{"$f":"'a.) Saisie Volontaires'!AH5","v":0},0,{"$f":"'a.) Saisie Volontaires'!AJ5","v":0},{"$f":"'a.) Saisie Volontaires'!AK5","v":0},{"$f":"'a.) Saisie Volontaires'!AL5","v":0},{"$f":"'a.) Saisie Volontaires'!AM5","v":0},{"$f":"'a.) Saisie Volontaires'!AN5","v":0},{"$f":"'a.) Saisie Volontaires'!AO5","v":0},0]
["Total selon onglet \"Saisie Stagiaires\"",null,null,null,null,{"$f":"'a.) Saisie Stagiaires'!E5","v":0},{"$f":"'a.) Saisie Stagiaires'!F5","v":0},{"$f":"'a.) Saisie Stagiaires'!G5","v":0},{"$f":"'a.) Saisie Stagiaires'!H5","v":0},{"$f":"'a.) Saisie Stagiaires'!I5","v":0},{"$f":"'a.) Saisie Stagiaires'!J5","v":0},0,{"$f":"'a.) Saisie Stagiaires'!L5","v":0},{"$f":"'a.) Saisie Stagiaires'!M5","v":0},{"$f":"'a.) Saisie Stagiaires'!N5","v":0},{"$f":"'a.) Saisie Stagiaires'!O5","v":0},{"$f":"'a.) Saisie Stagiaires'!P5","v":0},{"$f":"'a.) Saisie Stagiaires'!Q5","v":0},{"$f":"'a.) Saisie Stagiaires'!R5","v":0},{"$f":"'a.) Saisie Stagiaires'!S5","v":0},{"$f":"'a.) Saisie Stagiaires'!T5","v":0},{"$f":"'a.) Saisie Stagiaires'!U5","v":0},{"$f":"'a.) Saisie Stagiaires'!V5","v":0},{"$f":"'a.) Saisie Stagiaires'!W5","v":0},{"$f":"'a.) Saisie Stagiaires'!X5","v":0},{"$f":"'a.) Saisie Stagiaires'!Y5","v":0},{"$f":"'a.) Saisie Stagiaires'!Z5","v":0},{"$f":"'a.) Saisie Stagiaires'!AA5","v":0},{"$f":"'a.) Saisie Stagiaires'!AB5","v":0},{"$f":"'a.) Saisie Stagiaires'!AC5","v":0},{"$f":"'a.) Saisie Stagiaires'!AD5","v":0},{"$f":"'a.) Saisie Stagiaires'!AE5","v":0},{"$f":"'a.) Saisie Stagiaires'!AF5","v":0},{"$f":"'a.) Saisie Stagiaires'!AG5","v":0},{"$f":"'a.) Saisie Stagiaires'!AH5","v":0},0,{"$f":"'a.) Saisie Stagiaires'!AJ5","v":0},{"$f":"'a.) Saisie Stagiaires'!AK5","v":0},{"$f":"'a.) Saisie Stagiaires'!AL5","v":0},{"$f":"'a.) Saisie Stagiaires'!AM5","v":0},{"$f":"'a.) Saisie Stagiaires'!AN5","v":0},{"$f":"'a.) Saisie Stagiaires'!AO5","v":0},0]
["Temps total consacré salarié :",null,null,null,null,null,null,null,null,null,null,null,{"$f":"SUM(M14:M27)","v":0},0,0,0,0,0,0,0,0,0,0,0,0,0,0,0,0,0,0,0,0,0,0,null,{"$f":"SUM(AK14:AK27)","v":0},0,0,0,0,0,null,"Employés"]
[null,null,null,null,null,{"$f":"SUM(F14:F27)","v":0},0,0,0,0,0,{"$f":"SUM(F29:K29)","v":0},{"$f":"M28+N28","v":0},null,{"$f":"O28+P28","v":0},null,{"$f":"Q28+R28","v":0},null,{"$f":"S28+T28","v":0},null,{"$f":"U28+V28","v":0},null,{"$f":"W28+X28","v":0},null,{"$f":"Y28+Z28","v":0},null,{"$f":"AA28+AB28","v":0},null,{"$f":"AC28+AD28","v":0},null,{"$f":"AE28+AF28","v":0},null,{"$f":"AG28+AH28","v":0},null,{"$f":"SUM(AI14:AI27)","v":0},0,{"$f":"AK28+AL28","v":0},null,{"$f":"AM28+AN28","v":0},null,{"$f":"AO28+AP28","v":0},null,{"$f":"SUM(AK29:AP29)","v":0},{"$f":"L29+AJ29+AQ29","v":0}]
[]
["Mandat (Honoraires)",null,"Travaux réalisé sur la base d'un mandat, rétribué sous forme d'honoraires, Circulaire page 21, point 3005"]
["Total selon onglet \"Saisie travail sur honoraires\"",null,null,null,null,{"$f":"'a.) Saisie trav. sur Honoraires'!E5","v":0},{"$f":"'a.) Saisie trav. sur Honoraires'!F5","v":0},{"$f":"'a.) Saisie trav. sur Honoraires'!G5","v":0},{"$f":"'a.) Saisie trav. sur Honoraires'!H5","v":0},{"$f":"'a.) Saisie trav. sur Honoraires'!I5","v":0},{"$f":"'a.) Saisie trav. sur Honoraires'!J5","v":0},{"$f":"SUM(F32:K32)","v":0},{"$f":"'a.) Saisie trav. sur Honoraires'!L5","v":0},{"$f":"'a.) Saisie trav. sur Honoraires'!M5","v":0},{"$f":"'a.) Saisie trav. sur Honoraires'!N5","v":0},{"$f":"'a.) Saisie trav. sur Honoraires'!O5","v":0},{"$f":"'a.) Saisie trav. sur Honoraires'!P5","v":0},{"$f":"'a.) Saisie trav. sur Honoraires'!Q5","v":0},{"$f":"'a.) Saisie trav. sur Honoraires'!R5","v":0},{"$f":"'a.) Saisie trav. sur Honoraires'!S5","v":0},{"$f":"'a.) Saisie trav. sur Honoraires'!T5","v":0},{"$f":"'a.) Saisie trav. sur Honoraires'!U5","v":0},{"$f":"'a.) Saisie trav. sur Honoraires'!V5","v":0},{"$f":"'a.) Saisie trav. sur Honoraires'!W5","v":0},{"$f":"'a.) Saisie trav. sur Honoraires'!X5","v":0},{"$f":"'a.) Saisie trav. sur Honoraires'!Y5","v":0},{"$f":"'a.) Saisie trav. sur Honoraires'!Z5","v":0},{"$f":"'a.) Saisie trav. sur Honoraires'!AA5","v":0},{"$f":"'a.) Saisie trav. sur Honoraires'!AB5","v":0},{"$f":"'a.) Saisie trav. sur Honoraires'!AC5","v":0},{"$f":"'a.) Saisie trav. sur Honoraires'!AD5","v":0},{"$f":"'a.) Saisie trav. sur Honoraires'!AE5","v":0},{"$f":"'a.) Saisie trav. sur Honoraires'!AF5","v":0},{"$f":"'a.) Saisie trav. sur Honoraires'!AG5","v":0},{"$f":"'a.) Saisie trav. sur Honoraires'!AH5","v":0},{"$f":"SUM(M32:AI32)","v":0},{"$f":"'a.) Saisie trav. sur Honoraires'!AJ5","v":0},{"$f":"'a.) Saisie trav. sur Honoraires'!AK5","v":0},{"$f":"'a.) Saisie trav. sur Honoraires'!AL5","v":0},{"$f":"'a.) Saisie trav. sur Honoraires'!AM5","v":0},{"$f":"'a.) Saisie trav. sur Honoraires'!AN5","v":0},{"$f":"'a.) Saisie trav. sur Honoraires'!AO5","v":0},{"$f":"SUM(AK32:AP32)","v":0}]
[]
["Temps total consacré sous forme d'honoraires :",null,null,null,null,null,null,null,null,null,null,null,{"$f":"M32","v":0},{"$f":"N32","v":0},0,0,0,0,0,0,0,0,0,0,0,0,0,0,0,0,0,0,0,0,null,{"$f":"SUM(M34:AI34)","v":0},{"$f":"SUM(AK23:AK33)","v":0},0,0,0,0,0,null,"Mandats"]
[null,null,null,null,null,{"$f":"F32","v":0},0,0,0,0,0,{"$f":"SUM(F35:K35)","v":0},{"$f":"M34+N34","v":0},{"$f":"N23+N29+N32","v":0},{"$f":"O34+P34","v":0},{"$f":"P23+P29+P32","v":0},{"$f":"Q34+R34","v":0},{"$f":"R23+R29+R32","v":0},{"$f":"S34+T34","v":0},{"$f":"T23+T29+T32","v":0},{"$f":"U34+V34","v":0},{"$f":"V23+V29+V32","v":0},{"$f":"W34+X34","v":0},{"$f":"X23+X29+X32","v":0},{"$f":"Y34+Z34","v":0},{"$f":"Z23+Z29+Z32","v":0},{"$f":"AA34+AB34","v":0},{"$f":"AB23+AB29+AB32","v":0},{"$f":"AC34+AD34","v":0},{"$f":"AD23+AD29+AD32","v":0},{"$f":"AE34+AF34","v":0},{"$f":"AF23+AF29+AF32","v":0},{"$f":"AG34+AH34","v":0},{"$f":"AH23+AH29+AH32","v":0},{"$f":"AI32","v":0},{"$f":"AJ34+AI35","v":0},{"$f":"AK23+AK29+AK32","v":0},0,0,0,0,0,{"$f":"SUM(AK35:AP35)","v":0},{"$f":"L35+AJ35+AQ35","v":0}]
[]
["Travail honorifique",null,"Définition selon circulaire, page 10 chap. 1.9 et page 21, point 3005",null,null,null,null,null,null,null,null,null,null,null,null,null,null,null,null,null,null,null,null,null,null,null,null,null,null,null,null,null,null,null,null,null,null,null,null,null,null,null,null,"Honorifique"]
["Total selon onglet \"Saisie Benévole-Honorifique\"",null,null,null,null,{"$f":"'a.) Saisie Benevole-Honorifique'!E5","v":0},{"$f":"'a.) Saisie Benevole-Honorifique'!F5","v":0},{"$f":"'a.) Saisie Benevole-Honorifique'!G5","v":0},{"$f":"'a.) Saisie Benevole-Honorifique'!H5","v":0},null,null,{"$f":"SUM(F38:K38)","v":0},null,null,null,null,null,null,null,null,null,null,null,null,null,null,null,null,null,null,null,null,null,null,{"$f":"'a.) Saisie trav. sur Honoraires'!AH5","v":0},{"$f":"SUM(M38:AI38)","v":0},null,null,null,null,null,null,{"$f":"SUM(AK38:AP38)","v":0},{"$f":"L38+AJ38+AQ38","v":0}]
[]
["Bénévolat",null,"Définition selon circulaire, page 10 chap. 1.10 et page 21, point 3005",null,null,null,null,null,null,null,null,null,null,null,null,null,null,null,null,null,null,null,null,null,null,null,null,null,null,null,null,null,null,null,null,null,null,null,null,null,null,null,null,"Bénévolat"]
["Total selon onglet \"Saisie Benévole-Honorifique\"",null,null,null,null,null,null,null,null,{"$f":"'a.) Saisie Benevole-Honorifique'!I5","v":0},{"$f":"'a.) Saisie Benevole-Honorifique'!J5","v":0},{"$f":"SUM(F41:K41)","v":0},{"$f":"'a.) Saisie Benevole-Honorifique'!L5","v":0},{"$f":"'a.) Saisie Benevole-Honorifique'!M5","v":0},{"$f":"'a.) Saisie Benevole-Honorifique'!N5","v":0},{"$f":"'a.) Saisie Benevole-Honorifique'!O5","v":0},{"$f":"'a.) Saisie Benevole-Honorifique'!P5","v":0},{"$f":"'a.) Saisie Benevole-Honorifique'!Q5","v":0},{"$f":"'a.) Saisie Benevole-Honorifique'!R5","v":0},{"$f":"'a.) Saisie Benevole-Honorifique'!S5","v":0},{"$f":"'a.) Saisie Benevole-Honorifique'!T5","v":0},{"$f":"'a.) Saisie Benevole-Honorifique'!U5","v":0},{"$f":"'a.) Saisie Benevole-Honorifique'!V5","v":0},{"$f":"'a.) Saisie Benevole-Honorifique'!W5","v":0},{"$f":"'a.) Saisie Benevole-Honorifique'!X5","v":0},{"$f":"'a.) Saisie Benevole-Honorifique'!Y5","v":0},{"$f":"'a.) Saisie Benevole-Honorifique'!Z5","v":0},{"$f":"'a.) Saisie Benevole-Honorifique'!AA5","v":0},{"$f":"'a.) Saisie Benevole-Honorifique'!AB5","v":0},{"$f":"'a.) Saisie Benevole-Honorifique'!AC5","v":0},{"$f":"'a.) Saisie Benevole-Honorifique'!AD5","v":0},{"$f":"'a.) Saisie Benevole-Honorifique'!AE5","v":0},{"$f":"'a.) Saisie Benevole-Honorifique'!AF5","v":0},{"$f":"'a.) Saisie Benevole-Honorifique'!AG5","v":0},null,{"$f":"SUM(M41:AI41)","v":0},{"$f":"'a.) Saisie Benevole-Honorifique'!AJ5","v":0},{"$f":"'a.) Saisie Benevole-Honorifique'!AK5","v":0},{"$f":"'a.) Saisie Benevole-Honorifique'!AL5","v":0},{"$f":"'a.) Saisie Benevole-Honorifique'!AM5","v":0},{"$f":"'a.) Saisie Benevole-Honorifique'!AN5","v":0},{"$f":"'a.) Saisie Benevole-Honorifique'!AO5","v":0},{"$f":"SUM(AK41:AP41)","v":0},{"$f":"L41+AJ41+AQ41","v":0}]
[]
["Temps total Bénévole consacré :",null,null,null,null,null,null,null,null,null,null,null,{"$f":"M38+M41","v":0},{"$f":"N38+N41","v":0},0,0,0,0,0,0,0,0,0,0,0,0,0,0,0,0,0,0,0,0,null,{"$f":"SUM(AJ32:AJ42)","v":0},{"$f":"AK38+AK41","v":0},0,0,0,0,0,null,"Hors emploi"]
[null,null,null,null,null,{"$f":"F38+F41","v":0},0,0,0,0,0,{"$f":"SUM(F44:K44)","v":0},{"$f":"M43+N43","v":0},{"$f":"N32+N38+N41","v":0},{"$f":"O43+P43","v":0},0,{"$f":"Q43+R43","v":0},0,{"$f":"S43+T43","v":0},0,{"$f":"U43+V43","v":0},0,{"$f":"W43+X43","v":0},0,{"$f":"Y43+Z43","v":0},0,{"$f":"AA43+AB43","v":0},0,{"$f":"AC43+AD43","v":0},0,{"$f":"AE43+AF43","v":0},0,{"$f":"AG43+AH43","v":0},0,{"$f":"AI38+AI41","v":0},0,{"$f":"AK43+AL43","v":0},0,{"$f":"AM43+AN43","v":0},0,{"$f":"AO43+AP43","v":0},0,0,{"$f":"L44+AJ44+AQ44","v":0}]
[]
["Cumulé, employés, honoraires et bénévoles :",null,null,null,null,{"$f":"F29+F35+F44","v":0},{"$f":"G29+G35+G44","v":0},0,0,0,0,0,0,0,0,0,0,0,0,0,0,0,0,0,0,0,0,0,0,0,0,0,0,0,0,0,0,0,0,0,0,0,0,{"$f":"AR29+AR44","v":0}]

{"sheet":"a.) Saisie Temps partiels","index":2,"n_rows":42,"n_cols":43,"rows_kept":42,"cut":false,"hidden":false,"merged":[[10,4,10,5],[0,0,2,0],[0,8,1,11],[0,12,1,16],[0,18,1,19],[7,0,7,41],[8,2,12,2],[11,4,12,4],[11,5,12,5],[11,6,12,6],[11,7,12,7],[11,8,12,8],[11,9,12,9],[11,33,12,33],[11,3,12,3],[0,20,1,21],[6,17,6,23],[6,41,6,46],[6,47,6,48],[0,22,1,23],[0,24,1,27],[1,42,1,49],[11,41,12,41],[11,29,11,30],[40,0,41,3],[41,11,41,12],[41,13,41,14],[41,15,41,16],[41,17,41,18],[11,19,11,20],[11,21,11,22],[11,23,11,24],[11,25,11,26],[11,27,11,28],[11,10,12,10],[11,11,11,12],[11,13,11,14],[11,15,11,16],[10,7,10,9],[41,31,41,32],[41,35,41,36],[41,37,41,38],[41,39,41,40],[41,19,41,20],[41,21,41,22],[41,23,41,24],[41,25,41,26],[41,27,41,28],[41,29,41,30],[11,34,12,34],[11,35,11,36],[11,37,11,38],[11,39,11,40],[11,17,11,18]]}
[null,"Vereinigung Cerebral Schweiz",null,null,null,null,null,null,"Association régionale :",null,null,null,{"$f":"'a.) Employé+résumé'!L1","v":0},null,null,null,null,null,"OFAS n°",null,{"$f":"'a.) Employé+résumé'!U1:V2","v":0},null,"Editeur/trice :",null,{"$f":"'a.) Employé+résumé'!Y1:AB2","v":0},null,null,null,"Mail :",{"$f":"'a.) Employé+résumé'!AD1","v":0}]
[null,"Association Cerebral Suisse",null,null,null,null,null,null,null,null,null,null,null,null,null,null,null,null,null,null,null,null,null,null,null,null,null,null,"Tel. :",{"$f":"'a.) Employé+résumé'!AD2:AE2","v":0}]
[null,"Associazione Cerebral Svizzera"]
[null,null,{"$f":"IF(A4=\"\",\"\",LEFT(A4,3) & MID(A4,SEARCH(\" \",A4)+1,3))","v":""},null,null,null,null,null,null,null,{"$f":"SUM(E4:J4)","v":0},null,null,null,null,null,null,null,null,null,null,null,null,null,null,null,null,null,null,null,null,null,null,null,{"$f":"SUM(L4:AH4)","v":0},null,null,null,null,null,null,{"$f":"SUM(AJ4:AO4)","v":0}]
[null,null,null,null,{"$f":"SUM(E14:E40)","v":0},{"$f":"SUM(F14:F40)","v":0},0,0,0,0,0,0,0,0,0,0,0,0,0,0,0,0,0,0,0,0,0,0,0,0,0,0,0,0,0,0,0,0,0,0,0,0]
[]
["Répartition des temps de travail employés temps partiels, intervenants",null,null,null,null,null,null,null,null,null,null,null,null,null,null,"Année :",null,2015]
["Par employé temps partiels, nous entendons les employés travaillant occasionellement pour l'organisation, pour un salaire déclaré (charges sociales) / Circulaire page 40, chap. 9.1  /"]
[null,null,"Code",null,"Coûts indirects",null,null,null,null,null,null,"Prestation et activités Art. 74",null,null,null,null,null,null,null,null,null,null,null,null,null,null,null,null,null,null,null,null,null,null,null,"Prestations et activités hors Art. 74",null,null,null,null,null,null,"Consolidé"]
[null,null,null,null,"Temps de travail consacrés",null,null,null,null,null,null,"Temps de travail consacrés",null,null,null,null,null,null,null,null,null,null,null,null,null,null,null,null,null,null,null,null,null,null,null,"Temps de travail consacrés",null,null,null,null,null,null,"valeur 100%"]
[null,null,null,"Circulaire \npage 69","Tâches sans lien avec prestations",null,null,"Page 10, 1014 et 1015, ong.\nHonorifique ou benevole "]
["\n\n\n\n\n\n\nPersonne Volontaires",null,null,"Qualification\n","Autres frais de personnel","Tâches concernant les locaux \net infrastructures","Direction, administration, gestion","Groupe de travail","Représentation des intérêts","Relations publiques","Total","Conseil et aide aux handicapés et aux proches\nKGA 1-2-3",null,"Aide dans les lieux d'accueil\nKGA 4",null,"Conseil en matière de construction\nKG5-6",null,"Conseil juridique\nKGA 7-8",null,"Mise en relation avec des services d'aide et d'interprètes\nKGA 9",null,"Cours en bloc pour handicapés et proches\nKGA 11",null,"Cours d'un jour pour handicapés et proches\nKGA 12",null,"Cours annuels et semestriels pour handicapés et proches\nKGA 13",null,"Prestation ayant pour objet de soutenir et de promouvoir la réadaptation des handicapés\nKGB - KGC",null,"Accompagnement à domicile\nKGA 10",null,"Récolte de fonds",null,"Travaux specifique en relation avec la fonction de la faìtière","Total","Prestations et activités \npour le Canton",null,"Projets et prestations diverses",null,"Autres : ",null,"Total"]
["Prénom, NOM",null,null,null,null,null,null,null,null,null,null,"Activité","Prépa.","Activité","Prépa.","Activité","Prépa.","Activité","Prépa.","Activité","Prépa.","Activité","Prépa.","Activité","Prépa.","Activité","Prépa.","Activité","Prépa.","Activité","Prépa.","Activité","Prépa.",null,null,"Activité","Prépa.","Activité","Prépa.","Activité","Prépa."]
["Selon liste ou fichier specifique interne",null,null,null,null,null,null,null,null,null,{"$f":"SUM(E14:J14)","v":0},null,null,null,null,null,null,null,null,null,null,null,null,null,null,null,null,null,null,null,null,null,null,null,{"$f":"SUM(L14:AH14)","v":0},null,null,null,null,null,null,{"$f":"SUM(AJ14:AO14)","v":0}]
[null,null,{"$f":"IF(A15=\"\",\"\",LEFT(A15,3) & MID(A15,SEARCH(\" \",A15)+1,3))","v":""},null,null,null,null,null,null,null,{"$f":"SUM(E15:J15)","v":0},null,null,null,null,null,null,null,null,null,null,null,null,null,null,null,null,null,null,null,null,null,null,null,{"$f":"SUM(L15:AH15)","v":0},null,null,null,null,null,null,{"$f":"SUM(AJ15:AO15)","v":0}]
[null,null,{"$f":"IF(A16=\"\",\"\",LEFT(A16,3) & MID(A16,SEARCH(\" \",A16)+1,3))","v":""},null,null,null,null,null,null,null,{"$f":"SUM(E16:J16)","v":0},null,null,null,null,null,null,null,null,null,null,null,null,null,null,null,null,null,null,null,null,null,null,null,{"$f":"SUM(L16:AH16)","v":0},null,null,null,null,null,null,{"$f":"SUM(AJ16:AO16)","v":0}]
[null,null,"",null,null,null,null,null,null,null,{"$f":"SUM(E17:J17)","v":0},null,null,null,null,null,null,null,null,null,null,null,null,null,null,null,null,null,null,null,null,null,null,null,{"$f":"SUM(L17:AH17)","v":0},null,null,null,null,null,null,{"$f":"SUM(AJ17:AO17)","v":0}]
[null,null,"",null,null,null,null,null,null,null,0,null,null,null,null,null,null,null,null,null,null,null,null,null,null,null,null,null,null,null,null,null,null,null,0,null,null,null,null,null,null,0]
[null,null,"",null,null,null,null,null,null,null,0,null,null,null,null,null,null,null,null,null,null,null,null,null,null,null,null,null,null,null,null,null,null,null,0,null,null,null,null,null,null,0]
[null,null,"",null,null,null,null,null,null,null,0,null,null,null,null,null,null,null,null,null,null,null,null,null,null,null,null,null,null,null,null,null,null,null,0,null,null,null,null,null,null,0]
[null,null,"",null,null,null,null,null,null,null,0,null,null,null,null,null,null,null,null,null,null,null,null,null,null,null,null,null,null,null,null,null,null,null,0,null,null,null,null,null,null,0]
[null,null,"",null,null,null,null,null,null,null,0,null,null,null,null,null,null,null,null,null,null,null,null,null,null,null,null,null,null,null,null,null,null,null,0,null,null,null,null,null,null,0]
[null,null,"",null,null,null,null,null,null,null,0,null,null,null,null,null,null,null,null,null,null,null,null,null,null,null,null,null,null,null,null,null,null,null,0,null,null,null,null,null,null,0]
[null,null,"",null,null,null,null,null,null,null,0,null,null,null,null,null,null,null,null,null,null,null,null,null,null,null,null,null,null,null,null,null,null,null,0,null,null,null,null,null,null,0]
[null,null,"",null,null,null,null,null,null,null,0,null,null,null,null,null,null,null,null,null,null,null,null,null,null,null,null,null,null,null,null,null,null,null,0,null,null,null,null,null,null,0]
[null,null,"",null,null,null,null,null,null,null,0,null,null,null,null,null,null,null,null,null,null,null,null,null,null,null,null,null,null,null,null,null,null,null,0,null,null,null,null,null,null,0]
[null,null,"",null,null,null,null,null,null,null,0,null,null,null,null,null,null,null,null,null,null,null,null,null,null,null,null,null,null,null,null,null,null,null,0,null,null,null,null,null,null,0]
[null,null,"",null,null,null,null,null,null,null,0,null,null,null,null,null,null,null,null,null,null,null,null,null,null,null,null,null,null,null,null,null,null,null,0,null,null,null,null,null,null,0]
[null,null,"",null,null,null,null,null,null,null,0,null,null,null,null,null,null,null,null,null,null,null,null,null,null,null,null,null,null,null,null,null,null,null,0,null,null,null,null,null,null,0]
[null,null,"",null,null,null,null,null,null,null,0,null,null,null,null,null,null,null,null,null,null,null,null,null,null,null,null,null,null,null,null,null,null,null,0,null,null,null,null,null,null,0]
[null,null,"",null,null,null,null,null,null,null,0,null,null,null,null,null,null,null,null,null,null,null,null,null,null,null,null,null,null,null,null,null,null,null,0,null,null,null,null,null,null,0]
[null,null,"",null,null,null,null,null,null,null,0,null,null,null,null,null,null,null,null,null,null,null,null,null,null,null,null,null,null,null,null,null,null,null,0,null,null,null,null,null,null,0]
[null,null,"",null,null,null,null,null,null,null,0,null,null,null,null,null,null,null,null,null,null,null,null,null,null,null,null,null,null,null,null,null,null,null,0,null,null,null,null,null,null,0]
[null,null,"",null,null,null,null,null,null,null,0,null,null,null,null,null,null,null,null,null,null,null,null,null,null,null,null,null,null,null,null,null,null,null,0,null,null,null,null,null,null,0]
[null,null,"",null,null,null,null,null,null,null,0,null,null,null,null,null,null,null,null,null,null,null,null,null,null,null,null,null,null,null,null,null,null,null,0,null,null,null,null,null,null,0]
[null,null,"",null,null,null,null,null,null,null,0,null,null,null,null,null,null,null,null,null,null,null,null,null,null,null,null,null,null,null,null,null,null,null,0,null,null,null,null,null,null,0]
[null,null,"",null,null,null,null,null,null,null,0,null,null,null,null,null,null,null,null,null,null,null,null,null,null,null,null,null,null,null,null,null,null,null,0,null,null,null,null,null,null,0]
[null,null,"",null,null,null,null,null,null,null,{"$f":"SUM(E38:J38)","v":0},null,null,null,null,null,null,null,null,null,null,null,null,null,null,null,null,null,null,null,null,null,null,null,0,null,null,null,null,null,null,0]
[null,null,"",null,null,null,null,null,null,null,{"$f":"SUM(E39:J39)","v":0},null,null,null,null,null,null,null,null,null,null,null,null,null,null,null,null,null,null,null,null,null,null,null,{"$f":"SUM(L39:AH39)","v":0},null,null,null,null,null,null,0]
[null,null,"",null,null,null,null,null,null,null,{"$f":"SUM(E40:J40)","v":0},null,null,null,null,null,null,null,null,null,null,null,null,null,null,null,null,null,null,null,null,null,null,null,{"$f":"SUM(L40:AH40)","v":0},null,null,null,null,null,null,0]
["Temps total consacré :",null,null,null,null,null,null,null,null,null,null,{"$f":"SUM(L14:L40)","v":0},0,0,0,0,0,0,0,0,0,0,0,0,0,0,0,0,0,0,0,0,0,0,null,{"$f":"SUM(AJ14:AJ40)","v":0},0,0,0,0,0,null,"Employés"]
[null,null,null,null,{"$f":"SUM(E14:E40)","v":0},0,0,0,0,0,0,{"$f":"L41+M41","v":0},null,{"$f":"N41+O41","v":0},null,{"$f":"P41+Q41","v":0},null,{"$f":"R41+S41","v":0},null,{"$f":"T41+U41","v":0},null,{"$f":"V41+W41","v":0},null,{"$f":"X41+Y41","v":0},null,{"$f":"Z41+AA41","v":0},null,{"$f":"AB41+AC41","v":0},null,{"$f":"AD41+AE41","v":0},null,{"$f":"AF41+AG41","v":0},null,{"$f":"SUM(AH38:AH38)","v":0},{"$f":"SUM(AI38:AI40)","v":0},{"$f":"AJ41+AK41","v":0},null,{"$f":"AL41+AM41","v":0},null,{"$f":"AN41+AO41","v":0},null,{"$f":"SUM(AP14:AP40)","v":0},{"$f":"K42+AI42+AP42","v":0}]

{"sheet":"a.) Saisie Volontaires","index":3,"n_rows":21,"n_cols":43,"rows_kept":21,"cut":false,"hidden":false,"merged":[[11,3,12,3],[10,4,10,5],[0,0,2,0],[0,8,1,11],[0,12,1,16],[11,15,11,16],[0,18,1,19],[7,0,7,41],[8,2,12,2],[11,4,12,4],[11,35,11,36],[11,41,12,41],[6,17,6,23],[6,41,6,46],[11,5,12,5],[11,37,11,38],[11,39,11,40],[10,7,10,9],[11,33,12,33],[11,34,12,34],[11,21,11,22],[11,13,11,14],[20,37,20,38],[20,39,20,40],[20,21,20,22],[20,23,20,24],[20,25,20,26],[20,27,20,28],[20,29,20,30],[20,31,20,32],[20,35,20,36],[11,17,11,18],[11,19,11,20],[11,7,12,7],[11,8,12,8],[11,9,12,9],[11,10,12,10],[11,11,11,12],[6,47,6,48],[0,22,1,23],[0,24,1,27],[1,42,1,49],[19,0,20,3],[20,11,20,12],[20,13,20,14],[20,15,20,16],[20,17,20,18],[11,29,11,30],[20,19,20,20],[11,23,11,24],[11,25,11,26],[11,27,11,28],[11,6,12,6],[0,20,1,21]]}
[null,"Vereinigung Cerebral Schweiz",null,null,null,null,null,null,"Association régionale :",null,null,null,{"$f":"'a.) Employé+résumé'!L1","v":0},null,null,null,null,null,"OFAS n°",null,{"$f":"'a.) Employé+résumé'!U1:V2","v":0},null,"Editeur/trice :",null,{"$f":"'a.) Employé+résumé'!Y1:AB2","v":0},null,null,null,"Mail :",{"$f":"'a.) Employé+résumé'!AD1","v":0}]
[null,"Association Cerebral Suisse",null,null,null,null,null,null,null,null,null,null,null,null,null,null,null,null,null,null,null,null,null,null,null,null,null,null,"Tel. :",{"$f":"'a.) Employé+résumé'!AD2:AE2","v":0}]
[null,"Associazione Cerebral Svizzera"]
[null,null,{"$f":"IF(A4=\"\",\"\",LEFT(A4,3) & MID(A4,SEARCH(\" \",A4)+1,3))","v":""},null,null,null,null,null,null,null,{"$f":"SUM(E4:J4)","v":0},null,null,null,null,null,null,null,null,null,null,null,null,null,null,null,null,null,null,null,null,null,null,null,{"$f":"SUM(L4:AH4)","v":0},null,null,null,null,null,null,{"$f":"SUM(AJ4:AO4)","v":0}]
[null,null,null,null,{"$f":"SUM(E14:E19)","v":0},{"$f":"SUM(F14:F19)","v":0},0,0,0,0,0,0,0,0,0,0,0,0,0,0,0,0,0,0,0,0,0,0,0,0,0,0,0,0,0,0,0,0,0,0,0,0]
[]
["Répartition des temps de travail Volontaires",null,null,null,null,null,null,null,null,null,null,null,null,null,null,"Année :",null,2015]
["Par travail volontaire on entend le travail effectué et déclaré (Charges sociales) contre un défraiement / Circulaire page 40, chap. 9.1  / La notion de volontariat n'existe pas pour l'OFAS, elle se situe entre l'employé (condition conforme au marché) et le bénévolat"]
[null,null,"Code",null,"Coûts indirects",null,null,null,null,null,null,"Prestation et activités Art. 74",null,null,null,null,null,null,null,null,null,null,null,null,null,null,null,null,null,null,null,null,null,null,null,"Prestations et activités hors Art. 74",null,null,null,null,null,null,"Consolidé"]
[null,null,null,null,"Temps de travail consacrés",null,null,null,null,null,null,"Temps de travail consacrés",null,null,null,null,null,null,null,null,null,null,null,null,null,null,null,null,null,null,null,null,null,null,null,"Temps de travail consacrés",null,null,null,null,null,null,"valeur 100%"]
[null,null,null,"Circulaire \npage 69","Tâches sans lien avec prestations",null,null,"Page 10, 1014 et 1015, ong.\nHonorifique ou benevole "]
["\n\n\n\n\n\n\nPersonne Volontaires",null,null,"Qualification\n","Autres frais de personnel","Tâches concernant les locaux \net infrastructures","Direction, administration, gestion","Groupe de travail","Représentation des intérêts","Relations publiques","Total","Conseil et aide aux handicapés et aux proches\nKGA 1-2-3",null,"Aide dans les lieux d'accueil\nKGA 4",null,"Conseil en matière de construction\nKG5-6",null,"Conseil juridique\nKGA 7-8",null,"Mise en relation avec des services d'aide et d'interprètes\nKGA 9",null,"Cours en bloc pour handicapés et proches\nKGA 11",null,"Cours d'un jour pour handicapés et proches\nKGA 12",null,"Cours annuels et semestriels pour handicapés et proches\nKGA 13",null,"Prestation ayant pour objet de soutenir et de promouvoir la réadaptation des handicapés\nKGB - KGC",null,"Accompagnement à domicile\nKGA 10",null,"Récolte de fonds",null,"Travaux specifique en relation avec la fonction de la faìtière","Total","Prestations et activités \npour le Canton",null,"Projets et prestations diverses",null,"Autres : ",null,"Total"]
["Nom, prénom",null,null,null,null,null,null,null,null,null,null,"Activité","Prépa.","Activité","Prépa.","Activité","Prépa.","Activité","Prépa.","Activité","Prépa.","Activité","Prépa.","Activité","Prépa.","Activité","Prépa.","Activité","Prépa.","Activité","Prépa.","Activité","Prépa.",null,null,"Activité","Prépa.","Activité","Prépa.","Activité","Prépa."]
["Selon liste ou fichier specifique interne",null,null,null,null,null,null,null,null,null,{"$f":"SUM(E14:J14)","v":0},null,null,null,null,null,null,null,null,null,null,null,null,null,null,null,null,null,null,null,null,null,null,null,{"$f":"SUM(L14:AH14)","v":0},null,null,null,null,null,null,{"$f":"SUM(AJ14:AO14)","v":0}]
[null,null,{"$f":"IF(A15=\"\",\"\",LEFT(A15,3) & MID(A15,SEARCH(\" \",A15)+1,3))","v":""},null,null,null,null,null,null,null,{"$f":"SUM(E15:J15)","v":0},null,null,null,null,null,null,null,null,null,null,null,null,null,null,null,null,null,null,null,null,null,null,null,{"$f":"SUM(L15:AH15)","v":0},null,null,null,null,null,null,{"$f":"SUM(AJ15:AO15)","v":0}]
[null,null,{"$f":"IF(A16=\"\",\"\",LEFT(A16,3) & MID(A16,SEARCH(\" \",A16)+1,3))","v":""},null,null,null,null,null,null,null,{"$f":"SUM(E16:J16)","v":0},null,null,null,null,null,null,null,null,null,null,null,null,null,null,null,null,null,null,null,null,null,null,null,{"$f":"SUM(L16:AH16)","v":0},null,null,null,null,null,null,{"$f":"SUM(AJ16:AO16)","v":0}]
[null,null,{"$f":"IF(A17=\"\",\"\",LEFT(A17,3) & MID(A17,SEARCH(\" \",A17)+1,3))","v":""},null,null,null,null,null,null,null,{"$f":"SUM(E17:J17)","v":0},null,null,null,null,null,null,null,null,null,null,null,null,null,null,null,null,null,null,null,null,null,null,null,{"$f":"SUM(L17:AH17)","v":0},null,null,null,null,null,null,{"$f":"SUM(AJ17:AO17)","v":0}]
[null,null,{"$f":"IF(A18=\"\",\"\",LEFT(A18,3) & MID(A18,SEARCH(\" \",A18)+1,3))","v":""},null,null,null,null,null,null,null,{"$f":"SUM(E18:J18)","v":0},null,null,null,null,null,null,null,null,null,null,null,null,null,null,null,null,null,null,null,null,null,null,null,{"$f":"SUM(L18:AH18)","v":0},null,null,null,null,null,null,0]
[null,null,"",null,null,null,null,null,null,null,0,null,null,null,null,null,null,null,null,null,null,null,null,null,null,null,null,null,null,null,null,null,null,null,0,null,null,null,null,null,null,0]
["Temps total consacré :",null,null,null,null,null,null,null,null,null,null,{"$f":"SUM(L14:L14)","v":0},0,0,0,0,0,0,0,0,0,0,0,0,0,0,0,0,0,0,0,0,0,0,null,{"$f":"SUM(AJ14:AJ14)","v":0},0,0,0,0,0,null,"Employés"]
[null,null,null,null,{"$f":"SUM(E14:E14)","v":0},0,0,0,0,0,0,{"$f":"L20+M20","v":0},null,{"$f":"N20+O20","v":0},null,{"$f":"P20+Q20","v":0},null,{"$f":"R20+S20","v":0},null,{"$f":"T20+U20","v":0},null,{"$f":"V20+W20","v":0},null,{"$f":"X20+Y20","v":0},null,{"$f":"Z20+AA20","v":0},null,{"$f":"AB20+AC20","v":0},null,{"$f":"AD20+AE20","v":0},null,{"$f":"AF20+AG20","v":0},null,{"$f":"SUM(#REF!)","v":{"$error":"#REF!"}},{"$f":"SUM(AI14:AI14)","v":0},{"$f":"AJ20+AK20","v":0},null,{"$f":"AL20+AM20","v":0},null,{"$f":"AN20+AO20","v":0},null,{"$f":"SUM(#REF!)","v":{"$error":"#REF!"}},{"$f":"K21+AI21+AP21","v":{"$error":"#REF!"}}]

{"sheet":"a.) Saisie Stagiaires","index":4,"n_rows":31,"n_cols":43,"rows_kept":31,"cut":false,"hidden":false,"merged":[[11,3,12,3],[10,4,10,5],[0,0,2,0],[0,8,1,11],[0,12,1,16],[11,15,11,16],[0,18,1,19],[7,0,7,41],[8,2,12,2],[11,4,12,4],[11,35,11,36],[11,41,12,41],[6,17,6,23],[6,41,6,46],[11,5,12,5],[11,37,11,38],[11,39,11,40],[10,7,10,9],[11,33,12,33],[11,34,12,34],[11,21,11,22],[11,13,11,14],[30,37,30,38],[30,39,30,40],[30,21,30,22],[30,23,30,24],[30,25,30,26],[30,27,30,28],[30,29,30,30],[30,31,30,32],[30,35,30,36],[11,17,11,18],[11,19,11,20],[11,7,12,7],[11,8,12,8],[11,9,12,9],[11,10,12,10],[11,11,11,12],[6,47,6,48],[0,22,1,23],[0,24,1,27],[1,42,1,49],[29,0,30,3],[30,11,30,12],[30,13,30,14],[30,15,30,16],[30,17,30,18],[11,29,11,30],[30,19,30,20],[11,23,11,24],[11,25,11,26],[11,27,11,28],[11,6,12,6],[0,20,1,21]]}
[null,"Vereinigung Cerebral Schweiz",null,null,null,null,null,null,"Association régionale :",null,null,null,{"$f":"'a.) Employé+résumé'!L1","v":0},null,null,null,null,null,"OFAS n°",null,{"$f":"'a.) Employé+résumé'!U1:V2","v":0},null,"Editeur/trice :",null,{"$f":"'a.) Employé+résumé'!Y1:AB2","v":0},null,null,null,"Mail :",{"$f":"'a.) Employé+résumé'!AD1","v":0}]
[null,"Association Cerebral Suisse",null,null,null,null,null,null,null,null,null,null,null,null,null,null,null,null,null,null,null,null,null,null,null,null,null,null,"Tel. :",{"$f":"'a.) Employé+résumé'!AD2:AE2","v":0}]
[null,"Associazione Cerebral Svizzera"]
[null,null,{"$f":"IF(A4=\"\",\"\",LEFT(A4,3) & MID(A4,SEARCH(\" \",A4)+1,3))","v":""},null,null,null,null,null,null,null,{"$f":"SUM(E4:J4)","v":0},null,null,null,null,null,null,null,null,null,null,null,null,null,null,null,null,null,null,null,null,null,null,null,{"$f":"SUM(L4:AH4)","v":0},null,null,null,null,null,null,{"$f":"SUM(AJ4:AO4)","v":0}]
[null,null,null,null,{"$f":"SUM(E14:E29)","v":0},{"$f":"SUM(F14:F29)","v":0},0,0,0,0,0,0,0,0,0,0,0,0,0,0,0,0,0,0,0,0,0,0,0,0,0,0,0,0,0,0,0,0,0,0,0,0]
[]
["Répartition des temps de travail Stagiaires / Apprentis",null,null,null,null,null,null,null,null,null,null,null,null,null,null,"Année :",null,2015]
["Par Stagiaire, nous entendons toutes persones salariée en cours de formation / Circulaire page 40, chap. 9.1  /"]
[null,null,"Code",null,"Coûts indirects",null,null,null,null,null,null,"Prestation et activités Art. 74",null,null,null,null,null,null,null,null,null,null,null,null,null,null,null,null,null,null,null,null,null,null,null,"Prestations et activités hors Art. 74",null,null,null,null,null,null,"Consolidé"]
[null,null,null,null,"Temps de travail consacrés",null,null,null,null,null,null,"Temps de travail consacrés",null,null,null,null,null,null,null,null,null,null,null,null,null,null,null,null,null,null,null,null,null,null,null,"Temps de travail consacrés",null,null,null,null,null,null,"valeur 100%"]
[null,null,null,"Circulaire \npage 69","Tâches sans lien avec prestations",null,null,"Page 10, 1014 et 1015, ong.\nHonorifique ou benevole "]
["\n\n\n\n\n\n\nPersonne Stagiaires",null,null,"Qualification\n","Autres frais de personnel","Tâches concernant les locaux \net infrastructures","Direction, administration, gestion","Groupe de travail","Représentation des intérêts","Relations publiques","Total","Conseil et aide aux handicapés et aux proches\nKGA 1-2-3",null,"Aide dans les lieux d'accueil\nKGA 4",null,"Conseil en matière de construction\nKG5-6",null,"Conseil juridique\nKGA 7-8",null,"Mise en relation avec des services d'aide et d'interprètes\nKGA 9",null,"Cours en bloc pour handicapés et proches\nKGA 11",null,"Cours d'un jour pour handicapés et proches\nKGA 12",null,"Cours annuels et semestriels pour handicapés et proches\nKGA 13",null,"Prestation ayant pour objet de soutenir et de promouvoir la réadaptation des handicapés\nKGB - KGC",null,"Accompagnement à domicile\nKGA 10",null,"Récolte de fonds",null,"Travaux specifique en relation avec la fonction de la faìtière","Total","Prestations et activités \npour le Canton",null,"Projets et prestations diverses",null,"Autres : ",null,"Total"]
["Nom, prénom",null,null,null,null,null,null,null,null,null,null,"Activité","Prépa.","Activité","Prépa.","Activité","Prépa.","Activité","Prépa.","Activité","Prépa.","Activité","Prépa.","Activité","Prépa.","Activité","Prépa.","Activité","Prépa.","Activité","Prépa.","Activité","Prépa.",null,null,"Activité","Prépa.","Activité","Prépa.","Activité","Prépa."]
["Selon liste ou fichier specifique interne",null,null,null,null,null,null,null,null,null,{"$f":"SUM(E14:J14)","v":0},null,null,null,null,null,null,null,null,null,null,null,null,null,null,null,null,null,null,null,null,null,null,null,{"$f":"SUM(L14:AH14)","v":0},null,null,null,null,null,null,{"$f":"SUM(AJ14:AO14)","v":0}]
[null,null,{"$f":"IF(A15=\"\",\"\",LEFT(A15,3) & MID(A15,SEARCH(\" \",A15)+1,3))","v":""},null,null,null,null,null,null,null,{"$f":"SUM(E15:J15)","v":0},null,null,null,null,null,null,null,null,null,null,null,null,null,null,null,null,null,null,null,null,null,null,null,0,null,null,null,null,null,null,0]
[null,null,"",null,null,null,null,null,null,null,0,null,null,null,null,null,null,null,null,null,null,null,null,null,null,null,null,null,null,null,null,null,null,null,0,null,null,null,null,null,null,0]
[null,null,"",null,null,null,null,null,null,null,0,null,null,null,null,null,null,null,null,null,null,null,null,null,null,null,null,null,null,null,null,null,null,null,0,null,null,null,null,null,null,0]
[null,null,"",null,null,null,null,null,null,null,0,null,null,null,null,null,null,null,null,null,null,null,null,null,null,null,null,null,null,null,null,null,null,null,0,null,null,null,null,null,null,0]
[null,null,"",null,null,null,null,null,null,null,0,null,null,null,null,null,null,null,null,null,null,null,null,null,null,null,null,null,null,null,null,null,null,null,0,null,null,null,null,null,null,0]
[null,null,"",null,null,null,null,null,null,null,0,null,null,null,null,null,null,null,null,null,null,null,null,null,null,null,null,null,null,null,null,null,null,null,0,null,null,null,null,null,null,0]
[null,null,"",null,null,null,null,null,null,null,0,null,null,null,null,null,null,null,null,null,null,null,null,null,null,null,null,null,null,null,null,null,null,null,0,null,null,null,null,null,null,0]
[null,null,"",null,null,null,null,null,null,null,0,null,null,null,null,null,null,null,null,null,null,null,null,null,null,null,null,null,null,null,null,null,null,null,0,null,null,null,null,null,null,0]
[null,null,"",null,null,null,null,null,null,null,0,null,null,null,null,null,null,null,null,null,null,null,null,null,null,null,null,null,null,null,null,null,null,null,0,null,null,null,null,null,null,0]
[null,null,"",null,null,null,null,null,null,null,0,null,null,null,null,null,null,null,null,null,null,null,null,null,null,null,null,null,null,null,null,null,null,null,0,null,null,null,null,null,null,0]
[null,null,"",null,null,null,null,null,null,null,0,null,null,null,null,null,null,null,null,null,null,null,null,null,null,null,null,null,null,null,null,null,null,null,0,null,null,null,null,null,null,0]
[null,null,"",null,null,null,null,null,null,null,0,null,null,null,null,null,null,null,null,null,null,null,null,null,null,null,null,null,null,null,null,null,null,null,0,null,null,null,null,null,null,0]
[null,null,"",null,null,null,null,null,null,null,0,null,null,null,null,null,null,null,null,null,null,null,null,null,null,null,null,null,null,null,null,null,null,null,0,null,null,null,null,null,null,0]
[null,null,"",null,null,null,null,null,null,null,0,null,null,null,null,null,null,null,null,null,null,null,null,null,null,null,null,null,null,null,null,null,null,null,0,null,null,null,null,null,null,0]
[null,null,"",null,null,null,null,null,null,null,0,null,null,null,null,null,null,null,null,null,null,null,null,null,null,null,null,null,null,null,null,null,null,null,0,null,null,null,null,null,null,0]
["Temps total consacré :",null,null,null,null,null,null,null,null,null,null,{"$f":"SUM(L14:L29)","v":0},0,0,0,0,0,0,0,0,0,0,0,0,0,0,0,0,0,0,0,0,0,0,null,{"$f":"SUM(#REF!)","v":{"$error":"#REF!"}},{"$f":"SUM(AK1:AK29)","v":0},{"$f":"SUM(AL1:AL29)","v":0},{"$f":"SUM(AM1:AM29)","v":0},{"$f":"SUM(AN1:AN29)","v":0},{"$f":"SUM(AO1:AO29)","v":0},null,"Employés"]
[null,null,null,null,{"$f":"SUM(E14:E29)","v":0},0,0,0,0,0,0,{"$f":"L30+M30","v":0},null,{"$f":"N30+O30","v":0},null,{"$f":"P30+Q30","v":0},null,{"$f":"R30+S30","v":0},null,{"$f":"T30+U30","v":0},null,{"$f":"V30+W30","v":0},null,{"$f":"X30+Y30","v":0},null,{"$f":"Z30+AA30","v":0},null,{"$f":"AB30+AC30","v":0},null,{"$f":"AD30+AE30","v":0},null,{"$f":"AF30+AG30","v":0},null,{"$f":"AH30","v":0},{"$f":"SUM(AI14:AI29)","v":0},{"$f":"AJ30+AK30","v":{"$error":"#REF!"}},null,{"$f":"AL30+AM30","v":0},null,{"$f":"AN30+AO30","v":0},null,{"$f":"SUM(AP14:AP29)","v":0},{"$f":"K31+AI31+AP31","v":0}]

{"sheet":"a.) Saisie trav. sur Honoraires","index":5,"n_rows":61,"n_cols":43,"rows_kept":61,"cut":false,"hidden":false,"merged":[[11,3,12,3],[10,4,10,5],[10,7,10,9],[0,0,2,0],[0,8,1,11],[11,0,11,1],[7,0,7,41],[11,10,12,10],[11,11,11,12],[11,13,11,14],[11,15,11,16],[11,17,11,18],[11,19,11,20],[11,41,12,41],[11,33,12,33],[6,17,6,23],[0,12,1,16],[11,39,11,40],[60,39,60,40],[60,21,60,22],[60,23,60,24],[60,25,60,26],[60,27,60,28],[60,29,60,30],[60,31,60,32],[11,34,12,34],[11,21,11,22],[60,35,60,36],[60,37,60,38],[11,35,11,36],[11,37,11,38],[60,19,60,20],[11,23,11,24],[11,25,11,26],[11,27,11,28],[11,29,11,30],[59,0,60,3],[60,11,60,12],[60,13,60,14],[60,15,60,16],[60,17,60,18],[11,5,12,5],[8,2,12,2],[11,4,12,4],[11,6,12,6],[11,7,12,7],[11,8,12,8],[11,9,12,9],[0,18,1,19],[0,20,1,21],[6,41,6,46],[6,47,6,48],[0,22,1,23],[0,24,1,27],[1,42,1,49]]}
[null,"Vereinigung Cerebral Schweiz",null,null,null,null,null,null,"Association régionale :",null,null,null,{"$f":"'a.) Employé+résumé'!L1","v":0},null,null,null,null,null,"OFAS n°",null,{"$f":"'a.) Employé+résumé'!U1:V2","v":0},null,"Editeur/trice :",null,{"$f":"'a.) Employé+résumé'!Y1:AB2","v":0},null,null,null,"Mail :",{"$f":"'a.) Employé+résumé'!AD1","v":0}]
[null,"Association Cerebral Suisse",null,null,null,null,null,null,null,null,null,null,null,null,null,null,null,null,null,null,null,null,null,null,null,null,null,null,"Tel. :",{"$f":"'a.) Employé+résumé'!AD2:AE2","v":0}]
[null,"Associazione Cerebral Svizzera"]
[null,null,{"$f":"IF(A4=\"\",\"\",LEFT(A4,3) & MID(A4,SEARCH(\" \",A4)+1,3))","v":""},null,null,null,null,null,null,null,{"$f":"SUM(E4:J4)","v":0},null,null,null,null,null,null,null,null,null,null,null,null,null,null,null,null,null,null,null,null,null,null,null,{"$f":"SUM(L4:AH4)","v":0},null,null,null,null,null,null,{"$f":"SUM(AJ4:AO4)","v":0}]
[null,null,null,null,{"$f":"SUM(E14:E59)","v":0},{"$f":"SUM(F14:F59)","v":0},0,0,0,0,0,0,0,0,0,0,0,0,0,0,0,0,0,0,0,0,0,0,0,0,0,0,0,0,0,0,0,0,0,0,0,0]
[]
["Répartition des temps de travail Mandat ( / Honoraires)",null,null,null,null,null,null,null,null,null,null,null,null,null,null," Année :",null,2015]
["Par temps de travail Mandat, nous entendons tout travail effectué contre facturation. / Circulaire page 40, chap. 9.1  / En cas de facturation globale ou forfaitaire le montant est divisé par un tarif horraire de CH. 130.00 / Circulaire page 21, chiffre 3005"]
[null,null,"Code",null,"Coûts indirects",null,null,null,null,null,null,"Prestation et activités Art. 74",null,null,null,null,null,null,null,null,null,null,null,null,null,null,null,null,null,null,null,null,null,null,null,"Prestations et activités hors Art. 74",null,null,null,null,null,null,"Consolidé"]
[null,null,null,null,"Temps de travail consacrés",null,null,null,null,null,null,"Temps de travail consacrés",null,null,null,null,null,null,null,null,null,null,null,null,null,null,null,null,null,null,null,null,null,null,null,"Temps de travail consacrés",null,null,null,null,null,null,"valeur 100%"]
[null,null,null,"Circulaire \npage 69","Tâches sans lien avec prestations",null,null,"Page 10, 1014 et 1015, ong.\nHonorifique ou benevole "]
["\n\n\n\n\n\n\nMandataire /Honoraires",null,null,"Qualification\n","Autres frais de personnel","Tâches concernant les locaux \net infrastructures","Direction, administration, gestion","Groupe de travail","Représentation des intérêts","Relations publiques","Total","Conseil et aide aux handicapés et aux proches\nKGA 1-2-3",null,"Aide dans les lieux d'accueil\nKGA 4",null,"Conseil en matière de construction\nKG5-6",null,"Conseil juridique\nKGA 7-8",null,"Mise en relation avec des services d'aide et d'interprètes\nKGA 9",null,"Cours en bloc pour handicapés et proches\nKGA 11",null,"Cours d'un jour pour handicapés et proches\nKGA 12",null,"Cours annuels et semestriels pour handicapés et proches\nKGA 13",null,"Prestation ayant pour objet de soutenir et de promouvoir la réadaptation des handicapés\nKGB - KGC",null,"Accompagnement à domicile\nKGA 10",null,"Récolte de fonds",null,"Travaux specifique en relation avec la fonction de la faìtière","Total","Prestations et activités \npour le Canton",null,"Projets et prestations diverses",null,"Autres : ",null,"Total"]
["Nom, prénom",null,null,null,null,null,null,null,null,null,null,"Activité","Prépa.","Activité","Prépa.","Activité","Prépa.","Activité","Prépa.","Activité","Prépa.","Activité","Prépa.","Activité","Prépa.","Activité","Prépa.","Activité","Prépa.","Activité","Prépa.","Activité","Prépa.",null,null,"Activité","Prépa.","Activité","Prépa.","Activité","Prépa."]
["Selon liste ou fichier specifique interne",null,null,null,null,null,null,null,null,null,{"$f":"SUM(E14:J14)","v":0},null,null,null,null,null,null,null,null,null,null,null,null,null,null,null,null,null,null,null,null,null,null,null,{"$f":"SUM(L14:AH14)","v":0},null,null,null,null,null,null,{"$f":"SUM(AJ14:AO14)","v":0}]
[null,null,{"$f":"IF(A15=\"\",\"\",LEFT(A15,3) & MID(A15,SEARCH(\" \",A15)+1,3))","v":""},null,null,null,null,null,null,null,0,null,null,null,null,null,null,null,null,null,null,null,null,null,null,null,null,null,null,null,null,null,null,null,0,null,null,null,null,null,null,0]
[null,null,{"$f":"IF(A16=\"\",\"\",LEFT(A16,3) & MID(A16,SEARCH(\" \",A16)+1,3))","v":""},null,null,null,null,null,null,null,0,null,null,null,null,null,null,null,null,null,null,null,null,null,null,null,null,null,null,null,null,null,null,null,0,null,null,null,null,null,null,0]
[null,null,{"$f":"IF(A17=\"\",\"\",LEFT(A17,3) & MID(A17,SEARCH(\" \",A17)+1,3))","v":""},null,null,null,null,null,null,null,0,null,null,null,null,null,null,null,null,null,null,null,null,null,null,null,null,null,null,null,null,null,null,null,0,null,null,null,null,null,null,0]
[null,null,{"$f":"IF(A18=\"\",\"\",LEFT(A18,3) & MID(A18,SEARCH(\" \",A18)+1,3))","v":""},null,null,null,null,null,null,null,0,null,null,null,null,null,null,null,null,null,null,null,null,null,null,null,null,null,null,null,null,null,null,null,0,null,null,null,null,null,null,0]
[null,null,{"$f":"IF(A19=\"\",\"\",LEFT(A19,3) & MID(A19,SEARCH(\" \",A19)+1,3))","v":""},null,null,null,null,null,null,null,0,null,null,null,null,null,null,null,null,null,null,null,null,null,null,null,null,null,null,null,null,null,null,null,0,null,null,null,null,null,null,0]
[null,null,null,null,null,null,null,null,null,null,{"$f":"SUM(E20:J20)","v":0},null,null,null,null,null,null,null,null,null,null,null,null,null,null,null,null,null,null,null,null,null,null,null,{"$f":"SUM(L20:AH20)","v":0},null,null,null,null,null,null,{"$f":"SUM(AJ20:AO20)","v":0}]
[null,null,null,null,null,null,null,null,null,null,0,null,null,null,null,null,null,null,null,null,null,null,null,null,null,null,null,null,null,null,null,null,null,null,0,null,null,null,null,null,null,0]
[null,null,null,null,null,null,null,null,null,null,0,null,null,null,null,null,null,null,null,null,null,null,null,null,null,null,null,null,null,null,null,null,null,null,0,null,null,null,null,null,null,0]
[null,null,null,null,null,null,null,null,null,null,0,null,null,null,null,null,null,null,null,null,null,null,null,null,null,null,null,null,null,null,null,null,null,null,0,null,null,null,null,null,null,0]
[null,null,null,null,null,null,null,null,null,null,0,null,null,null,null,null,null,null,null,null,null,null,null,null,null,null,null,null,null,null,null,null,null,null,0,null,null,null,null,null,null,0]
[null,null,null,null,null,null,null,null,null,null,0,null,null,null,null,null,null,null,null,null,null,null,null,null,null,null,null,null,null,null,null,null,null,null,0,null,null,null,null,null,null,0]
[null,null,null,null,null,null,null,null,null,null,0,null,null,null,null,null,null,null,null,null,null,null,null,null,null,null,null,null,null,null,null,null,null,null,0,null,null,null,null,null,null,0]
[null,null,null,null,null,null,null,null,null,null,0,null,null,null,null,null,null,null,null,null,null,null,null,null,null,null,null,null,null,null,null,null,null,null,null,null,null,null,null,null,null,0]
[null,null,{"$f":"IF(A28=\"\",\"\",LEFT(A28,3) & MID(A28,SEARCH(\" \",A28)+1,3))","v":""},null,null,null,null,null,null,null,0,null,null,null,null,null,null,null,null,null,null,null,null,null,null,null,null,null,null,null,null,null,null,null,0,null,null,null,null,null,null,0]
[null,null,"",null,null,null,null,null,null,null,0,null,null,null,null,null,null,null,null,null,null,null,null,null,null,null,null,null,null,null,null,null,null,null,0,null,null,null,null,null,null,0]
[null,null,"",null,null,null,null,null,null,null,0,null,null,null,null,null,null,null,null,null,null,null,null,null,null,null,null,null,null,null,null,null,null,null,0,null,null,null,null,null,null,0]
[null,null,"",null,null,null,null,null,null,null,0,null,null,null,null,null,null,null,null,null,null,null,null,null,null,null,null,null,null,null,null,null,null,null,0,null,null,null,null,null,null,0]
[null,null,"",null,null,null,null,null,null,null,0,null,null,null,null,null,null,null,null,null,null,null,null,null,null,null,null,null,null,null,null,null,null,null,0,null,null,null,null,null,null,0]
[null,null,"",null,null,null,null,null,null,null,0,null,null,null,null,null,null,null,null,null,null,null,null,null,null,null,null,null,null,null,null,null,null,null,0,null,null,null,null,null,null,0]
[null,null,"",null,null,null,null,null,null,null,0,null,null,null,null,null,null,null,null,null,null,null,null,null,null,null,null,null,null,null,null,null,null,null,0,null,null,null,null,null,null,0]
[null,null,"",null,null,null,null,null,null,null,0,null,null,null,null,null,null,null,null,null,null,null,null,null,null,null,null,null,null,null,null,null,null,null,0,null,null,null,null,null,null,0]
[null,null,"",null,null,null,null,null,null,null,0,null,null,null,null,null,null,null,null,null,null,null,null,null,null,null,null,null,null,null,null,null,null,null,0,null,null,null,null,null,null,0]
[null,null,"",null,null,null,null,null,null,null,0,null,null,null,null,null,null,null,null,null,null,null,null,null,null,null,null,null,null,null,null,null,null,null,0,null,null,null,null,null,null,0]
[null,null,"",null,null,null,null,null,null,null,0,null,null,null,null,null,null,null,null,null,null,null,null,null,null,null,null,null,null,null,null,null,null,null,0,null,null,null,null,null,null,0]
[null,null,{"$f":"IF(A39=\"\",\"\",LEFT(A39,3) & MID(A39,SEARCH(\" \",A39)+1,3))","v":""},null,null,null,null,null,null,null,0,null,null,null,null,null,null,null,null,null,null,null,null,null,null,null,null,null,null,null,null,null,null,null,{"$f":"SUM(L39:AH39)","v":0},null,null,null,null,null,null,{"$f":"SUM(AJ39:AO39)","v":0}]
[null,null,null,null,null,null,null,null,null,null,0,null,null,null,null,null,null,null,null,null,null,null,null,null,null,null,null,null,null,null,null,null,null,null,0,null,null,null,null,null,null,0]
[null,null,"",null,null,null,null,null,null,null,0,null,null,null,null,null,null,null,null,null,null,null,null,null,null,null,null,null,null,null,null,null,null,null,0,null,null,null,null,null,null,0]
[null,null,"",null,null,null,null,null,null,null,0,null,null,null,null,null,null,null,null,null,null,null,null,null,null,null,null,null,null,null,null,null,null,null,0,null,null,null,null,null,null,0]
[null,null,"",null,null,null,null,null,null,null,0,null,null,null,null,null,null,null,null,null,null,null,null,null,null,null,null,null,null,null,null,null,null,null,0,null,null,null,null,null,null,0]
[null,null,"",null,null,null,null,null,null,null,0,null,null,null,null,null,null,null,null,null,null,null,null,null,null,null,null,null,null,null,null,null,null,null,0,null,null,null,null,null,null,0]
[null,null,"",null,null,null,null,null,null,null,0,null,null,null,null,null,null,null,null,null,null,null,null,null,null,null,null,null,null,null,null,null,null,null,0,null,null,null,null,null,null,0]
[null,null,"",null,null,null,null,null,null,null,0,null,null,null,null,null,null,null,null,null,null,null,null,null,null,null,null,null,null,null,null,null,null,null,0,null,null,null,null,null,null,0]
[null,null,"",null,null,null,null,null,null,null,0,null,null,null,null,null,null,null,null,null,null,null,null,null,null,null,null,null,null,null,null,null,null,null,0,null,null,null,null,null,null,0]
[null,null,"",null,null,null,null,null,null,null,0,null,null,null,null,null,null,null,null,null,null,null,null,null,null,null,null,null,null,null,null,null,null,null,0,null,null,null,null,null,null,0]
[null,null,"",null,null,null,null,null,null,null,0,null,null,null,null,null,null,null,null,null,null,null,null,null,null,null,null,null,null,null,null,null,null,null,0,null,null,null,null,null,null,0]
[null,null,"",null,null,null,null,null,null,null,0,null,null,null,null,null,null,null,null,null,null,null,null,null,null,null,null,null,null,null,null,null,null,null,0,null,null,null,null,null,null,0]
[null,null,"",null,null,null,null,null,null,null,0,null,null,null,null,null,null,null,null,null,null,null,null,null,null,null,null,null,null,null,null,null,null,null,0,null,null,null,null,null,null,0]
[null,null,"",null,null,null,null,null,null,null,0,null,null,null,null,null,null,null,null,null,null,null,null,null,null,null,null,null,null,null,null,null,null,null,0,null,null,null,null,null,null,0]
[null,null,"",null,null,null,null,null,null,null,0,null,null,null,null,null,null,null,null,null,null,null,null,null,null,null,null,null,null,null,null,null,null,null,0,null,null,null,null,null,null,0]
[null,null,"",null,null,null,null,null,null,null,0,null,null,null,null,null,null,null,null,null,null,null,null,null,null,null,null,null,null,null,null,null,null,null,0,null,null,null,null,null,null,0]
[null,null,"",null,null,null,null,null,null,null,0,null,null,null,null,null,null,null,null,null,null,null,null,null,null,null,null,null,null,null,null,null,null,null,0,null,null,null,null,null,null,0]
[null,null,"",null,null,null,null,null,null,null,0,null,null,null,null,null,null,null,null,null,null,null,null,null,null,null,null,null,null,null,null,null,null,null,0,null,null,null,null,null,null,0]
[null,null,"",null,null,null,null,null,null,null,0,null,null,null,null,null,null,null,null,null,null,null,null,null,null,null,null,null,null,null,null,null,null,null,0,null,null,null,null,null,null,0]
[null,null,{"$f":"IF(A58=\"\",\"\",LEFT(A58,3) & MID(A58,SEARCH(\" \",A58)+1,3))","v":""},null,null,null,null,null,null,null,0,null,null,null,null,null,null,null,null,null,null,null,null,null,null,null,null,null,null,null,null,null,null,null,{"$f":"SUM(L58:AH58)","v":0},null,null,null,null,null,null,{"$f":"SUM(AJ58:AO58)","v":0}]
[null,null,{"$f":"IF(A59=\"\",\"\",LEFT(A59,3) & MID(A59,SEARCH(\" \",A59)+1,3))","v":""},null,null,null,null,null,null,null,0,null,null,null,null,null,null,null,null,null,null,null,null,null,null,null,null,null,null,null,null,null,null,null,{"$f":"SUM(L59:AH59)","v":0},null,null,null,null,null,null,{"$f":"SUM(AJ59:AO59)","v":0}]
["Temps total consacré :",null,null,null,null,null,null,null,null,null,null,{"$f":"SUM(L14:L59)","v":0},{"$f":"SUM(M14:M59)","v":0},0,0,0,0,0,0,0,0,0,0,0,0,0,0,0,0,0,0,0,0,0,null,{"$f":"SUM(AJ14:AJ59)","v":0},0,0,0,0,0,null,"Employés"]
[null,null,null,null,{"$f":"SUM(E14:E59)","v":0},{"$f":"SUM(F14:F59)","v":0},0,0,0,0,0,{"$f":"L60+M60","v":0},null,{"$f":"N60+O60","v":0},null,{"$f":"P60+Q60","v":0},null,{"$f":"R60+S60","v":0},null,{"$f":"T60+U60","v":0},null,{"$f":"V60+W60","v":0},null,{"$f":"X60+Y60","v":0},null,{"$f":"Z60+AA60","v":0},null,{"$f":"AB60+AC60","v":0},null,{"$f":"AD60+AE60","v":0},null,{"$f":"AF60+AG60","v":0},null,{"$f":"AH60","v":0},{"$f":"SUM(AI14:AI59)","v":0},{"$f":"AJ60+AK60","v":0},null,{"$f":"AL60+AM60","v":0},null,{"$f":"AN60+AO60","v":0},null,{"$f":"SUM(AP14:AP59)","v":0},{"$f":"K61+AI61+AP61","v":0}]

{"sheet":"a.) Saisie Benevole-Honorifique","index":6,"n_rows":43,"n_cols":43,"rows_kept":43,"cut":false,"hidden":false,"merged":[[11,3,12,3],[10,4,10,5],[0,0,2,0],[0,8,1,11],[0,12,1,16],[0,18,1,19],[7,0,7,41],[8,2,12,2],[11,4,12,4],[11,5,12,5],[11,35,11,36],[11,41,12,41],[6,17,6,23],[6,41,6,46],[11,39,11,40],[11,33,12,33],[10,7,10,9],[11,34,12,34],[11,21,11,22],[11,27,11,28],[11,15,11,16],[42,37,42,38],[42,39,42,40],[42,21,42,22],[42,23,42,24],[42,25,42,26],[42,27,42,28],[42,29,42,30],[42,31,42,32],[42,35,42,36],[11,17,11,18],[11,19,11,20],[11,37,11,38],[11,7,12,7],[11,8,12,8],[11,10,12,10],[11,11,11,12],[11,13,11,14],[6,47,6,48],[0,22,1,23],[0,24,1,27],[1,42,1,49],[41,0,42,3],[42,11,42,12],[42,13,42,14],[42,15,42,16],[42,17,42,18],[11,29,11,30],[11,9,12,9],[42,19,42,20],[11,23,11,24],[11,25,11,26],[11,6,12,6],[0,20,1,21]]}
[null,"Vereinigung Cerebral Schweiz",null,null,null,null,null,null,"Association régionale :",null,null,null,{"$f":"'a.) Employé+résumé'!L1","v":0},null,null,null,null,null,"OFAS n°",null,{"$f":"'a.) Employé+résumé'!U1:V2","v":0},null,"Editeur/trice :",null,{"$f":"'a.) Employé+résumé'!Y1:AB2","v":0},null,null,null,"Mail :",{"$f":"'a.) Employé+résumé'!AD1","v":0}]
[null,"Association Cerebral Suisse",null,null,null,null,null,null,null,null,null,null,null,null,null,null,null,null,null,null,null,null,null,null,null,null,null,null,"Tel. :",{"$f":"'a.) Employé+résumé'!AD2:AE2","v":0}]
[null,"Associazione Cerebral Svizzera"]
[null,null,{"$f":"IF(A4=\"\",\"\",LEFT(A4,3) & MID(A4,SEARCH(\" \",A4)+1,3))","v":""},null,null,null,null,null,null,null,{"$f":"SUM(E4:J4)","v":0},null,null,null,null,null,null,null,null,null,null,null,null,null,null,null,null,null,null,null,null,null,null,null,{"$f":"SUM(L4:AH4)","v":0},null,null,null,null,null,null,{"$f":"SUM(AJ4:AO4)","v":0}]
[null,null,null,null,{"$f":"SUM(E14:E41)","v":0},0,0,0,0,0,0,0,0,0,0,0,0,0,0,0,0,0,0,0,0,0,0,0,0,0,0,0,0,0,0,0,0,0,0,0,0,0]
[]
["Répartition des temps de travail Bénévolat et Honorifique",null,null,null,null,null,null,null,null,null,null,null,null,null,null,"Année :",null,2015]
["On entenda par travail Bénévole ou honorifique , le travaill effectué sans aucun contrepartie / / Circulaire page 40, chap. 9.1  / L' OFAS différencie le travai Honorifique et le travail bénévole. Voir définition dans la circulaire page 10, chiffre 1014 et 1015"]
[null,null,"Code",null,"Coûts indirects",null,null,null,null,null,null,"Prestation et activités Art. 74",null,null,null,null,null,null,null,null,null,null,null,null,null,null,null,null,null,null,null,null,null,null,null,"Prestations et activités hors Art. 74",null,null,null,null,null,null,"Consolidé"]
[null,null,null,null,"Temps de travail consacrés",null,null,null,null,null,null,"Temps de travail consacrés",null,null,null,null,null,null,null,null,null,null,null,null,null,null,null,null,null,null,null,null,null,null,null,"Temps de travail consacrés",null,null,null,null,null,null,"valeur 100%"]
[null,null,null,"Circulaire \npage 69","Tâches sans lien avec prestations",null,null,"Page 10, 1014 et 1015, ong.\nHonorifique ou benevole "]
["\n\n\n\n\n\n\nPersonne bénévole",null,null,"Qualification\n","Autres frais de personnel","Tâches concernant les locaux \net infrastructures","Direction, administration, gestion","Groupe de travail","Représentation des intérêts","Relations publiques","Total","Conseil et aide aux handicapés et aux proches\nKGA 1-2-3",null,"Aide dans les lieux d'accueil\nKGA 4",null,"Conseil en matière de construction\nKG5-6",null,"Conseil juridique\nKGA 7-8",null,"Mise en relation avec des services d'aide et d'interprètes\nKGA 9",null,"Cours en bloc pour handicapés et proches\nKGA 11",null,"Cours d'un jour pour handicapés et proches\nKGA 12",null,"Cours annuels et semestriels pour handicapés et proches\nKGA 13",null,"Prestation ayant pour objet de soutenir et de promouvoir la réadaptation des handicapés\nKGB - KGC",null,"Accompagnement à domicile\nKGA 10",null,"Récolte de fonds",null,"Travaux specifique en relation avec la fonction de la faìtière","Total","Prestations et activités \npour le Canton",null,"Projets et prestations diverses",null,"Autres : ",null,"Total"]
["Nom, prénom",null,null,null,null,null,null,null,null,null,null,"Activité","Prépa.","Activité","Prépa.","Activité","Prépa.","Activité","Prépa.","Activité","Prépa.","Activité","Prépa.","Activité","Prépa.","Activité","Prépa.","Activité","Prépa.","Activité","Prépa.","Activité","Prépa.",null,null,"Activité","Prépa.","Activité","Prépa.","Activité","Prépa."]
["Selon liste ou fichier specifique interne",null,null,null,null,null,null,null,null,null,{"$f":"SUM(E14:J14)","v":0},null,null,null,null,null,null,null,null,null,null,null,null,null,null,null,null,null,null,null,null,null,null,null,{"$f":"SUM(L14:AH14)","v":0},null,null,null,null,null,null,{"$f":"SUM(AJ14:AO14)","v":0}]
[null,null,{"$f":"IF(A15=\"\",\"\",LEFT(A15,3) & MID(A15,SEARCH(\" \",A15)+1,3))","v":""},null,null,null,null,null,null,null,{"$f":"SUM(E15:J15)","v":0},null,null,null,null,null,null,null,null,null,null,null,null,null,null,null,null,null,null,null,null,null,null,null,{"$f":"SUM(L15:AH15)","v":0},null,null,null,null,null,null,{"$f":"SUM(AJ15:AO15)","v":0}]
[null,null,{"$f":"IF(A16=\"\",\"\",LEFT(A16,3) & MID(A16,SEARCH(\" \",A16)+1,3))","v":""},null,null,null,null,null,null,null,{"$f":"SUM(E16:J16)","v":0},null,null,null,null,null,null,null,null,null,null,null,null,null,null,null,null,null,null,null,null,null,null,null,{"$f":"SUM(L16:AH16)","v":0},null,null,null,null,null,null,{"$f":"SUM(AJ16:AO16)","v":0}]
[null,null,{"$f":"IF(A17=\"\",\"\",LEFT(A17,3) & MID(A17,SEARCH(\" \",A17)+1,3))","v":""},null,null,null,null,null,null,null,{"$f":"SUM(E17:J17)","v":0},null,null,null,null,null,null,null,null,null,null,null,null,null,null,null,null,null,null,null,null,null,null,null,{"$f":"SUM(L17:AH17)","v":0},null,null,null,null,null,null,{"$f":"SUM(AJ17:AO17)","v":0}]
[null,null,{"$f":"IF(A18=\"\",\"\",LEFT(A18,3) & MID(A18,SEARCH(\" \",A18)+1,3))","v":""},null,null,null,null,null,null,null,{"$f":"SUM(E18:J18)","v":0},null,null,null,null,null,null,null,null,null,null,null,null,null,null,null,null,null,null,null,null,null,null,null,{"$f":"SUM(L18:AH18)","v":0},null,null,null,null,null,null,{"$f":"SUM(AJ18:AO18)","v":0}]
[null,null,"",null,null,null,null,null,null,null,{"$f":"SUM(E19:J19)","v":0},null,null,null,null,null,null,null,null,null,null,null,null,null,null,null,null,null,null,null,null,null,null,null,{"$f":"SUM(L19:AH19)","v":0},null,null,null,null,null,null,{"$f":"SUM(AJ19:AO19)","v":0}]
[null,null,"",null,null,null,null,null,null,null,0,null,null,null,null,null,null,null,null,null,null,null,null,null,null,null,null,null,null,null,null,null,null,null,0,null,null,null,null,null,null,0]
[null,null,"",null,null,null,null,null,null,null,0,null,null,null,null,null,null,null,null,null,null,null,null,null,null,null,null,null,null,null,null,null,null,null,0,null,null,null,null,null,null,0]
[null,null,"",null,null,null,null,null,null,null,0,null,null,null,null,null,null,null,null,null,null,null,null,null,null,null,null,null,null,null,null,null,null,null,0,null,null,null,null,null,null,0]
[null,null,"",null,null,null,null,null,null,null,0,null,null,null,null,null,null,null,null,null,null,null,null,null,null,null,null,null,null,null,null,null,null,null,0,null,null,null,null,null,null,0]
[null,null,"",null,null,null,null,null,null,null,0,null,null,null,null,null,null,null,null,null,null,null,null,null,null,null,null,null,null,null,null,null,null,null,0,null,null,null,null,null,null,0]
[null,null,"",null,null,null,null,null,null,null,0,null,null,null,null,null,null,null,null,null,null,null,null,null,null,null,null,null,null,null,null,null,null,null,0,null,null,null,null,null,null,0]
[null,null,"",null,null,null,null,null,null,null,0,null,null,null,null,null,null,null,null,null,null,null,null,null,null,null,null,null,null,null,null,null,null,null,0,null,null,null,null,null,null,0]
[null,null,"",null,null,null,null,null,null,null,0,null,null,null,null,null,null,null,null,null,null,null,null,null,null,null,null,null,null,null,null,null,null,null,0,null,null,null,null,null,null,0]
[null,null,"",null,null,null,null,null,null,null,0,null,null,null,null,null,null,null,null,null,null,null,null,null,null,null,null,null,null,null,null,null,null,null,0,null,null,null,null,null,null,0]
[null,null,"",null,null,null,null,null,null,null,0,null,null,null,null,null,null,null,null,null,null,null,null,null,null,null,null,null,null,null,null,null,null,null,0,null,null,null,null,null,null,0]
[null,null,"",null,null,null,null,null,null,null,0,null,null,null,null,null,null,null,null,null,null,null,null,null,null,null,null,null,null,null,null,null,null,null,0,null,null,null,null,null,null,0]
[null,null,"",null,null,null,null,null,null,null,0,null,null,null,null,null,null,null,null,null,null,null,null,null,null,null,null,null,null,null,null,null,null,null,0,null,null,null,null,null,null,0]
[null,null,"",null,null,null,null,null,null,null,0,null,null,null,null,null,null,null,null,null,null,null,null,null,null,null,null,null,null,null,null,null,null,null,0,null,null,null,null,null,null,0]
[null,null,"",null,null,null,null,null,null,null,0,null,null,null,null,null,null,null,null,null,null,null,null,null,null,null,null,null,null,null,null,null,null,null,0,null,null,null,null,null,null,0]
[null,null,"",null,null,null,null,null,null,null,0,null,null,null,null,null,null,null,null,null,null,null,null,null,null,null,null,null,null,null,null,null,null,null,0,null,null,null,null,null,null,0]
[null,null,"",null,null,null,null,null,null,null,0,null,null,null,null,null,null,null,null,null,null,null,null,null,null,null,null,null,null,null,null,null,null,null,0,null,null,null,null,null,null,0]
[null,null,"",null,null,null,null,null,null,null,0,null,null,null,null,null,null,null,null,null,null,null,null,null,null,null,null,null,null,null,null,null,null,null,0,null,null,null,null,null,null,0]
[null,null,"",null,null,null,null,null,null,null,0,null,null,null,null,null,null,null,null,null,null,null,null,null,null,null,null,null,null,null,null,null,null,null,0,null,null,null,null,null,null,0]
[null,null,"",null,null,null,null,null,null,null,0,null,null,null,null,null,null,null,null,null,null,null,null,null,null,null,null,null,null,null,null,null,null,null,0,null,null,null,null,null,null,0]
[null,null,"",null,null,null,null,null,null,null,0,null,null,null,null,null,null,null,null,null,null,null,null,null,null,null,null,null,null,null,null,null,null,null,0,null,null,null,null,null,null,0]
[null,null,"",null,null,null,null,null,null,null,0,null,null,null,null,null,null,null,null,null,null,null,null,null,null,null,null,null,null,null,null,null,null,null,0,null,null,null,null,null,null,0]
[null,null,"",null,null,null,null,null,null,null,0,null,null,null,null,null,null,null,null,null,null,null,null,null,null,null,null,null,null,null,null,null,null,null,0,null,null,null,null,null,null,0]
["Temps total consacré :",null,null,null,null,null,null,null,null,null,null,{"$f":"SUM(L14:L41)","v":0},0,0,0,0,0,0,0,0,0,0,0,0,0,0,0,0,0,0,0,0,0,0,null,{"$f":"SUM(AJ14:AJ41)","v":0},0,0,0,0,0,null,"Employés"]
[null,null,null,null,{"$f":"SUM(E14:E41)","v":0},0,0,0,0,0,0,{"$f":"L42+M42","v":0},null,{"$f":"N42+O42","v":0},null,{"$f":"P42+Q42","v":0},null,{"$f":"R42+S42","v":0},null,{"$f":"T42+U42","v":0},null,{"$f":"V42+W42","v":0},null,{"$f":"X42+Y42","v":0},null,{"$f":"Z42+AA42","v":0},null,{"$f":"AB42+AC42","v":0},null,{"$f":"AD42+AE42","v":0},null,{"$f":"AF42+AG42","v":0},null,{"$f":"SUM(AH14:AH42)","v":0},{"$f":"SUM(L14:AH43)","v":0},{"$f":"AJ42+AK42","v":0},null,{"$f":"AL42+AM42","v":0},null,{"$f":"AN42+AO42","v":0},null,{"$f":"SUM(AP18:AP41)","v":0},{"$f":"K43+AI43+AP43","v":0}]

{"sheet":"a.) Honorifique ou Benevole","index":7,"n_rows":57,"n_cols":9,"rows_kept":57,"cut":false,"hidden":false,"merged":[[7,1,7,8],[17,1,17,8],[8,2,8,8],[9,2,9,8],[10,2,10,8],[13,2,13,8],[14,2,14,8],[16,2,16,8]]}
["s",null,null,"Vereinigung Cerebral Schweiz"]
[null,null,null,"Association Cerebral Suisse",null,null,null,null,"Fichier \"coûts prestations\""]
[null,null,null,"Associazione Cerebral Svizzera",null,null,null,null,"Définitions des activités"]
[]
[]
[]
[null,"Introduction"]
[null,"Ces formulaires proposés sous les onglets a.) servent à l’enregistrement des heures effectuées pour le bon fonctionnement des associations Cerebral (Faitière et regionales).\nIl est important de pouvoir fournir à l'OFAS la somme totales des heures accomplies soit :"]
[null,null,"- Le travail effectué par les employés de l'association"]
[null,null,"- Le travail effectué sur la base de mandats ponctuels, rétribués par des honnoraires"]
[null,null,"- Le travail honorifique et bénévole de membres des comités des groupements régionaux de \n   l’Association Cerebral Suisse. "]
[]
[]
[null,null," Le travail honorifique et bénévole"]
[null,null,"Dès 2007, l’OFAS fera la distinction entre activité honorifique et bénévole. La première est rattachée au service, soit participation aux séances, des groupes de travail, à la conférence des président(e)s et à l’assemblée des délégué(e)s de l’organisation faîtière ou à la représentation des intérêts. "]
[]
[null,null,"Sauf les activités de relations publiques (p. ex. à un stand) ou activités non rétribuée en tant que groupes des parents sont considérées comme travail bénévole. "]
[]
[null,null,"Ne doivent pas être indiqués:"]
[null,null,"• Le travail fait pour un salaire correct. Le travail de secrétariat payé, qui se fait au nom de l’association,  "]
[null,null,"   doit être reporté sur le formulaire „saisie des temps pour secrétariats“."]
[null,null,"• Le travail pour lequel des honoraires subsidiés par l’AI sont versés (cours de vacances, week-ends, etc.).  "]
[null,null,"   Ce travail doit être relevé dans le cadre de la statistique de cours."]
[]
[null,null,"Exemples et explications "]
[]
[null,null,"• TRAVAIL HONORIFIQUE"]
[null,null,"   Comité/direction de l'association, participation à la conférence des président(e)s ou à l'assemblée des "]
[null,null,"   délegué(e)s de l'organisation faîtière"]
[null,null,"   Les séances du comité ainsi que la préparation, d'éventuelles heures consacrées pour travaux relatifs à un "]
[null,null,"   ressort, temps généralement consacré à la gestion de l'association."]
[]
[null,null,"   Groupes de travail"]
[null,null,"   Temps consacré à des séances et à leur préparation, par exemple, dans le cadre de projets d'une certaine "]
[null,null,"   importance en collaboration avec d'autres organisations."]
[]
[null,null,"   Groupes de travail organisation faîtière"]
[null,null,"   Collaboration dans les groupes de travail et commissions qui ont été créés par l’organisation faîtière. N’en "]
[null,null,"   font pas parties la participation à l’assemblée des délégué(e)s et à la conférence des président(e)s (en"]
[null,null,"   font partie comité/direction de l’association)."]
[]
[null,null,"   Représentation des intérêts"]
[null,null,"   Représentation des revendications de l'association auprès d'autres organisations et institutions (par "]
[null,null,"   exemple, conseil de fondation d'un home), coopération avec d'autres organisations et autorités, travail "]
[null,null,"   à caractère politique (prises de position, lobbying, motions)."]
[]
[null,null,"• TRAVAIL BÉNÉVOLE"]
[null,null,"   Relations publiques"]
[null,null,"   Représentation de l'association à l'extérieur (par exemple, présence à des stands de vente, participation à "]
[null,null,"   des manifestations)."]
[]
[null,null,"   En outre"]
[null,null,"   Les résponsables des groupes de parents, qui ne reçoivent aucun honoraire, enregistrent les heures dans "]
[null,null,"   cette colonne."]
[null,null,"   D’autres activités, gérées sans honoraire et indépendantes d’une fonction (p. ex. collaboration à la "]
[null,null,"   planification et à la mise en œuvre de projets spécifiques, participation à des cours, lotos), peuvent y être"]
[null,null,"   mentionnées."]

{"sheet":"Infos organisation","index":8,"n_rows":904,"n_cols":8,"rows_kept":904,"cut":false,"hidden":false,"merged":[[0,22,1,23],[0,24,1,27],[1,42,1,49],[0,12,1,16],[0,18,1,19],[0,20,1,21],[8,0,8,3],[9,0,9,3],[20,0,22,0],[19,4,19,6],[8,4,8,6],[14,4,14,6],[9,4,9,6],[10,4,10,6],[11,4,11,6],[12,4,12,6],[10,0,10,3],[11,0,11,3],[12,0,12,3],[19,0,19,3],[16,0,16,3],[17,0,17,3],[18,0,18,3],[13,0,13,3],[14,0,14,3],[15,0,15,3],[13,4,13,6],[15,4,15,6],[16,4,16,6],[17,4,17,6],[18,4,18,6]]}
[null,"Vereinigung Cerebral Schweiz",null,"Association régionale :",null,{"$f":"'a.) Employé+résumé'!L1","v":0}]
[null,"Association Cerebral Suisse",null,"Mail",null,{"$f":"'a.) Employé+résumé'!AD1","v":0}]
[null,"Associazione Cerebral Svizzera",null,"Tel. :",null,{"$f":"'a.) Employé+résumé'!AD2","v":0}]
[null,null,null,"Editeur/trice :",null,{"$f":"Nom","v":0}]
[]
[]
[]
["Désignation ",null,null,null,"Indication ",null,null,"Valeur"]
["Nombre total d'equivalents plein temps (EPT) \ndes collaborateurs engagés dans toute l'organisation",null,null,null,null,null,null,{"$f":"'a.) Employé+résumé'!AR29/1900","v":0}]
["Nombre d'EPT des collaborateurs engagés dans l'exploitation ",null,null,null,"au sens de l'art. 74 LAI",null,null,{"$f":"'a.) Employé+résumé'!AJ29/1900","v":0}]
["Nombre total d'EPT des bénévoles actifs dans toute l'organisation  ",null,null,null,"estimation\n",null,null,{"$f":"'a.) Employé+résumé'!AR41/1900","v":0}]
["Nombre d’EPT des bénévoles actifs dans l’exploitation",null,null,null,"au sens de l'art. 74 LAI\n",null,null,{"$f":"'a.) Employé+résumé'!AJ41/1900","v":0}]
["Nombre total d’EPT des personnes actives à titre honorifique \ndans toute l’organisation",null,null,null,"estimation\n",null,null,{"$f":"'a.) Employé+résumé'!AR38/1900","v":0}]
["Nombre d’EPT des personnes actives à titre honorifique dans l’exploitation",null,null,null,"au sens de l'art. 74 LAI\n",null,null,{"$f":"'a.) Employé+résumé'!AJ38/1900","v":0}]
["Substrat du capital relatif à l’art. 74 LAI"]
["Total des charges sous l’angle de la comptabilité financière (CF)",null,null,null,"CA sous-traitant cellule B11"]
["Coûts complets de l’exploitation au sens de l’art. 74 LAI \naprès répartition",null,null,null,"CA sous-traitant cellule W16\n"]
["Subvention AI",null,null,null,"CA sous-traitant cellule W18\n"]
["Contribution de couverture de l’AI ",null,null,null,"CA sous-traitant cellule W28\n"]
["Facteur (B10/B12)",null,null,null,null,null,null,{"$f":"IF(H17=0,0,H15/H17)","v":0}]
[]
[]
[]
[null,"VERTRAG_NR","PERIODE_ID","BSV_NR","FELD",null,null,"WERT"]
[null,{"$f":"#REF!","v":{"$error":"#REF!"}},{"$f":"#REF!","v":{"$error":"#REF!"}},{"$f":"#REF!","v":{"$error":"#REF!"}},"ANZ_MITARBEITER",null,null,{"$f":"IF(ISBLANK(B9),\"\",B9)","v":""}]
[null,{"$f":"#REF!","v":{"$error":"#REF!"}},{"$f":"#REF!","v":{"$error":"#REF!"}},{"$f":"#REF!","v":{"$error":"#REF!"}},"ANZ_MITARBEITER_BEHINDERT",null,null,""]
[null,{"$f":"#REF!","v":{"$error":"#REF!"}},{"$f":"#REF!","v":{"$error":"#REF!"}},{"$f":"#REF!","v":{"$error":"#REF!"}},"ANZ_MITARBEITER_FREIWILLIG",null,null,""]
[null,{"$f":"#REF!","v":{"$error":"#REF!"}},{"$f":"#REF!","v":{"$error":"#REF!"}},{"$f":"#REF!","v":{"$error":"#REF!"}},"ANZ_MA_FREIWILLIG_BEHINDERT",null,null,""]
[null,{"$f":"#REF!","v":{"$error":"#REF!"}},{"$f":"#REF!","v":{"$error":"#REF!"}},{"$f":"#REF!","v":{"$error":"#REF!"}},"ANZ_MITARBEITER_EHRENAMTLICH",null,null,""]
[null,{"$f":"#REF!","v":{"$error":"#REF!"}},{"$f":"#REF!","v":{"$error":"#REF!"}},{"$f":"#REF!","v":{"$error":"#REF!"}},"ANZ_MA_EHRENAMTLICH_BEHINDERT",null,null,""]
[null,{"$f":"#REF!","v":{"$error":"#REF!"}},{"$f":"#REF!","v":{"$error":"#REF!"}},{"$f":"#REF!","v":{"$error":"#REF!"}},"PERSONALAUFWAND",null,null,""]
[null,{"$f":"#REF!","v":{"$error":"#REF!"}},{"$f":"#REF!","v":{"$error":"#REF!"}},{"$f":"#REF!","v":{"$error":"#REF!"}},"BETRIEBSAUFWAND",null,null,""]
[null,{"$f":"#REF!","v":{"$error":"#REF!"}},{"$f":"#REF!","v":{"$error":"#REF!"}},{"$f":"#REF!","v":{"$error":"#REF!"}},"BETRIEBSERTRAG",null,null,""]
[null,{"$f":"#REF!","v":{"$error":"#REF!"}},{"$f":"#REF!","v":{"$error":"#REF!"}},{"$f":"#REF!","v":{"$error":"#REF!"}},"BEITRAG_IV",null,null,""]
[null,{"$f":"#REF!","v":{"$error":"#REF!"}},{"$f":"#REF!","v":{"$error":"#REF!"}},{"$f":"#REF!","v":{"$error":"#REF!"}},"BEITRAG_AHV",null,null,""]
[null,{"$f":"#REF!","v":{"$error":"#REF!"}},{"$f":"#REF!","v":{"$error":"#REF!"}},{"$f":"#REF!","v":{"$error":"#REF!"}},"ANZ_MITARBEITER",null,null,{"$f":"IF(ISBLANK(C9),\"\",C9)","v":""}]
[null,{"$f":"#REF!","v":{"$error":"#REF!"}},{"$f":"#REF!","v":{"$error":"#REF!"}},{"$f":"#REF!","v":{"$error":"#REF!"}},"ANZ_MITARBEITER_BEHINDERT",null,null,""]
[null,{"$f":"#REF!","v":{"$error":"#REF!"}},{"$f":"#REF!","v":{"$error":"#REF!"}},{"$f":"#REF!","v":{"$error":"#REF!"}},"ANZ_MITARBEITER_FREIWILLIG",null,null,""]
[null,{"$f":"#REF!","v":{"$error":"#REF!"}},{"$f":"#REF!","v":{"$error":"#REF!"}},{"$f":"#REF!","v":{"$error":"#REF!"}},"ANZ_MA_FREIWILLIG_BEHINDERT",null,null,""]
[null,{"$f":"#REF!","v":{"$error":"#REF!"}},{"$f":"#REF!","v":{"$error":"#REF!"}},{"$f":"#REF!","v":{"$error":"#REF!"}},"ANZ_MITARBEITER_EHRENAMTLICH",null,null,""]
[null,{"$f":"#REF!","v":{"$error":"#REF!"}},{"$f":"#REF!","v":{"$error":"#REF!"}},{"$f":"#REF!","v":{"$error":"#REF!"}},"ANZ_MA_EHRENAMTLICH_BEHINDERT",null,null,""]
[null,{"$f":"#REF!","v":{"$error":"#REF!"}},{"$f":"#REF!","v":{"$error":"#REF!"}},{"$f":"#REF!","v":{"$error":"#REF!"}},"PERSONALAUFWAND",null,null,""]
[null,{"$f":"#REF!","v":{"$error":"#REF!"}},{"$f":"#REF!","v":{"$error":"#REF!"}},{"$f":"#REF!","v":{"$error":"#REF!"}},"BETRIEBSAUFWAND",null,null,""]
[null,{"$f":"#REF!","v":{"$error":"#REF!"}},{"$f":"#REF!","v":{"$error":"#REF!"}},{"$f":"#REF!","v":{"$error":"#REF!"}},"BETRIEBSERTRAG",null,null,""]
[null,{"$f":"#REF!","v":{"$error":"#REF!"}},{"$f":"#REF!","v":{"$error":"#REF!"}},{"$f":"#REF!","v":{"$error":"#REF!"}},"BEITRAG_IV",null,null,""]
[null,{"$f":"#REF!","v":{"$error":"#REF!"}},{"$f":"#REF!","v":{"$error":"#REF!"}},{"$f":"#REF!","v":{"$error":"#REF!"}},"BEITRAG_AHV",null,null,""]
[null,{"$f":"#REF!","v":{"$error":"#REF!"}},{"$f":"#REF!","v":{"$error":"#REF!"}},{"$f":"#REF!","v":{"$error":"#REF!"}},"ANZ_MITARBEITER",null,null,{"$f":"IF(ISBLANK(#REF!),\"\",#REF!)","v":{"$error":"#REF!"}}]
[null,{"$f":"#REF!","v":{"$error":"#REF!"}},{"$f":"#REF!","v":{"$error":"#REF!"}},{"$f":"#REF!","v":{"$error":"#REF!"}},"ANZ_MITARBEITER_BEHINDERT",null,null,{"$f":"IF(ISBLANK(#REF!),\"\",#REF!)","v":{"$error":"#REF!"}}]
[null,{"$f":"#REF!","v":{"$error":"#REF!"}},{"$f":"#REF!","v":{"$error":"#REF!"}},{"$f":"#REF!","v":{"$error":"#REF!"}},"ANZ_MITARBEITER_FREIWILLIG",null,null,{"$f":"IF(ISBLANK(#REF!),\"\",#REF!)","v":{"$error":"#REF!"}}]
[null,{"$f":"#REF!","v":{"$error":"#REF!"}},{"$f":"#REF!","v":{"$error":"#REF!"}},{"$f":"#REF!","v":{"$error":"#REF!"}},"ANZ_MA_FREIWILLIG_BEHINDERT",null,null,{"$f":"IF(ISBLANK(#REF!),\"\",#REF!)","v":{"$error":"#REF!"}}]
[null,{"$f":"#REF!","v":{"$error":"#REF!"}},{"$f":"#REF!","v":{"$error":"#REF!"}},{"$f":"#REF!","v":{"$error":"#REF!"}},"ANZ_MITARBEITER_EHRENAMTLICH",null,null,{"$f":"IF(ISBLANK(#REF!),\"\",#REF!)","v":{"$error":"#REF!"}}]
[null,{"$f":"#REF!","v":{"$error":"#REF!"}},{"$f":"#REF!","v":{"$error":"#REF!"}},{"$f":"#REF!","v":{"$error":"#REF!"}},"ANZ_MA_EHRENAMTLICH_BEHINDERT",null,null,{"$f":"IF(ISBLANK(#REF!),\"\",#REF!)","v":{"$error":"#REF!"}}]
[null,{"$f":"#REF!","v":{"$error":"#REF!"}},{"$f":"#REF!","v":{"$error":"#REF!"}},{"$f":"#REF!","v":{"$error":"#REF!"}},"PERSONALAUFWAND",null,null,{"$f":"IF(ISBLANK(#REF!),\"\",#REF!)","v":{"$error":"#REF!"}}]
[null,{"$f":"#REF!","v":{"$error":"#REF!"}},{"$f":"#REF!","v":{"$error":"#REF!"}},{"$f":"#REF!","v":{"$error":"#REF!"}},"BETRIEBSAUFWAND",null,null,{"$f":"IF(ISBLANK(#REF!),\"\",#REF!)","v":{"$error":"#REF!"}}]
[null,{"$f":"#REF!","v":{"$error":"#REF!"}},{"$f":"#REF!","v":{"$error":"#REF!"}},{"$f":"#REF!","v":{"$error":"#REF!"}},"BETRIEBSERTRAG",null,null,{"$f":"IF(ISBLANK(#REF!),\"\",#REF!)","v":{"$error":"#REF!"}}]
[null,{"$f":"#REF!","v":{"$error":"#REF!"}},{"$f":"#REF!","v":{"$error":"#REF!"}},{"$f":"#REF!","v":{"$error":"#REF!"}},"BEITRAG_IV",null,null,{"$f":"IF(ISBLANK(#REF!),\"\",#REF!)","v":{"$error":"#REF!"}}]
[null,{"$f":"#REF!","v":{"$error":"#REF!"}},{"$f":"#REF!","v":{"$error":"#REF!"}},{"$f":"#REF!","v":{"$error":"#REF!"}},"BEITRAG_AHV",null,null,{"$f":"IF(ISBLANK(#REF!),\"\",#REF!)","v":{"$error":"#REF!"}}]
[null,{"$f":"#REF!","v":{"$error":"#REF!"}},{"$f":"#REF!","v":{"$error":"#REF!"}},{"$f":"#REF!","v":{"$error":"#REF!"}},"ANZ_MITARBEITER",null,null,{"$f":"IF(ISBLANK(D9),\"\",D9)","v":""}]
[null,{"$f":"#REF!","v":{"$error":"#REF!"}},{"$f":"#REF!","v":{"$error":"#REF!"}},{"$f":"#REF!","v":{"$error":"#REF!"}},"ANZ_MITARBEITER_BEHINDERT",null,null,""]
[null,{"$f":"#REF!","v":{"$error":"#REF!"}},{"$f":"#REF!","v":{"$error":"#REF!"}},{"$f":"#REF!","v":{"$error":"#REF!"}},"ANZ_MITARBEITER_FREIWILLIG",null,null,""]
[null,{"$f":"#REF!","v":{"$error":"#REF!"}},{"$f":"#REF!","v":{"$error":"#REF!"}},{"$f":"#REF!","v":{"$error":"#REF!"}},"ANZ_MA_FREIWILLIG_BEHINDERT",null,null,""]
[null,{"$f":"#REF!","v":{"$error":"#REF!"}},{"$f":"#REF!","v":{"$error":"#REF!"}},{"$f":"#REF!","v":{"$error":"#REF!"}},"ANZ_MITARBEITER_EHRENAMTLICH",null,null,""]
[null,{"$f":"#REF!","v":{"$error":"#REF!"}},{"$f":"#REF!","v":{"$error":"#REF!"}},{"$f":"#REF!","v":{"$error":"#REF!"}},"ANZ_MA_EHRENAMTLICH_BEHINDERT",null,null,""]
[null,{"$f":"#REF!","v":{"$error":"#REF!"}},{"$f":"#REF!","v":{"$error":"#REF!"}},{"$f":"#REF!","v":{"$error":"#REF!"}},"PERSONALAUFWAND",null,null,""]
[null,{"$f":"#REF!","v":{"$error":"#REF!"}},{"$f":"#REF!","v":{"$error":"#REF!"}},{"$f":"#REF!","v":{"$error":"#REF!"}},"BETRIEBSAUFWAND",null,null,""]
[null,{"$f":"#REF!","v":{"$error":"#REF!"}},{"$f":"#REF!","v":{"$error":"#REF!"}},{"$f":"#REF!","v":{"$error":"#REF!"}},"BETRIEBSERTRAG",null,null,""]
[null,{"$f":"#REF!","v":{"$error":"#REF!"}},{"$f":"#REF!","v":{"$error":"#REF!"}},{"$f":"#REF!","v":{"$error":"#REF!"}},"BEITRAG_IV",null,null,""]
[null,{"$f":"#REF!","v":{"$error":"#REF!"}},{"$f":"#REF!","v":{"$error":"#REF!"}},{"$f":"#REF!","v":{"$error":"#REF!"}},"BEITRAG_AHV",null,null,""]
[null,{"$f":"#REF!","v":{"$error":"#REF!"}},{"$f":"#REF!","v":{"$error":"#REF!"}},{"$f":"#REF!","v":{"$error":"#REF!"}},"ANZ_MITARBEITER",null,null,{"$f":"IF(ISBLANK(#REF!),\"\",#REF!)","v":{"$error":"#REF!"}}]
[null,{"$f":"#REF!","v":{"$error":"#REF!"}},{"$f":"#REF!","v":{"$error":"#REF!"}},{"$f":"#REF!","v":{"$error":"#REF!"}},"ANZ_MITARBEITER_BEHINDERT",null,null,{"$f":"IF(ISBLANK(#REF!),\"\",#REF!)","v":{"$error":"#REF!"}}]
[null,{"$f":"#REF!","v":{"$error":"#REF!"}},{"$f":"#REF!","v":{"$error":"#REF!"}},{"$f":"#REF!","v":{"$error":"#REF!"}},"ANZ_MITARBEITER_FREIWILLIG",null,null,{"$f":"IF(ISBLANK(#REF!),\"\",#REF!)","v":{"$error":"#REF!"}}]
[null,{"$f":"#REF!","v":{"$error":"#REF!"}},{"$f":"#REF!","v":{"$error":"#REF!"}},{"$f":"#REF!","v":{"$error":"#REF!"}},"ANZ_MA_FREIWILLIG_BEHINDERT",null,null,{"$f":"IF(ISBLANK(#REF!),\"\",#REF!)","v":{"$error":"#REF!"}}]
[null,{"$f":"#REF!","v":{"$error":"#REF!"}},{"$f":"#REF!","v":{"$error":"#REF!"}},{"$f":"#REF!","v":{"$error":"#REF!"}},"ANZ_MITARBEITER_EHRENAMTLICH",null,null,{"$f":"IF(ISBLANK(#REF!),\"\",#REF!)","v":{"$error":"#REF!"}}]
[null,{"$f":"#REF!","v":{"$error":"#REF!"}},{"$f":"#REF!","v":{"$error":"#REF!"}},{"$f":"#REF!","v":{"$error":"#REF!"}},"ANZ_MA_EHRENAMTLICH_BEHINDERT",null,null,{"$f":"IF(ISBLANK(#REF!),\"\",#REF!)","v":{"$error":"#REF!"}}]
[null,{"$f":"#REF!","v":{"$error":"#REF!"}},{"$f":"#REF!","v":{"$error":"#REF!"}},{"$f":"#REF!","v":{"$error":"#REF!"}},"PERSONALAUFWAND",null,null,{"$f":"IF(ISBLANK(#REF!),\"\",#REF!)","v":{"$error":"#REF!"}}]
[null,{"$f":"#REF!","v":{"$error":"#REF!"}},{"$f":"#REF!","v":{"$error":"#REF!"}},{"$f":"#REF!","v":{"$error":"#REF!"}},"BETRIEBSAUFWAND",null,null,{"$f":"IF(ISBLANK(#REF!),\"\",#REF!)","v":{"$error":"#REF!"}}]
[null,{"$f":"#REF!","v":{"$error":"#REF!"}},{"$f":"#REF!","v":{"$error":"#REF!"}},{"$f":"#REF!","v":{"$error":"#REF!"}},"BETRIEBSERTRAG",null,null,{"$f":"IF(ISBLANK(#REF!),\"\",#REF!)","v":{"$error":"#REF!"}}]
[null,{"$f":"#REF!","v":{"$error":"#REF!"}},{"$f":"#REF!","v":{"$error":"#REF!"}},{"$f":"#REF!","v":{"$error":"#REF!"}},"BEITRAG_IV",null,null,{"$f":"IF(ISBLANK(#REF!),\"\",#REF!)","v":{"$error":"#REF!"}}]
[null,{"$f":"#REF!","v":{"$error":"#REF!"}},{"$f":"#REF!","v":{"$error":"#REF!"}},{"$f":"#REF!","v":{"$error":"#REF!"}},"BEITRAG_AHV",null,null,{"$f":"IF(ISBLANK(#REF!),\"\",#REF!)","v":{"$error":"#REF!"}}]
[null,{"$f":"#REF!","v":{"$error":"#REF!"}},{"$f":"#REF!","v":{"$error":"#REF!"}},{"$f":"#REF!","v":{"$error":"#REF!"}},"ANZ_MITARBEITER",null,null,{"$f":"IF(ISBLANK(E9),\"\",E9)","v":""}]
[null,{"$f":"#REF!","v":{"$error":"#REF!"}},{"$f":"#REF!","v":{"$error":"#REF!"}},{"$f":"#REF!","v":{"$error":"#REF!"}},"ANZ_MITARBEITER_BEHINDERT",null,null,"au sens de l'art. 74 LAI"]
[null,{"$f":"#REF!","v":{"$error":"#REF!"}},{"$f":"#REF!","v":{"$error":"#REF!"}},{"$f":"#REF!","v":{"$error":"#REF!"}},"ANZ_MITARBEITER_FREIWILLIG",null,null,"estimation\n"]
[null,{"$f":"#REF!","v":{"$error":"#REF!"}},{"$f":"#REF!","v":{"$error":"#REF!"}},{"$f":"#REF!","v":{"$error":"#REF!"}},"ANZ_MA_FREIWILLIG_BEHINDERT",null,null,"au sens de l'art. 74 LAI\n"]
[null,{"$f":"#REF!","v":{"$error":"#REF!"}},{"$f":"#REF!","v":{"$error":"#REF!"}},{"$f":"#REF!","v":{"$error":"#REF!"}},"ANZ_MITARBEITER_EHRENAMTLICH",null,null,"estimation\n"]
[null,{"$f":"#REF!","v":{"$error":"#REF!"}},{"$f":"#REF!","v":{"$error":"#REF!"}},{"$f":"#REF!","v":{"$error":"#REF!"}},"ANZ_MA_EHRENAMTLICH_BEHINDERT",null,null,"au sens de l'art. 74 LAI\n"]
[null,{"$f":"#REF!","v":{"$error":"#REF!"}},{"$f":"#REF!","v":{"$error":"#REF!"}},{"$f":"#REF!","v":{"$error":"#REF!"}},"PERSONALAUFWAND",null,null,""]
[null,{"$f":"#REF!","v":{"$error":"#REF!"}},{"$f":"#REF!","v":{"$error":"#REF!"}},{"$f":"#REF!","v":{"$error":"#REF!"}},"BETRIEBSAUFWAND",null,null,"CA sous-traitant cellule B11"]
[null,{"$f":"#REF!","v":{"$error":"#REF!"}},{"$f":"#REF!","v":{"$error":"#REF!"}},{"$f":"#REF!","v":{"$error":"#REF!"}},"BETRIEBSERTRAG",null,null,"CA sous-traitant cellule W16\n"]
[null,{"$f":"#REF!","v":{"$error":"#REF!"}},{"$f":"#REF!","v":{"$error":"#REF!"}},{"$f":"#REF!","v":{"$error":"#REF!"}},"BEITRAG_IV",null,null,"CA sous-traitant cellule W18\n"]
[null,{"$f":"#REF!","v":{"$error":"#REF!"}},{"$f":"#REF!","v":{"$error":"#REF!"}},{"$f":"#REF!","v":{"$error":"#REF!"}},"BEITRAG_AHV",null,null,"CA sous-traitant cellule W28\n"]
[null,{"$f":"#REF!","v":{"$error":"#REF!"}},{"$f":"#REF!","v":{"$error":"#REF!"}},{"$f":"#REF!","v":{"$error":"#REF!"}},"ANZ_MITARBEITER",null,null,{"$f":"IF(ISBLANK(H9),\"\",H9)","v":0}]
[null,{"$f":"#REF!","v":{"$error":"#REF!"}},{"$f":"#REF!","v":{"$error":"#REF!"}},{"$f":"#REF!","v":{"$error":"#REF!"}},"ANZ_MITARBEITER_BEHINDERT",null,null,0]
[null,{"$f":"#REF!","v":{"$error":"#REF!"}},{"$f":"#REF!","v":{"$error":"#REF!"}},{"$f":"#REF!","v":{"$error":"#REF!"}},"ANZ_MITARBEITER_FREIWILLIG",null,null,0]
[null,{"$f":"#REF!","v":{"$error":"#REF!"}},{"$f":"#REF!","v":{"$error":"#REF!"}},{"$f":"#REF!","v":{"$error":"#REF!"}},"ANZ_MA_FREIWILLIG_BEHINDERT",null,null,0]
[null,{"$f":"#REF!","v":{"$error":"#REF!"}},{"$f":"#REF!","v":{"$error":"#REF!"}},{"$f":"#REF!","v":{"$error":"#REF!"}},"ANZ_MITARBEITER_EHRENAMTLICH",null,null,0]
[null,{"$f":"#REF!","v":{"$error":"#REF!"}},{"$f":"#REF!","v":{"$error":"#REF!"}},{"$f":"#REF!","v":{"$error":"#REF!"}},"ANZ_MA_EHRENAMTLICH_BEHINDERT",null,null,0]
[null,{"$f":"#REF!","v":{"$error":"#REF!"}},{"$f":"#REF!","v":{"$error":"#REF!"}},{"$f":"#REF!","v":{"$error":"#REF!"}},"PERSONALAUFWAND",null,null,""]
[null,{"$f":"#REF!","v":{"$error":"#REF!"}},{"$f":"#REF!","v":{"$error":"#REF!"}},{"$f":"#REF!","v":{"$error":"#REF!"}},"BETRIEBSAUFWAND",null,null,""]
[null,{"$f":"#REF!","v":{"$error":"#REF!"}},{"$f":"#REF!","v":{"$error":"#REF!"}},{"$f":"#REF!","v":{"$error":"#REF!"}},"BETRIEBSERTRAG",null,null,""]
[null,{"$f":"#REF!","v":{"$error":"#REF!"}},{"$f":"#REF!","v":{"$error":"#REF!"}},{"$f":"#REF!","v":{"$error":"#REF!"}},"BEITRAG_IV",null,null,""]
[null,{"$f":"#REF!","v":{"$error":"#REF!"}},{"$f":"#REF!","v":{"$error":"#REF!"}},{"$f":"#REF!","v":{"$error":"#REF!"}},"BEITRAG_AHV",null,null,""]
[null,{"$f":"#REF!","v":{"$error":"#REF!"}},{"$f":"#REF!","v":{"$error":"#REF!"}},{"$f":"#REF!","v":{"$error":"#REF!"}},"ANZ_MITARBEITER",null,null,{"$f":"IF(ISBLANK(#REF!),\"\",#REF!)","v":{"$error":"#REF!"}}]
[null,{"$f":"#REF!","v":{"$error":"#REF!"}},{"$f":"#REF!","v":{"$error":"#REF!"}},{"$f":"#REF!","v":{"$error":"#REF!"}},"ANZ_MITARBEITER_BEHINDERT",null,null,{"$f":"IF(ISBLANK(#REF!),\"\",#REF!)","v":{"$error":"#REF!"}}]
[null,{"$f":"#REF!","v":{"$error":"#REF!"}},{"$f":"#REF!","v":{"$error":"#REF!"}},{"$f":"#REF!","v":{"$error":"#REF!"}},"ANZ_MITARBEITER_FREIWILLIG",null,null,{"$f":"IF(ISBLANK(#REF!),\"\",#REF!)","v":{"$error":"#REF!"}}]
[null,{"$f":"#REF!","v":{"$error":"#REF!"}},{"$f":"#REF!","v":{"$error":"#REF!"}},{"$f":"#REF!","v":{"$error":"#REF!"}},"ANZ_MA_FREIWILLIG_BEHINDERT",null,null,{"$f":"IF(ISBLANK(#REF!),\"\",#REF!)","v":{"$error":"#REF!"}}]
[null,{"$f":"#REF!","v":{"$error":"#REF!"}},{"$f":"#REF!","v":{"$error":"#REF!"}},{"$f":"#REF!","v":{"$error":"#REF!"}},"ANZ_MITARBEITER_EHRENAMTLICH",null,null,{"$f":"IF(ISBLANK(#REF!),\"\",#REF!)","v":{"$error":"#REF!"}}]
[null,{"$f":"#REF!","v":{"$error":"#REF!"}},{"$f":"#REF!","v":{"$error":"#REF!"}},{"$f":"#REF!","v":{"$error":"#REF!"}},"ANZ_MA_EHRENAMTLICH_BEHINDERT",null,null,{"$f":"IF(ISBLANK(#REF!),\"\",#REF!)","v":{"$error":"#REF!"}}]
[null,{"$f":"#REF!","v":{"$error":"#REF!"}},{"$f":"#REF!","v":{"$error":"#REF!"}},{"$f":"#REF!","v":{"$error":"#REF!"}},"PERSONALAUFWAND",null,null,{"$f":"IF(ISBLANK(#REF!),\"\",#REF!)","v":{"$error":"#REF!"}}]
[null,{"$f":"#REF!","v":{"$error":"#REF!"}},{"$f":"#REF!","v":{"$error":"#REF!"}},{"$f":"#REF!","v":{"$error":"#REF!"}},"BETRIEBSAUFWAND",null,null,{"$f":"IF(ISBLANK(#REF!),\"\",#REF!)","v":{"$error":"#REF!"}}]
[null,{"$f":"#REF!","v":{"$error":"#REF!"}},{"$f":"#REF!","v":{"$error":"#REF!"}},{"$f":"#REF!","v":{"$error":"#REF!"}},"BETRIEBSERTRAG",null,null,{"$f":"IF(ISBLANK(#REF!),\"\",#REF!)","v":{"$error":"#REF!"}}]
[null,{"$f":"#REF!","v":{"$error":"#REF!"}},{"$f":"#REF!","v":{"$error":"#REF!"}},{"$f":"#REF!","v":{"$error":"#REF!"}},"BEITRAG_IV",null,null,{"$f":"IF(ISBLANK(#REF!),\"\",#REF!)","v":{"$error":"#REF!"}}]
[null,{"$f":"#REF!","v":{"$error":"#REF!"}},{"$f":"#REF!","v":{"$error":"#REF!"}},{"$f":"#REF!","v":{"$error":"#REF!"}},"BEITRAG_AHV",null,null,{"$f":"IF(ISBLANK(#REF!),\"\",#REF!)","v":{"$error":"#REF!"}}]
[null,{"$f":"#REF!","v":{"$error":"#REF!"}},{"$f":"#REF!","v":{"$error":"#REF!"}},{"$f":"#REF!","v":{"$error":"#REF!"}},"ANZ_MITARBEITER",null,null,{"$f":"IF(ISBLANK(#REF!),\"\",#REF!)","v":{"$error":"#REF!"}}]
[null,{"$f":"#REF!","v":{"$error":"#REF!"}},{"$f":"#REF!","v":{"$error":"#REF!"}},{"$f":"#REF!","v":{"$error":"#REF!"}},"ANZ_MITARBEITER_BEHINDERT",null,null,{"$f":"IF(ISBLANK(#REF!),\"\",#REF!)","v":{"$error":"#REF!"}}]
[null,{"$f":"#REF!","v":{"$error":"#REF!"}},{"$f":"#REF!","v":{"$error":"#REF!"}},{"$f":"#REF!","v":{"$error":"#REF!"}},"ANZ_MITARBEITER_FREIWILLIG",null,null,{"$f":"IF(ISBLANK(#REF!),\"\",#REF!)","v":{"$error":"#REF!"}}]
[null,{"$f":"#REF!","v":{"$error":"#REF!"}},{"$f":"#REF!","v":{"$error":"#REF!"}},{"$f":"#REF!","v":{"$error":"#REF!"}},"ANZ_MA_FREIWILLIG_BEHINDERT",null,null,{"$f":"IF(ISBLANK(#REF!),\"\",#REF!)","v":{"$error":"#REF!"}}]
[null,{"$f":"#REF!","v":{"$error":"#REF!"}},{"$f":"#REF!","v":{"$error":"#REF!"}},{"$f":"#REF!","v":{"$error":"#REF!"}},"ANZ_MITARBEITER_EHRENAMTLICH",null,null,{"$f":"IF(ISBLANK(#REF!),\"\",#REF!)","v":{"$error":"#REF!"}}]
[null,{"$f":"#REF!","v":{"$error":"#REF!"}},{"$f":"#REF!","v":{"$error":"#REF!"}},{"$f":"#REF!","v":{"$error":"#REF!"}},"ANZ_MA_EHRENAMTLICH_BEHINDERT",null,null,{"$f":"IF(ISBLANK(#REF!),\"\",#REF!)","v":{"$error":"#REF!"}}]
[null,{"$f":"#REF!","v":{"$error":"#REF!"}},{"$f":"#REF!","v":{"$error":"#REF!"}},{"$f":"#REF!","v":{"$error":"#REF!"}},"PERSONALAUFWAND",null,null,{"$f":"IF(ISBLANK(#REF!),\"\",#REF!)","v":{"$error":"#REF!"}}]
[null,{"$f":"#REF!","v":{"$error":"#REF!"}},{"$f":"#REF!","v":{"$error":"#REF!"}},{"$f":"#REF!","v":{"$error":"#REF!"}},"BETRIEBSAUFWAND",null,null,{"$f":"IF(ISBLANK(#REF!),\"\",#REF!)","v":{"$error":"#REF!"}}]
[null,{"$f":"#REF!","v":{"$error":"#REF!"}},{"$f":"#REF!","v":{"$error":"#REF!"}},{"$f":"#REF!","v":{"$error":"#REF!"}},"BETRIEBSERTRAG",null,null,{"$f":"IF(ISBLANK(#REF!),\"\",#REF!)","v":{"$error":"#REF!"}}]
[null,{"$f":"#REF!","v":{"$error":"#REF!"}},{"$f":"#REF!","v":{"$error":"#REF!"}},{"$f":"#REF!","v":{"$error":"#REF!"}},"BEITRAG_IV",null,null,{"$f":"IF(ISBLANK(#REF!),\"\",#REF!)","v":{"$error":"#REF!"}}]
[null,{"$f":"#REF!","v":{"$error":"#REF!"}},{"$f":"#REF!","v":{"$error":"#REF!"}},{"$f":"#REF!","v":{"$error":"#REF!"}},"BEITRAG_AHV",null,null,{"$f":"IF(ISBLANK(#REF!),\"\",#REF!)","v":{"$error":"#REF!"}}]
[null,{"$f":"#REF!","v":{"$error":"#REF!"}},{"$f":"#REF!","v":{"$error":"#REF!"}},{"$f":"#REF!","v":{"$error":"#REF!"}},"ANZ_MITARBEITER",null,null,{"$f":"IF(ISBLANK(#REF!),\"\",#REF!)","v":{"$error":"#REF!"}}]
[null,{"$f":"#REF!","v":{"$error":"#REF!"}},{"$f":"#REF!","v":{"$error":"#REF!"}},{"$f":"#REF!","v":{"$error":"#REF!"}},"ANZ_MITARBEITER_BEHINDERT",null,null,{"$f":"IF(ISBLANK(#REF!),\"\",#REF!)","v":{"$error":"#REF!"}}]
[null,{"$f":"#REF!","v":{"$error":"#REF!"}},{"$f":"#REF!","v":{"$error":"#REF!"}},{"$f":"#REF!","v":{"$error":"#REF!"}},"ANZ_MITARBEITER_FREIWILLIG",null,null,{"$f":"IF(ISBLANK(#REF!),\"\",#REF!)","v":{"$error":"#REF!"}}]
[null,{"$f":"#REF!","v":{"$error":"#REF!"}},{"$f":"#REF!","v":{"$error":"#REF!"}},{"$f":"#REF!","v":{"$error":"#REF!"}},"ANZ_MA_FREIWILLIG_BEHINDERT",null,null,{"$f":"IF(ISBLANK(#REF!),\"\",#REF!)","v":{"$error":"#REF!"}}]
[null,{"$f":"#REF!","v":{"$error":"#REF!"}},{"$f":"#REF!","v":{"$error":"#REF!"}},{"$f":"#REF!","v":{"$error":"#REF!"}},"ANZ_MITARBEITER_EHRENAMTLICH",null,null,{"$f":"IF(ISBLANK(#REF!),\"\",#REF!)","v":{"$error":"#REF!"}}]
[null,{"$f":"#REF!","v":{"$error":"#REF!"}},{"$f":"#REF!","v":{"$error":"#REF!"}},{"$f":"#REF!","v":{"$error":"#REF!"}},"ANZ_MA_EHRENAMTLICH_BEHINDERT",null,null,{"$f":"IF(ISBLANK(#REF!),\"\",#REF!)","v":{"$error":"#REF!"}}]
[null,{"$f":"#REF!","v":{"$error":"#REF!"}},{"$f":"#REF!","v":{"$error":"#REF!"}},{"$f":"#REF!","v":{"$error":"#REF!"}},"PERSONALAUFWAND",null,null,{"$f":"IF(ISBLANK(#REF!),\"\",#REF!)","v":{"$error":"#REF!"}}]
[null,{"$f":"#REF!","v":{"$error":"#REF!"}},{"$f":"#REF!","v":{"$error":"#REF!"}},{"$f":"#REF!","v":{"$error":"#REF!"}},"BETRIEBSAUFWAND",null,null,{"$f":"IF(ISBLANK(#REF!),\"\",#REF!)","v":{"$error":"#REF!"}}]
[null,{"$f":"#REF!","v":{"$error":"#REF!"}},{"$f":"#REF!","v":{"$error":"#REF!"}},{"$f":"#REF!","v":{"$error":"#REF!"}},"BETRIEBSERTRAG",null,null,{"$f":"IF(ISBLANK(#REF!),\"\",#REF!)","v":{"$error":"#REF!"}}]
[null,{"$f":"#REF!","v":{"$error":"#REF!"}},{"$f":"#REF!","v":{"$error":"#REF!"}},{"$f":"#REF!","v":{"$error":"#REF!"}},"BEITRAG_IV",null,null,{"$f":"IF(ISBLANK(#REF!),\"\",#REF!)","v":{"$error":"#REF!"}}]
[null,{"$f":"#REF!","v":{"$error":"#REF!"}},{"$f":"#REF!","v":{"$error":"#REF!"}},{"$f":"#REF!","v":{"$error":"#REF!"}},"BEITRAG_AHV",null,null,{"$f":"IF(ISBLANK(#REF!),\"\",#REF!)","v":{"$error":"#REF!"}}]
[null,{"$f":"#REF!","v":{"$error":"#REF!"}},{"$f":"#REF!","v":{"$error":"#REF!"}},{"$f":"#REF!","v":{"$error":"#REF!"}},"ANZ_MITARBEITER",null,null,{"$f":"IF(ISBLANK(#REF!),\"\",#REF!)","v":{"$error":"#REF!"}}]
[null,{"$f":"#REF!","v":{"$error":"#REF!"}},{"$f":"#REF!","v":{"$error":"#REF!"}},{"$f":"#REF!","v":{"$error":"#REF!"}},"ANZ_MITARBEITER_BEHINDERT",null,null,{"$f":"IF(ISBLANK(#REF!),\"\",#REF!)","v":{"$error":"#REF!"}}]
[null,{"$f":"#REF!","v":{"$error":"#REF!"}},{"$f":"#REF!","v":{"$error":"#REF!"}},{"$f":"#REF!","v":{"$error":"#REF!"}},"ANZ_MITARBEITER_FREIWILLIG",null,null,{"$f":"IF(ISBLANK(#REF!),\"\",#REF!)","v":{"$error":"#REF!"}}]
[null,{"$f":"#REF!","v":{"$error":"#REF!"}},{"$f":"#REF!","v":{"$error":"#REF!"}},{"$f":"#REF!","v":{"$error":"#REF!"}},"ANZ_MA_FREIWILLIG_BEHINDERT",null,null,{"$f":"IF(ISBLANK(#REF!),\"\",#REF!)","v":{"$error":"#REF!"}}]
[null,{"$f":"#REF!","v":{"$error":"#REF!"}},{"$f":"#REF!","v":{"$error":"#REF!"}},{"$f":"#REF!","v":{"$error":"#REF!"}},"ANZ_MITARBEITER_EHRENAMTLICH",null,null,{"$f":"IF(ISBLANK(#REF!),\"\",#REF!)","v":{"$error":"#REF!"}}]
[null,{"$f":"#REF!","v":{"$error":"#REF!"}},{"$f":"#REF!","v":{"$error":"#REF!"}},{"$f":"#REF!","v":{"$error":"#REF!"}},"ANZ_MA_EHRENAMTLICH_BEHINDERT",null,null,{"$f":"IF(ISBLANK(#REF!),\"\",#REF!)","v":{"$error":"#REF!"}}]
[null,{"$f":"#REF!","v":{"$error":"#REF!"}},{"$f":"#REF!","v":{"$error":"#REF!"}},{"$f":"#REF!","v":{"$error":"#REF!"}},"PERSONALAUFWAND",null,null,{"$f":"IF(ISBLANK(#REF!),\"\",#REF!)","v":{"$error":"#REF!"}}]
[null,{"$f":"#REF!","v":{"$error":"#REF!"}},{"$f":"#REF!","v":{"$error":"#REF!"}},{"$f":"#REF!","v":{"$error":"#REF!"}},"BETRIEBSAUFWAND",null,null,{"$f":"IF(ISBLANK(#REF!),\"\",#REF!)","v":{"$error":"#REF!"}}]
[null,{"$f":"#REF!","v":{"$error":"#REF!"}},{"$f":"#REF!","v":{"$error":"#REF!"}},{"$f":"#REF!","v":{"$error":"#REF!"}},"BETRIEBSERTRAG",null,null,{"$f":"IF(ISBLANK(#REF!),\"\",#REF!)","v":{"$error":"#REF!"}}]
[null,{"$f":"#REF!","v":{"$error":"#REF!"}},{"$f":"#REF!","v":{"$error":"#REF!"}},{"$f":"#REF!","v":{"$error":"#REF!"}},"BEITRAG_IV",null,null,{"$f":"IF(ISBLANK(#REF!),\"\",#REF!)","v":{"$error":"#REF!"}}]
[null,{"$f":"#REF!","v":{"$error":"#REF!"}},{"$f":"#REF!","v":{"$error":"#REF!"}},{"$f":"#REF!","v":{"$error":"#REF!"}},"BEITRAG_AHV",null,null,{"$f":"IF(ISBLANK(#REF!),\"\",#REF!)","v":{"$error":"#REF!"}}]
[null,{"$f":"#REF!","v":{"$error":"#REF!"}},{"$f":"#REF!","v":{"$error":"#REF!"}},{"$f":"#REF!","v":{"$error":"#REF!"}},"ANZ_MITARBEITER",null,null,{"$f":"IF(ISBLANK(#REF!),\"\",#REF!)","v":{"$error":"#REF!"}}]
[null,{"$f":"#REF!","v":{"$error":"#REF!"}},{"$f":"#REF!","v":{"$error":"#REF!"}},{"$f":"#REF!","v":{"$error":"#REF!"}},"ANZ_MITARBEITER_BEHINDERT",null,null,{"$f":"IF(ISBLANK(#REF!),\"\",#REF!)","v":{"$error":"#REF!"}}]
[null,{"$f":"#REF!","v":{"$error":"#REF!"}},{"$f":"#REF!","v":{"$error":"#REF!"}},{"$f":"#REF!","v":{"$error":"#REF!"}},"ANZ_MITARBEITER_FREIWILLIG",null,null,{"$f":"IF(ISBLANK(#REF!),\"\",#REF!)","v":{"$error":"#REF!"}}]
[null,{"$f":"#REF!","v":{"$error":"#REF!"}},{"$f":"#REF!","v":{"$error":"#REF!"}},{"$f":"#REF!","v":{"$error":"#REF!"}},"ANZ_MA_FREIWILLIG_BEHINDERT",null,null,{"$f":"IF(ISBLANK(#REF!),\"\",#REF!)","v":{"$error":"#REF!"}}]
[null,{"$f":"#REF!","v":{"$error":"#REF!"}},{"$f":"#REF!","v":{"$error":"#REF!"}},{"$f":"#REF!","v":{"$error":"#REF!"}},"ANZ_MITARBEITER_EHRENAMTLICH",null,null,{"$f":"IF(ISBLANK(#REF!),\"\",#REF!)","v":{"$error":"#REF!"}}]
[null,{"$f":"#REF!","v":{"$error":"#REF!"}},{"$f":"#REF!","v":{"$error":"#REF!"}},{"$f":"#REF!","v":{"$error":"#REF!"}},"ANZ_MA_EHRENAMTLICH_BEHINDERT",null,null,{"$f":"IF(ISBLANK(#REF!),\"\",#REF!)","v":{"$error":"#REF!"}}]
[null,{"$f":"#REF!","v":{"$error":"#REF!"}},{"$f":"#REF!","v":{"$error":"#REF!"}},{"$f":"#REF!","v":{"$error":"#REF!"}},"PERSONALAUFWAND",null,null,{"$f":"IF(ISBLANK(#REF!),\"\",#REF!)","v":{"$error":"#REF!"}}]
[null,{"$f":"#REF!","v":{"$error":"#REF!"}},{"$f":"#REF!","v":{"$error":"#REF!"}},{"$f":"#REF!","v":{"$error":"#REF!"}},"BETRIEBSAUFWAND",null,null,{"$f":"IF(ISBLANK(#REF!),\"\",#REF!)","v":{"$error":"#REF!"}}]
[null,{"$f":"#REF!","v":{"$error":"#REF!"}},{"$f":"#REF!","v":{"$error":"#REF!"}},{"$f":"#REF!","v":{"$error":"#REF!"}},"BETRIEBSERTRAG",null,null,{"$f":"IF(ISBLANK(#REF!),\"\",#REF!)","v":{"$error":"#REF!"}}]
[null,{"$f":"#REF!","v":{"$error":"#REF!"}},{"$f":"#REF!","v":{"$error":"#REF!"}},{"$f":"#REF!","v":{"$error":"#REF!"}},"BEITRAG_IV",null,null,{"$f":"IF(ISBLANK(#REF!),\"\",#REF!)","v":{"$error":"#REF!"}}]
[null,{"$f":"#REF!","v":{"$error":"#REF!"}},{"$f":"#REF!","v":{"$error":"#REF!"}},{"$f":"#REF!","v":{"$error":"#REF!"}},"BEITRAG_AHV",null,null,{"$f":"IF(ISBLANK(#REF!),\"\",#REF!)","v":{"$error":"#REF!"}}]
[null,{"$f":"#REF!","v":{"$error":"#REF!"}},{"$f":"#REF!","v":{"$error":"#REF!"}},{"$f":"#REF!","v":{"$error":"#REF!"}},"ANZ_MITARBEITER",null,null,{"$f":"IF(ISBLANK(#REF!),\"\",#REF!)","v":{"$error":"#REF!"}}]
[null,{"$f":"#REF!","v":{"$error":"#REF!"}},{"$f":"#REF!","v":{"$error":"#REF!"}},{"$f":"#REF!","v":{"$error":"#REF!"}},"ANZ_MITARBEITER_BEHINDERT",null,null,{"$f":"IF(ISBLANK(#REF!),\"\",#REF!)","v":{"$error":"#REF!"}}]
[null,{"$f":"#REF!","v":{"$error":"#REF!"}},{"$f":"#REF!","v":{"$error":"#REF!"}},{"$f":"#REF!","v":{"$error":"#REF!"}},"ANZ_MITARBEITER_FREIWILLIG",null,null,{"$f":"IF(ISBLANK(#REF!),\"\",#REF!)","v":{"$error":"#REF!"}}]
[null,{"$f":"#REF!","v":{"$error":"#REF!"}},{"$f":"#REF!","v":{"$error":"#REF!"}},{"$f":"#REF!","v":{"$error":"#REF!"}},"ANZ_MA_FREIWILLIG_BEHINDERT",null,null,{"$f":"IF(ISBLANK(#REF!),\"\",#REF!)","v":{"$error":"#REF!"}}]
[null,{"$f":"#REF!","v":{"$error":"#REF!"}},{"$f":"#REF!","v":{"$error":"#REF!"}},{"$f":"#REF!","v":{"$error":"#REF!"}},"ANZ_MITARBEITER_EHRENAMTLICH",null,null,{"$f":"IF(ISBLANK(#REF!),\"\",#REF!)","v":{"$error":"#REF!"}}]
[null,{"$f":"#REF!","v":{"$error":"#REF!"}},{"$f":"#REF!","v":{"$error":"#REF!"}},{"$f":"#REF!","v":{"$error":"#REF!"}},"ANZ_MA_EHRENAMTLICH_BEHINDERT",null,null,{"$f":"IF(ISBLANK(#REF!),\"\",#REF!)","v":{"$error":"#REF!"}}]
[null,{"$f":"#REF!","v":{"$error":"#REF!"}},{"$f":"#REF!","v":{"$error":"#REF!"}},{"$f":"#REF!","v":{"$error":"#REF!"}},"PERSONALAUFWAND",null,null,{"$f":"IF(ISBLANK(#REF!),\"\",#REF!)","v":{"$error":"#REF!"}}]
[null,{"$f":"#REF!","v":{"$error":"#REF!"}},{"$f":"#REF!","v":{"$error":"#REF!"}},{"$f":"#REF!","v":{"$error":"#REF!"}},"BETRIEBSAUFWAND",null,null,{"$f":"IF(ISBLANK(#REF!),\"\",#REF!)","v":{"$error":"#REF!"}}]
[null,{"$f":"#REF!","v":{"$error":"#REF!"}},{"$f":"#REF!","v":{"$error":"#REF!"}},{"$f":"#REF!","v":{"$error":"#REF!"}},"BETRIEBSERTRAG",null,null,{"$f":"IF(ISBLANK(#REF!),\"\",#REF!)","v":{"$error":"#REF!"}}]
[null,{"$f":"#REF!","v":{"$error":"#REF!"}},{"$f":"#REF!","v":{"$error":"#REF!"}},{"$f":"#REF!","v":{"$error":"#REF!"}},"BEITRAG_IV",null,null,{"$f":"IF(ISBLANK(#REF!),\"\",#REF!)","v":{"$error":"#REF!"}}]
[null,{"$f":"#REF!","v":{"$error":"#REF!"}},{"$f":"#REF!","v":{"$error":"#REF!"}},{"$f":"#REF!","v":{"$error":"#REF!"}},"BEITRAG_AHV",null,null,{"$f":"IF(ISBLANK(#REF!),\"\",#REF!)","v":{"$error":"#REF!"}}]
[null,{"$f":"#REF!","v":{"$error":"#REF!"}},{"$f":"#REF!","v":{"$error":"#REF!"}},{"$f":"#REF!","v":{"$error":"#REF!"}},"ANZ_MITARBEITER",null,null,{"$f":"IF(ISBLANK(#REF!),\"\",#REF!)","v":{"$error":"#REF!"}}]
[null,{"$f":"#REF!","v":{"$error":"#REF!"}},{"$f":"#REF!","v":{"$error":"#REF!"}},{"$f":"#REF!","v":{"$error":"#REF!"}},"ANZ_MITARBEITER_BEHINDERT",null,null,{"$f":"IF(ISBLANK(#REF!),\"\",#REF!)","v":{"$error":"#REF!"}}]
[null,{"$f":"#REF!","v":{"$error":"#REF!"}},{"$f":"#REF!","v":{"$error":"#REF!"}},{"$f":"#REF!","v":{"$error":"#REF!"}},"ANZ_MITARBEITER_FREIWILLIG",null,null,{"$f":"IF(ISBLANK(#REF!),\"\",#REF!)","v":{"$error":"#REF!"}}]
[null,{"$f":"#REF!","v":{"$error":"#REF!"}},{"$f":"#REF!","v":{"$error":"#REF!"}},{"$f":"#REF!","v":{"$error":"#REF!"}},"ANZ_MA_FREIWILLIG_BEHINDERT",null,null,{"$f":"IF(ISBLANK(#REF!),\"\",#REF!)","v":{"$error":"#REF!"}}]
[null,{"$f":"#REF!","v":{"$error":"#REF!"}},{"$f":"#REF!","v":{"$error":"#REF!"}},{"$f":"#REF!","v":{"$error":"#REF!"}},"ANZ_MITARBEITER_EHRENAMTLICH",null,null,{"$f":"IF(ISBLANK(#REF!),\"\",#REF!)","v":{"$error":"#REF!"}}]
[null,{"$f":"#REF!","v":{"$error":"#REF!"}},{"$f":"#REF!","v":{"$error":"#REF!"}},{"$f":"#REF!","v":{"$error":"#REF!"}},"ANZ_MA_EHRENAMTLICH_BEHINDERT",null,null,{"$f":"IF(ISBLANK(#REF!),\"\",#REF!)","v":{"$error":"#REF!"}}]
[null,{"$f":"#REF!","v":{"$error":"#REF!"}},{"$f":"#REF!","v":{"$error":"#REF!"}},{"$f":"#REF!","v":{"$error":"#REF!"}},"PERSONALAUFWAND",null,null,{"$f":"IF(ISBLANK(#REF!),\"\",#REF!)","v":{"$error":"#REF!"}}]
[null,{"$f":"#REF!","v":{"$error":"#REF!"}},{"$f":"#REF!","v":{"$error":"#REF!"}},{"$f":"#REF!","v":{"$error":"#REF!"}},"BETRIEBSAUFWAND",null,null,{"$f":"IF(ISBLANK(#REF!),\"\",#REF!)","v":{"$error":"#REF!"}}]
[null,{"$f":"#REF!","v":{"$error":"#REF!"}},{"$f":"#REF!","v":{"$error":"#REF!"}},{"$f":"#REF!","v":{"$error":"#REF!"}},"BETRIEBSERTRAG",null,null,{"$f":"IF(ISBLANK(#REF!),\"\",#REF!)","v":{"$error":"#REF!"}}]
[null,{"$f":"#REF!","v":{"$error":"#REF!"}},{"$f":"#REF!","v":{"$error":"#REF!"}},{"$f":"#REF!","v":{"$error":"#REF!"}},"BEITRAG_IV",null,null,{"$f":"IF(ISBLANK(#REF!),\"\",#REF!)","v":{"$error":"#REF!"}}]
[null,{"$f":"#REF!","v":{"$error":"#REF!"}},{"$f":"#REF!","v":{"$error":"#REF!"}},{"$f":"#REF!","v":{"$error":"#REF!"}},"BEITRAG_AHV",null,null,{"$f":"IF(ISBLANK(#REF!),\"\",#REF!)","v":{"$error":"#REF!"}}]
[null,{"$f":"#REF!","v":{"$error":"#REF!"}},{"$f":"#REF!","v":{"$error":"#REF!"}},{"$f":"#REF!","v":{"$error":"#REF!"}},"ANZ_MITARBEITER",null,null,{"$f":"IF(ISBLANK(#REF!),\"\",#REF!)","v":{"$error":"#REF!"}}]
[null,{"$f":"#REF!","v":{"$error":"#REF!"}},{"$f":"#REF!","v":{"$error":"#REF!"}},{"$f":"#REF!","v":{"$error":"#REF!"}},"ANZ_MITARBEITER_BEHINDERT",null,null,{"$f":"IF(ISBLANK(#REF!),\"\",#REF!)","v":{"$error":"#REF!"}}]
[null,{"$f":"#REF!","v":{"$error":"#REF!"}},{"$f":"#REF!","v":{"$error":"#REF!"}},{"$f":"#REF!","v":{"$error":"#REF!"}},"ANZ_MITARBEITER_FREIWILLIG",null,null,{"$f":"IF(ISBLANK(#REF!),\"\",#REF!)","v":{"$error":"#REF!"}}]
[null,{"$f":"#REF!","v":{"$error":"#REF!"}},{"$f":"#REF!","v":{"$error":"#REF!"}},{"$f":"#REF!","v":{"$error":"#REF!"}},"ANZ_MA_FREIWILLIG_BEHINDERT",null,null,{"$f":"IF(ISBLANK(#REF!),\"\",#REF!)","v":{"$error":"#REF!"}}]
[null,{"$f":"#REF!","v":{"$error":"#REF!"}},{"$f":"#REF!","v":{"$error":"#REF!"}},{"$f":"#REF!","v":{"$error":"#REF!"}},"ANZ_MITARBEITER_EHRENAMTLICH",null,null,{"$f":"IF(ISBLANK(#REF!),\"\",#REF!)","v":{"$error":"#REF!"}}]
[null,{"$f":"#REF!","v":{"$error":"#REF!"}},{"$f":"#REF!","v":{"$error":"#REF!"}},{"$f":"#REF!","v":{"$error":"#REF!"}},"ANZ_MA_EHRENAMTLICH_BEHINDERT",null,null,{"$f":"IF(ISBLANK(#REF!),\"\",#REF!)","v":{"$error":"#REF!"}}]
[null,{"$f":"#REF!","v":{"$error":"#REF!"}},{"$f":"#REF!","v":{"$error":"#REF!"}},{"$f":"#REF!","v":{"$error":"#REF!"}},"PERSONALAUFWAND",null,null,{"$f":"IF(ISBLANK(#REF!),\"\",#REF!)","v":{"$error":"#REF!"}}]
[null,{"$f":"#REF!","v":{"$error":"#REF!"}},{"$f":"#REF!","v":{"$error":"#REF!"}},{"$f":"#REF!","v":{"$error":"#REF!"}},"BETRIEBSAUFWAND",null,null,{"$f":"IF(ISBLANK(#REF!),\"\",#REF!)","v":{"$error":"#REF!"}}]
[null,{"$f":"#REF!","v":{"$error":"#REF!"}},{"$f":"#REF!","v":{"$error":"#REF!"}},{"$f":"#REF!","v":{"$error":"#REF!"}},"BETRIEBSERTRAG",null,null,{"$f":"IF(ISBLANK(#REF!),\"\",#REF!)","v":{"$error":"#REF!"}}]
[null,{"$f":"#REF!","v":{"$error":"#REF!"}},{"$f":"#REF!","v":{"$error":"#REF!"}},{"$f":"#REF!","v":{"$error":"#REF!"}},"BEITRAG_IV",null,null,{"$f":"IF(ISBLANK(#REF!),\"\",#REF!)","v":{"$error":"#REF!"}}]
[null,{"$f":"#REF!","v":{"$error":"#REF!"}},{"$f":"#REF!","v":{"$error":"#REF!"}},{"$f":"#REF!","v":{"$error":"#REF!"}},"BEITRAG_AHV",null,null,{"$f":"IF(ISBLANK(#REF!),\"\",#REF!)","v":{"$error":"#REF!"}}]
[null,{"$f":"#REF!","v":{"$error":"#REF!"}},{"$f":"#REF!","v":{"$error":"#REF!"}},{"$f":"#REF!","v":{"$error":"#REF!"}},"ANZ_MITARBEITER",null,null,{"$f":"IF(ISBLANK(#REF!),\"\",#REF!)","v":{"$error":"#REF!"}}]
[null,{"$f":"#REF!","v":{"$error":"#REF!"}},{"$f":"#REF!","v":{"$error":"#REF!"}},{"$f":"#REF!","v":{"$error":"#REF!"}},"ANZ_MITARBEITER_BEHINDERT",null,null,{"$f":"IF(ISBLANK(#REF!),\"\",#REF!)","v":{"$error":"#REF!"}}]
[null,{"$f":"#REF!","v":{"$error":"#REF!"}},{"$f":"#REF!","v":{"$error":"#REF!"}},{"$f":"#REF!","v":{"$error":"#REF!"}},"ANZ_MITARBEITER_FREIWILLIG",null,null,{"$f":"IF(ISBLANK(#REF!),\"\",#REF!)","v":{"$error":"#REF!"}}]
[null,{"$f":"#REF!","v":{"$error":"#REF!"}},{"$f":"#REF!","v":{"$error":"#REF!"}},{"$f":"#REF!","v":{"$error":"#REF!"}},"ANZ_MA_FREIWILLIG_BEHINDERT",null,null,{"$f":"IF(ISBLANK(#REF!),\"\",#REF!)","v":{"$error":"#REF!"}}]
[null,{"$f":"#REF!","v":{"$error":"#REF!"}},{"$f":"#REF!","v":{"$error":"#REF!"}},{"$f":"#REF!","v":{"$error":"#REF!"}},"ANZ_MITARBEITER_EHRENAMTLICH",null,null,{"$f":"IF(ISBLANK(#REF!),\"\",#REF!)","v":{"$error":"#REF!"}}]
[null,{"$f":"#REF!","v":{"$error":"#REF!"}},{"$f":"#REF!","v":{"$error":"#REF!"}},{"$f":"#REF!","v":{"$error":"#REF!"}},"ANZ_MA_EHRENAMTLICH_BEHINDERT",null,null,{"$f":"IF(ISBLANK(#REF!),\"\",#REF!)","v":{"$error":"#REF!"}}]
[null,{"$f":"#REF!","v":{"$error":"#REF!"}},{"$f":"#REF!","v":{"$error":"#REF!"}},{"$f":"#REF!","v":{"$error":"#REF!"}},"PERSONALAUFWAND",null,null,{"$f":"IF(ISBLANK(#REF!),\"\",#REF!)","v":{"$error":"#REF!"}}]
[null,{"$f":"#REF!","v":{"$error":"#REF!"}},{"$f":"#REF!","v":{"$error":"#REF!"}},{"$f":"#REF!","v":{"$error":"#REF!"}},"BETRIEBSAUFWAND",null,null,{"$f":"IF(ISBLANK(#REF!),\"\",#REF!)","v":{"$error":"#REF!"}}]
[null,{"$f":"#REF!","v":{"$error":"#REF!"}},{"$f":"#REF!","v":{"$error":"#REF!"}},{"$f":"#REF!","v":{"$error":"#REF!"}},"BETRIEBSERTRAG",null,null,{"$f":"IF(ISBLANK(#REF!),\"\",#REF!)","v":{"$error":"#REF!"}}]
[null,{"$f":"#REF!","v":{"$error":"#REF!"}},{"$f":"#REF!","v":{"$error":"#REF!"}},{"$f":"#REF!","v":{"$error":"#REF!"}},"BEITRAG_IV",null,null,{"$f":"IF(ISBLANK(#REF!),\"\",#REF!)","v":{"$error":"#REF!"}}]
[null,{"$f":"#REF!","v":{"$error":"#REF!"}},{"$f":"#REF!","v":{"$error":"#REF!"}},{"$f":"#REF!","v":{"$error":"#REF!"}},"BEITRAG_AHV",null,null,{"$f":"IF(ISBLANK(#REF!),\"\",#REF!)","v":{"$error":"#REF!"}}]
[null,{"$f":"#REF!","v":{"$error":"#REF!"}},{"$f":"#REF!","v":{"$error":"#REF!"}},{"$f":"#REF!","v":{"$error":"#REF!"}},"ANZ_MITARBEITER",null,null,{"$f":"IF(ISBLANK(#REF!),\"\",#REF!)","v":{"$error":"#REF!"}}]
[null,{"$f":"#REF!","v":{"$error":"#REF!"}},{"$f":"#REF!","v":{"$error":"#REF!"}},{"$f":"#REF!","v":{"$error":"#REF!"}},"ANZ_MITARBEITER_BEHINDERT",null,null,{"$f":"IF(ISBLANK(#REF!),\"\",#REF!)","v":{"$error":"#REF!"}}]
[null,{"$f":"#REF!","v":{"$error":"#REF!"}},{"$f":"#REF!","v":{"$error":"#REF!"}},{"$f":"#REF!","v":{"$error":"#REF!"}},"ANZ_MITARBEITER_FREIWILLIG",null,null,{"$f":"IF(ISBLANK(#REF!),\"\",#REF!)","v":{"$error":"#REF!"}}]
[null,{"$f":"#REF!","v":{"$error":"#REF!"}},{"$f":"#REF!","v":{"$error":"#REF!"}},{"$f":"#REF!","v":{"$error":"#REF!"}},"ANZ_MA_FREIWILLIG_BEHINDERT",null,null,{"$f":"IF(ISBLANK(#REF!),\"\",#REF!)","v":{"$error":"#REF!"}}]
[null,{"$f":"#REF!","v":{"$error":"#REF!"}},{"$f":"#REF!","v":{"$error":"#REF!"}},{"$f":"#REF!","v":{"$error":"#REF!"}},"ANZ_MITARBEITER_EHRENAMTLICH",null,null,{"$f":"IF(ISBLANK(#REF!),\"\",#REF!)","v":{"$error":"#REF!"}}]
[null,{"$f":"#REF!","v":{"$error":"#REF!"}},{"$f":"#REF!","v":{"$error":"#REF!"}},{"$f":"#REF!","v":{"$error":"#REF!"}},"ANZ_MA_EHRENAMTLICH_BEHINDERT",null,null,{"$f":"IF(ISBLANK(#REF!),\"\",#REF!)","v":{"$error":"#REF!"}}]
[null,{"$f":"#REF!","v":{"$error":"#REF!"}},{"$f":"#REF!","v":{"$error":"#REF!"}},{"$f":"#REF!","v":{"$error":"#REF!"}},"PERSONALAUFWAND",null,null,{"$f":"IF(ISBLANK(#REF!),\"\",#REF!)","v":{"$error":"#REF!"}}]
[null,{"$f":"#REF!","v":{"$error":"#REF!"}},{"$f":"#REF!","v":{"$error":"#REF!"}},{"$f":"#REF!","v":{"$error":"#REF!"}},"BETRIEBSAUFWAND",null,null,{"$f":"IF(ISBLANK(#REF!),\"\",#REF!)","v":{"$error":"#REF!"}}]
[null,{"$f":"#REF!","v":{"$error":"#REF!"}},{"$f":"#REF!","v":{"$error":"#REF!"}},{"$f":"#REF!","v":{"$error":"#REF!"}},"BETRIEBSERTRAG",null,null,{"$f":"IF(ISBLANK(#REF!),\"\",#REF!)","v":{"$error":"#REF!"}}]
[null,{"$f":"#REF!","v":{"$error":"#REF!"}},{"$f":"#REF!","v":{"$error":"#REF!"}},{"$f":"#REF!","v":{"$error":"#REF!"}},"BEITRAG_IV",null,null,{"$f":"IF(ISBLANK(#REF!),\"\",#REF!)","v":{"$error":"#REF!"}}]
[null,{"$f":"#REF!","v":{"$error":"#REF!"}},{"$f":"#REF!","v":{"$error":"#REF!"}},{"$f":"#REF!","v":{"$error":"#REF!"}},"BEITRAG_AHV",null,null,{"$f":"IF(ISBLANK(#REF!),\"\",#REF!)","v":{"$error":"#REF!"}}]
[null,{"$f":"#REF!","v":{"$error":"#REF!"}},{"$f":"#REF!","v":{"$error":"#REF!"}},{"$f":"#REF!","v":{"$error":"#REF!"}},"ANZ_MITARBEITER",null,null,{"$f":"IF(ISBLANK(#REF!),\"\",#REF!)","v":{"$error":"#REF!"}}]
[null,{"$f":"#REF!","v":{"$error":"#REF!"}},{"$f":"#REF!","v":{"$error":"#REF!"}},{"$f":"#REF!","v":{"$error":"#REF!"}},"ANZ_MITARBEITER_BEHINDERT",null,null,{"$f":"IF(ISBLANK(#REF!),\"\",#REF!)","v":{"$error":"#REF!"}}]
[null,{"$f":"#REF!","v":{"$error":"#REF!"}},{"$f":"#REF!","v":{"$error":"#REF!"}},{"$f":"#REF!","v":{"$error":"#REF!"}},"ANZ_MITARBEITER_FREIWILLIG",null,null,{"$f":"IF(ISBLANK(#REF!),\"\",#REF!)","v":{"$error":"#REF!"}}]
[null,{"$f":"#REF!","v":{"$error":"#REF!"}},{"$f":"#REF!","v":{"$error":"#REF!"}},{"$f":"#REF!","v":{"$error":"#REF!"}},"ANZ_MA_FREIWILLIG_BEHINDERT",null,null,{"$f":"IF(ISBLANK(#REF!),\"\",#REF!)","v":{"$error":"#REF!"}}]
[null,{"$f":"#REF!","v":{"$error":"#REF!"}},{"$f":"#REF!","v":{"$error":"#REF!"}},{"$f":"#REF!","v":{"$error":"#REF!"}},"ANZ_MITARBEITER_EHRENAMTLICH",null,null,{"$f":"IF(ISBLANK(#REF!),\"\",#REF!)","v":{"$error":"#REF!"}}]
[null,{"$f":"#REF!","v":{"$error":"#REF!"}},{"$f":"#REF!","v":{"$error":"#REF!"}},{"$f":"#REF!","v":{"$error":"#REF!"}},"ANZ_MA_EHRENAMTLICH_BEHINDERT",null,null,{"$f":"IF(ISBLANK(#REF!),\"\",#REF!)","v":{"$error":"#REF!"}}]
[null,{"$f":"#REF!","v":{"$error":"#REF!"}},{"$f":"#REF!","v":{"$error":"#REF!"}},{"$f":"#REF!","v":{"$error":"#REF!"}},"PERSONALAUFWAND",null,null,{"$f":"IF(ISBLANK(#REF!),\"\",#REF!)","v":{"$error":"#REF!"}}]
[null,{"$f":"#REF!","v":{"$error":"#REF!"}},{"$f":"#REF!","v":{"$error":"#REF!"}},{"$f":"#REF!","v":{"$error":"#REF!"}},"BETRIEBSAUFWAND",null,null,{"$f":"IF(ISBLANK(#REF!),\"\",#REF!)","v":{"$error":"#REF!"}}]
[null,{"$f":"#REF!","v":{"$error":"#REF!"}},{"$f":"#REF!","v":{"$error":"#REF!"}},{"$f":"#REF!","v":{"$error":"#REF!"}},"BETRIEBSERTRAG",null,null,{"$f":"IF(ISBLANK(#REF!),\"\",#REF!)","v":{"$error":"#REF!"}}]
[null,{"$f":"#REF!","v":{"$error":"#REF!"}},{"$f":"#REF!","v":{"$error":"#REF!"}},{"$f":"#REF!","v":{"$error":"#REF!"}},"BEITRAG_IV",null,null,{"$f":"IF(ISBLANK(#REF!),\"\",#REF!)","v":{"$error":"#REF!"}}]
[null,{"$f":"#REF!","v":{"$error":"#REF!"}},{"$f":"#REF!","v":{"$error":"#REF!"}},{"$f":"#REF!","v":{"$error":"#REF!"}},"BEITRAG_AHV",null,null,{"$f":"IF(ISBLANK(#REF!),\"\",#REF!)","v":{"$error":"#REF!"}}]
[null,{"$f":"#REF!","v":{"$error":"#REF!"}},{"$f":"#REF!","v":{"$error":"#REF!"}},{"$f":"#REF!","v":{"$error":"#REF!"}},"ANZ_MITARBEITER",null,null,{"$f":"IF(ISBLANK(#REF!),\"\",#REF!)","v":{"$error":"#REF!"}}]
[null,{"$f":"#REF!","v":{"$error":"#REF!"}},{"$f":"#REF!","v":{"$error":"#REF!"}},{"$f":"#REF!","v":{"$error":"#REF!"}},"ANZ_MITARBEITER_BEHINDERT",null,null,{"$f":"IF(ISBLANK(#REF!),\"\",#REF!)","v":{"$error":"#REF!"}}]
[null,{"$f":"#REF!","v":{"$error":"#REF!"}},{"$f":"#REF!","v":{"$error":"#REF!"}},{"$f":"#REF!","v":{"$error":"#REF!"}},"ANZ_MITARBEITER_FREIWILLIG",null,null,{"$f":"IF(ISBLANK(#REF!),\"\",#REF!)","v":{"$error":"#REF!"}}]
[null,{"$f":"#REF!","v":{"$error":"#REF!"}},{"$f":"#REF!","v":{"$error":"#REF!"}},{"$f":"#REF!","v":{"$error":"#REF!"}},"ANZ_MA_FREIWILLIG_BEHINDERT",null,null,{"$f":"IF(ISBLANK(#REF!),\"\",#REF!)","v":{"$error":"#REF!"}}]
[null,{"$f":"#REF!","v":{"$error":"#REF!"}},{"$f":"#REF!","v":{"$error":"#REF!"}},{"$f":"#REF!","v":{"$error":"#REF!"}},"ANZ_MITARBEITER_EHRENAMTLICH",null,null,{"$f":"IF(ISBLANK(#REF!),\"\",#REF!)","v":{"$error":"#REF!"}}]
[null,{"$f":"#REF!","v":{"$error":"#REF!"}},{"$f":"#REF!","v":{"$error":"#REF!"}},{"$f":"#REF!","v":{"$error":"#REF!"}},"ANZ_MA_EHRENAMTLICH_BEHINDERT",null,null,{"$f":"IF(ISBLANK(#REF!),\"\",#REF!)","v":{"$error":"#REF!"}}]
[null,{"$f":"#REF!","v":{"$error":"#REF!"}},{"$f":"#REF!","v":{"$error":"#REF!"}},{"$f":"#REF!","v":{"$error":"#REF!"}},"PERSONALAUFWAND",null,null,{"$f":"IF(ISBLANK(#REF!),\"\",#REF!)","v":{"$error":"#REF!"}}]
[null,{"$f":"#REF!","v":{"$error":"#REF!"}},{"$f":"#REF!","v":{"$error":"#REF!"}},{"$f":"#REF!","v":{"$error":"#REF!"}},"BETRIEBSAUFWAND",null,null,{"$f":"IF(ISBLANK(#REF!),\"\",#REF!)","v":{"$error":"#REF!"}}]
[null,{"$f":"#REF!","v":{"$error":"#REF!"}},{"$f":"#REF!","v":{"$error":"#REF!"}},{"$f":"#REF!","v":{"$error":"#REF!"}},"BETRIEBSERTRAG",null,null,{"$f":"IF(ISBLANK(#REF!),\"\",#REF!)","v":{"$error":"#REF!"}}]
[null,{"$f":"#REF!","v":{"$error":"#REF!"}},{"$f":"#REF!","v":{"$error":"#REF!"}},{"$f":"#REF!","v":{"$error":"#REF!"}},"BEITRAG_IV",null,null,{"$f":"IF(ISBLANK(#REF!),\"\",#REF!)","v":{"$error":"#REF!"}}]
[null,{"$f":"#REF!","v":{"$error":"#REF!"}},{"$f":"#REF!","v":{"$error":"#REF!"}},{"$f":"#REF!","v":{"$error":"#REF!"}},"BEITRAG_AHV",null,null,{"$f":"IF(ISBLANK(#REF!),\"\",#REF!)","v":{"$error":"#REF!"}}]
[null,{"$f":"#REF!","v":{"$error":"#REF!"}},{"$f":"#REF!","v":{"$error":"#REF!"}},{"$f":"#REF!","v":{"$error":"#REF!"}},"ANZ_MITARBEITER",null,null,{"$f":"IF(ISBLANK(#REF!),\"\",#REF!)","v":{"$error":"#REF!"}}]
[null,{"$f":"#REF!","v":{"$error":"#REF!"}},{"$f":"#REF!","v":{"$error":"#REF!"}},{"$f":"#REF!","v":{"$error":"#REF!"}},"ANZ_MITARBEITER_BEHINDERT",null,null,{"$f":"IF(ISBLANK(#REF!),\"\",#REF!)","v":{"$error":"#REF!"}}]
[null,{"$f":"#REF!","v":{"$error":"#REF!"}},{"$f":"#REF!","v":{"$error":"#REF!"}},{"$f":"#REF!","v":{"$error":"#REF!"}},"ANZ_MITARBEITER_FREIWILLIG",null,null,{"$f":"IF(ISBLANK(#REF!),\"\",#REF!)","v":{"$error":"#REF!"}}]
[null,{"$f":"#REF!","v":{"$error":"#REF!"}},{"$f":"#REF!","v":{"$error":"#REF!"}},{"$f":"#REF!","v":{"$error":"#REF!"}},"ANZ_MA_FREIWILLIG_BEHINDERT",null,null,{"$f":"IF(ISBLANK(#REF!),\"\",#REF!)","v":{"$error":"#REF!"}}]
[null,{"$f":"#REF!","v":{"$error":"#REF!"}},{"$f":"#REF!","v":{"$error":"#REF!"}},{"$f":"#REF!","v":{"$error":"#REF!"}},"ANZ_MITARBEITER_EHRENAMTLICH",null,null,{"$f":"IF(ISBLANK(#REF!),\"\",#REF!)","v":{"$error":"#REF!"}}]
[null,{"$f":"#REF!","v":{"$error":"#REF!"}},{"$f":"#REF!","v":{"$error":"#REF!"}},{"$f":"#REF!","v":{"$error":"#REF!"}},"ANZ_MA_EHRENAMTLICH_BEHINDERT",null,null,{"$f":"IF(ISBLANK(#REF!),\"\",#REF!)","v":{"$error":"#REF!"}}]
[null,{"$f":"#REF!","v":{"$error":"#REF!"}},{"$f":"#REF!","v":{"$error":"#REF!"}},{"$f":"#REF!","v":{"$error":"#REF!"}},"PERSONALAUFWAND",null,null,{"$f":"IF(ISBLANK(#REF!),\"\",#REF!)","v":{"$error":"#REF!"}}]
[null,{"$f":"#REF!","v":{"$error":"#REF!"}},{"$f":"#REF!","v":{"$error":"#REF!"}},{"$f":"#REF!","v":{"$error":"#REF!"}},"BETRIEBSAUFWAND",null,null,{"$f":"IF(ISBLANK(#REF!),\"\",#REF!)","v":{"$error":"#REF!"}}]
[null,{"$f":"#REF!","v":{"$error":"#REF!"}},{"$f":"#REF!","v":{"$error":"#REF!"}},{"$f":"#REF!","v":{"$error":"#REF!"}},"BETRIEBSERTRAG",null,null,{"$f":"IF(ISBLANK(#REF!),\"\",#REF!)","v":{"$error":"#REF!"}}]
[null,{"$f":"#REF!","v":{"$error":"#REF!"}},{"$f":"#REF!","v":{"$error":"#REF!"}},{"$f":"#REF!","v":{"$error":"#REF!"}},"BEITRAG_IV",null,null,{"$f":"IF(ISBLANK(#REF!),\"\",#REF!)","v":{"$error":"#REF!"}}]
[null,{"$f":"#REF!","v":{"$error":"#REF!"}},{"$f":"#REF!","v":{"$error":"#REF!"}},{"$f":"#REF!","v":{"$error":"#REF!"}},"BEITRAG_AHV",null,null,{"$f":"IF(ISBLANK(#REF!),\"\",#REF!)","v":{"$error":"#REF!"}}]
[null,{"$f":"#REF!","v":{"$error":"#REF!"}},{"$f":"#REF!","v":{"$error":"#REF!"}},{"$f":"#REF!","v":{"$error":"#REF!"}},"ANZ_MITARBEITER",null,null,{"$f":"IF(ISBLANK(#REF!),\"\",#REF!)","v":{"$error":"#REF!"}}]
[null,{"$f":"#REF!","v":{"$error":"#REF!"}},{"$f":"#REF!","v":{"$error":"#REF!"}},{"$f":"#REF!","v":{"$error":"#REF!"}},"ANZ_MITARBEITER_BEHINDERT",null,null,{"$f":"IF(ISBLANK(#REF!),\"\",#REF!)","v":{"$error":"#REF!"}}]
[null,{"$f":"#REF!","v":{"$error":"#REF!"}},{"$f":"#REF!","v":{"$error":"#REF!"}},{"$f":"#REF!","v":{"$error":"#REF!"}},"ANZ_MITARBEITER_FREIWILLIG",null,null,{"$f":"IF(ISBLANK(#REF!),\"\",#REF!)","v":{"$error":"#REF!"}}]
[null,{"$f":"#REF!","v":{"$error":"#REF!"}},{"$f":"#REF!","v":{"$error":"#REF!"}},{"$f":"#REF!","v":{"$error":"#REF!"}},"ANZ_MA_FREIWILLIG_BEHINDERT",null,null,{"$f":"IF(ISBLANK(#REF!),\"\",#REF!)","v":{"$error":"#REF!"}}]
[null,{"$f":"#REF!","v":{"$error":"#REF!"}},{"$f":"#REF!","v":{"$error":"#REF!"}},{"$f":"#REF!","v":{"$error":"#REF!"}},"ANZ_MITARBEITER_EHRENAMTLICH",null,null,{"$f":"IF(ISBLANK(#REF!),\"\",#REF!)","v":{"$error":"#REF!"}}]
[null,{"$f":"#REF!","v":{"$error":"#REF!"}},{"$f":"#REF!","v":{"$error":"#REF!"}},{"$f":"#REF!","v":{"$error":"#REF!"}},"ANZ_MA_EHRENAMTLICH_BEHINDERT",null,null,{"$f":"IF(ISBLANK(#REF!),\"\",#REF!)","v":{"$error":"#REF!"}}]
[null,{"$f":"#REF!","v":{"$error":"#REF!"}},{"$f":"#REF!","v":{"$error":"#REF!"}},{"$f":"#REF!","v":{"$error":"#REF!"}},"PERSONALAUFWAND",null,null,{"$f":"IF(ISBLANK(#REF!),\"\",#REF!)","v":{"$error":"#REF!"}}]
[null,{"$f":"#REF!","v":{"$error":"#REF!"}},{"$f":"#REF!","v":{"$error":"#REF!"}},{"$f":"#REF!","v":{"$error":"#REF!"}},"BETRIEBSAUFWAND",null,null,{"$f":"IF(ISBLANK(#REF!),\"\",#REF!)","v":{"$error":"#REF!"}}]
[null,{"$f":"#REF!","v":{"$error":"#REF!"}},{"$f":"#REF!","v":{"$error":"#REF!"}},{"$f":"#REF!","v":{"$error":"#REF!"}},"BETRIEBSERTRAG",null,null,{"$f":"IF(ISBLANK(#REF!),\"\",#REF!)","v":{"$error":"#REF!"}}]
[null,{"$f":"#REF!","v":{"$error":"#REF!"}},{"$f":"#REF!","v":{"$error":"#REF!"}},{"$f":"#REF!","v":{"$error":"#REF!"}},"BEITRAG_IV",null,null,{"$f":"IF(ISBLANK(#REF!),\"\",#REF!)","v":{"$error":"#REF!"}}]
[null,{"$f":"#REF!","v":{"$error":"#REF!"}},{"$f":"#REF!","v":{"$error":"#REF!"}},{"$f":"#REF!","v":{"$error":"#REF!"}},"BEITRAG_AHV",null,null,{"$f":"IF(ISBLANK(#REF!),\"\",#REF!)","v":{"$error":"#REF!"}}]
[null,{"$f":"#REF!","v":{"$error":"#REF!"}},{"$f":"#REF!","v":{"$error":"#REF!"}},{"$f":"#REF!","v":{"$error":"#REF!"}},"ANZ_MITARBEITER",null,null,{"$f":"IF(ISBLANK(#REF!),\"\",#REF!)","v":{"$error":"#REF!"}}]
[null,{"$f":"#REF!","v":{"$error":"#REF!"}},{"$f":"#REF!","v":{"$error":"#REF!"}},{"$f":"#REF!","v":{"$error":"#REF!"}},"ANZ_MITARBEITER_BEHINDERT",null,null,{"$f":"IF(ISBLANK(#REF!),\"\",#REF!)","v":{"$error":"#REF!"}}]
[null,{"$f":"#REF!","v":{"$error":"#REF!"}},{"$f":"#REF!","v":{"$error":"#REF!"}},{"$f":"#REF!","v":{"$error":"#REF!"}},"ANZ_MITARBEITER_FREIWILLIG",null,null,{"$f":"IF(ISBLANK(#REF!),\"\",#REF!)","v":{"$error":"#REF!"}}]
[null,{"$f":"#REF!","v":{"$error":"#REF!"}},{"$f":"#REF!","v":{"$error":"#REF!"}},{"$f":"#REF!","v":{"$error":"#REF!"}},"ANZ_MA_FREIWILLIG_BEHINDERT",null,null,{"$f":"IF(ISBLANK(#REF!),\"\",#REF!)","v":{"$error":"#REF!"}}]
[null,{"$f":"#REF!","v":{"$error":"#REF!"}},{"$f":"#REF!","v":{"$error":"#REF!"}},{"$f":"#REF!","v":{"$error":"#REF!"}},"ANZ_MITARBEITER_EHRENAMTLICH",null,null,{"$f":"IF(ISBLANK(#REF!),\"\",#REF!)","v":{"$error":"#REF!"}}]
[null,{"$f":"#REF!","v":{"$error":"#REF!"}},{"$f":"#REF!","v":{"$error":"#REF!"}},{"$f":"#REF!","v":{"$error":"#REF!"}},"ANZ_MA_EHRENAMTLICH_BEHINDERT",null,null,{"$f":"IF(ISBLANK(#REF!),\"\",#REF!)","v":{"$error":"#REF!"}}]
[null,{"$f":"#REF!","v":{"$error":"#REF!"}},{"$f":"#REF!","v":{"$error":"#REF!"}},{"$f":"#REF!","v":{"$error":"#REF!"}},"PERSONALAUFWAND",null,null,{"$f":"IF(ISBLANK(#REF!),\"\",#REF!)","v":{"$error":"#REF!"}}]
[null,{"$f":"#REF!","v":{"$error":"#REF!"}},{"$f":"#REF!","v":{"$error":"#REF!"}},{"$f":"#REF!","v":{"$error":"#REF!"}},"BETRIEBSAUFWAND",null,null,{"$f":"IF(ISBLANK(#REF!),\"\",#REF!)","v":{"$error":"#REF!"}}]
[null,{"$f":"#REF!","v":{"$error":"#REF!"}},{"$f":"#REF!","v":{"$error":"#REF!"}},{"$f":"#REF!","v":{"$error":"#REF!"}},"BETRIEBSERTRAG",null,null,{"$f":"IF(ISBLANK(#REF!),\"\",#REF!)","v":{"$error":"#REF!"}}]
[null,{"$f":"#REF!","v":{"$error":"#REF!"}},{"$f":"#REF!","v":{"$error":"#REF!"}},{"$f":"#REF!","v":{"$error":"#REF!"}},"BEITRAG_IV",null,null,{"$f":"IF(ISBLANK(#REF!),\"\",#REF!)","v":{"$error":"#REF!"}}]
[null,{"$f":"#REF!","v":{"$error":"#REF!"}},{"$f":"#REF!","v":{"$error":"#REF!"}},{"$f":"#REF!","v":{"$error":"#REF!"}},"BEITRAG_AHV",null,null,{"$f":"IF(ISBLANK(#REF!),\"\",#REF!)","v":{"$error":"#REF!"}}]
[null,{"$f":"#REF!","v":{"$error":"#REF!"}},{"$f":"#REF!","v":{"$error":"#REF!"}},{"$f":"#REF!","v":{"$error":"#REF!"}},"ANZ_MITARBEITER",null,null,{"$f":"IF(ISBLANK(#REF!),\"\",#REF!)","v":{"$error":"#REF!"}}]
[null,{"$f":"#REF!","v":{"$error":"#REF!"}},{"$f":"#REF!","v":{"$error":"#REF!"}},{"$f":"#REF!","v":{"$error":"#REF!"}},"ANZ_MITARBEITER_BEHINDERT",null,null,{"$f":"IF(ISBLANK(#REF!),\"\",#REF!)","v":{"$error":"#REF!"}}]
[null,{"$f":"#REF!","v":{"$error":"#REF!"}},{"$f":"#REF!","v":{"$error":"#REF!"}},{"$f":"#REF!","v":{"$error":"#REF!"}},"ANZ_MITARBEITER_FREIWILLIG",null,null,{"$f":"IF(ISBLANK(#REF!),\"\",#REF!)","v":{"$error":"#REF!"}}]
[null,{"$f":"#REF!","v":{"$error":"#REF!"}},{"$f":"#REF!","v":{"$error":"#REF!"}},{"$f":"#REF!","v":{"$error":"#REF!"}},"ANZ_MA_FREIWILLIG_BEHINDERT",null,null,{"$f":"IF(ISBLANK(#REF!),\"\",#REF!)","v":{"$error":"#REF!"}}]
[null,{"$f":"#REF!","v":{"$error":"#REF!"}},{"$f":"#REF!","v":{"$error":"#REF!"}},{"$f":"#REF!","v":{"$error":"#REF!"}},"ANZ_MITARBEITER_EHRENAMTLICH",null,null,{"$f":"IF(ISBLANK(#REF!),\"\",#REF!)","v":{"$error":"#REF!"}}]
[null,{"$f":"#REF!","v":{"$error":"#REF!"}},{"$f":"#REF!","v":{"$error":"#REF!"}},{"$f":"#REF!","v":{"$error":"#REF!"}},"ANZ_MA_EHRENAMTLICH_BEHINDERT",null,null,{"$f":"IF(ISBLANK(#REF!),\"\",#REF!)","v":{"$error":"#REF!"}}]
[null,{"$f":"#REF!","v":{"$error":"#REF!"}},{"$f":"#REF!","v":{"$error":"#REF!"}},{"$f":"#REF!","v":{"$error":"#REF!"}},"PERSONALAUFWAND",null,null,{"$f":"IF(ISBLANK(#REF!),\"\",#REF!)","v":{"$error":"#REF!"}}]
[null,{"$f":"#REF!","v":{"$error":"#REF!"}},{"$f":"#REF!","v":{"$error":"#REF!"}},{"$f":"#REF!","v":{"$error":"#REF!"}},"BETRIEBSAUFWAND",null,null,{"$f":"IF(ISBLANK(#REF!),\"\",#REF!)","v":{"$error":"#REF!"}}]
[null,{"$f":"#REF!","v":{"$error":"#REF!"}},{"$f":"#REF!","v":{"$error":"#REF!"}},{"$f":"#REF!","v":{"$error":"#REF!"}},"BETRIEBSERTRAG",null,null,{"$f":"IF(ISBLANK(#REF!),\"\",#REF!)","v":{"$error":"#REF!"}}]
[null,{"$f":"#REF!","v":{"$error":"#REF!"}},{"$f":"#REF!","v":{"$error":"#REF!"}},{"$f":"#REF!","v":{"$error":"#REF!"}},"BEITRAG_IV",null,null,{"$f":"IF(ISBLANK(#REF!),\"\",#REF!)","v":{"$error":"#REF!"}}]
[null,{"$f":"#REF!","v":{"$error":"#REF!"}},{"$f":"#REF!","v":{"$error":"#REF!"}},{"$f":"#REF!","v":{"$error":"#REF!"}},"BEITRAG_AHV",null,null,{"$f":"IF(ISBLANK(#REF!),\"\",#REF!)","v":{"$error":"#REF!"}}]
[null,{"$f":"#REF!","v":{"$error":"#REF!"}},{"$f":"#REF!","v":{"$error":"#REF!"}},{"$f":"#REF!","v":{"$error":"#REF!"}},"ANZ_MITARBEITER",null,null,{"$f":"IF(ISBLANK(#REF!),\"\",#REF!)","v":{"$error":"#REF!"}}]
[null,{"$f":"#REF!","v":{"$error":"#REF!"}},{"$f":"#REF!","v":{"$error":"#REF!"}},{"$f":"#REF!","v":{"$error":"#REF!"}},"ANZ_MITARBEITER_BEHINDERT",null,null,{"$f":"IF(ISBLANK(#REF!),\"\",#REF!)","v":{"$error":"#REF!"}}]
[null,{"$f":"#REF!","v":{"$error":"#REF!"}},{"$f":"#REF!","v":{"$error":"#REF!"}},{"$f":"#REF!","v":{"$error":"#REF!"}},"ANZ_MITARBEITER_FREIWILLIG",null,null,{"$f":"IF(ISBLANK(#REF!),\"\",#REF!)","v":{"$error":"#REF!"}}]
[null,{"$f":"#REF!","v":{"$error":"#REF!"}},{"$f":"#REF!","v":{"$error":"#REF!"}},{"$f":"#REF!","v":{"$error":"#REF!"}},"ANZ_MA_FREIWILLIG_BEHINDERT",null,null,{"$f":"IF(ISBLANK(#REF!),\"\",#REF!)","v":{"$error":"#REF!"}}]
[null,{"$f":"#REF!","v":{"$error":"#REF!"}},{"$f":"#REF!","v":{"$error":"#REF!"}},{"$f":"#REF!","v":{"$error":"#REF!"}},"ANZ_MITARBEITER_EHRENAMTLICH",null,null,{"$f":"IF(ISBLANK(#REF!),\"\",#REF!)","v":{"$error":"#REF!"}}]
[null,{"$f":"#REF!","v":{"$error":"#REF!"}},{"$f":"#REF!","v":{"$error":"#REF!"}},{"$f":"#REF!","v":{"$error":"#REF!"}},"ANZ_MA_EHRENAMTLICH_BEHINDERT",null,null,{"$f":"IF(ISBLANK(#REF!),\"\",#REF!)","v":{"$error":"#REF!"}}]
[null,{"$f":"#REF!","v":{"$error":"#REF!"}},{"$f":"#REF!","v":{"$error":"#REF!"}},{"$f":"#REF!","v":{"$error":"#REF!"}},"PERSONALAUFWAND",null,null,{"$f":"IF(ISBLANK(#REF!),\"\",#REF!)","v":{"$error":"#REF!"}}]
[null,{"$f":"#REF!","v":{"$error":"#REF!"}},{"$f":"#REF!","v":{"$error":"#REF!"}},{"$f":"#REF!","v":{"$error":"#REF!"}},"BETRIEBSAUFWAND",null,null,{"$f":"IF(ISBLANK(#REF!),\"\",#REF!)","v":{"$error":"#REF!"}}]
[null,{"$f":"#REF!","v":{"$error":"#REF!"}},{"$f":"#REF!","v":{"$error":"#REF!"}},{"$f":"#REF!","v":{"$error":"#REF!"}},"BETRIEBSERTRAG",null,null,{"$f":"IF(ISBLANK(#REF!),\"\",#REF!)","v":{"$error":"#REF!"}}]
[null,{"$f":"#REF!","v":{"$error":"#REF!"}},{"$f":"#REF!","v":{"$error":"#REF!"}},{"$f":"#REF!","v":{"$error":"#REF!"}},"BEITRAG_IV",null,null,{"$f":"IF(ISBLANK(#REF!),\"\",#REF!)","v":{"$error":"#REF!"}}]
[null,{"$f":"#REF!","v":{"$error":"#REF!"}},{"$f":"#REF!","v":{"$error":"#REF!"}},{"$f":"#REF!","v":{"$error":"#REF!"}},"BEITRAG_AHV",null,null,{"$f":"IF(ISBLANK(#REF!),\"\",#REF!)","v":{"$error":"#REF!"}}]
[null,{"$f":"#REF!","v":{"$error":"#REF!"}},{"$f":"#REF!","v":{"$error":"#REF!"}},{"$f":"#REF!","v":{"$error":"#REF!"}},"ANZ_MITARBEITER",null,null,{"$f":"IF(ISBLANK(#REF!),\"\",#REF!)","v":{"$error":"#REF!"}}]
[null,{"$f":"#REF!","v":{"$error":"#REF!"}},{"$f":"#REF!","v":{"$error":"#REF!"}},{"$f":"#REF!","v":{"$error":"#REF!"}},"ANZ_MITARBEITER_BEHINDERT",null,null,{"$f":"IF(ISBLANK(#REF!),\"\",#REF!)","v":{"$error":"#REF!"}}]
[null,{"$f":"#REF!","v":{"$error":"#REF!"}},{"$f":"#REF!","v":{"$error":"#REF!"}},{"$f":"#REF!","v":{"$error":"#REF!"}},"ANZ_MITARBEITER_FREIWILLIG",null,null,{"$f":"IF(ISBLANK(#REF!),\"\",#REF!)","v":{"$error":"#REF!"}}]
[null,{"$f":"#REF!","v":{"$error":"#REF!"}},{"$f":"#REF!","v":{"$error":"#REF!"}},{"$f":"#REF!","v":{"$error":"#REF!"}},"ANZ_MA_FREIWILLIG_BEHINDERT",null,null,{"$f":"IF(ISBLANK(#REF!),\"\",#REF!)","v":{"$error":"#REF!"}}]
[null,{"$f":"#REF!","v":{"$error":"#REF!"}},{"$f":"#REF!","v":{"$error":"#REF!"}},{"$f":"#REF!","v":{"$error":"#REF!"}},"ANZ_MITARBEITER_EHRENAMTLICH",null,null,{"$f":"IF(ISBLANK(#REF!),\"\",#REF!)","v":{"$error":"#REF!"}}]
[null,{"$f":"#REF!","v":{"$error":"#REF!"}},{"$f":"#REF!","v":{"$error":"#REF!"}},{"$f":"#REF!","v":{"$error":"#REF!"}},"ANZ_MA_EHRENAMTLICH_BEHINDERT",null,null,{"$f":"IF(ISBLANK(#REF!),\"\",#REF!)","v":{"$error":"#REF!"}}]
[null,{"$f":"#REF!","v":{"$error":"#REF!"}},{"$f":"#REF!","v":{"$error":"#REF!"}},{"$f":"#REF!","v":{"$error":"#REF!"}},"PERSONALAUFWAND",null,null,{"$f":"IF(ISBLANK(#REF!),\"\",#REF!)","v":{"$error":"#REF!"}}]
[null,{"$f":"#REF!","v":{"$error":"#REF!"}},{"$f":"#REF!","v":{"$error":"#REF!"}},{"$f":"#REF!","v":{"$error":"#REF!"}},"BETRIEBSAUFWAND",null,null,{"$f":"IF(ISBLANK(#REF!),\"\",#REF!)","v":{"$error":"#REF!"}}]
[null,{"$f":"#REF!","v":{"$error":"#REF!"}},{"$f":"#REF!","v":{"$error":"#REF!"}},{"$f":"#REF!","v":{"$error":"#REF!"}},"BETRIEBSERTRAG",null,null,{"$f":"IF(ISBLANK(#REF!),\"\",#REF!)","v":{"$error":"#REF!"}}]
[null,{"$f":"#REF!","v":{"$error":"#REF!"}},{"$f":"#REF!","v":{"$error":"#REF!"}},{"$f":"#REF!","v":{"$error":"#REF!"}},"BEITRAG_IV",null,null,{"$f":"IF(ISBLANK(#REF!),\"\",#REF!)","v":{"$error":"#REF!"}}]
[null,{"$f":"#REF!","v":{"$error":"#REF!"}},{"$f":"#REF!","v":{"$error":"#REF!"}},{"$f":"#REF!","v":{"$error":"#REF!"}},"BEITRAG_AHV",null,null,{"$f":"IF(ISBLANK(#REF!),\"\",#REF!)","v":{"$error":"#REF!"}}]
[null,{"$f":"#REF!","v":{"$error":"#REF!"}},{"$f":"#REF!","v":{"$error":"#REF!"}},{"$f":"#REF!","v":{"$error":"#REF!"}},"ANZ_MITARBEITER",null,null,{"$f":"IF(ISBLANK(#REF!),\"\",#REF!)","v":{"$error":"#REF!"}}]
[null,{"$f":"#REF!","v":{"$error":"#REF!"}},{"$f":"#REF!","v":{"$error":"#REF!"}},{"$f":"#REF!","v":{"$error":"#REF!"}},"ANZ_MITARBEITER_BEHINDERT",null,null,{"$f":"IF(ISBLANK(#REF!),\"\",#REF!)","v":{"$error":"#REF!"}}]
[null,{"$f":"#REF!","v":{"$error":"#REF!"}},{"$f":"#REF!","v":{"$error":"#REF!"}},{"$f":"#REF!","v":{"$error":"#REF!"}},"ANZ_MITARBEITER_FREIWILLIG",null,null,{"$f":"IF(ISBLANK(#REF!),\"\",#REF!)","v":{"$error":"#REF!"}}]
[null,{"$f":"#REF!","v":{"$error":"#REF!"}},{"$f":"#REF!","v":{"$error":"#REF!"}},{"$f":"#REF!","v":{"$error":"#REF!"}},"ANZ_MA_FREIWILLIG_BEHINDERT",null,null,{"$f":"IF(ISBLANK(#REF!),\"\",#REF!)","v":{"$error":"#REF!"}}]
[null,{"$f":"#REF!","v":{"$error":"#REF!"}},{"$f":"#REF!","v":{"$error":"#REF!"}},{"$f":"#REF!","v":{"$error":"#REF!"}},"ANZ_MITARBEITER_EHRENAMTLICH",null,null,{"$f":"IF(ISBLANK(#REF!),\"\",#REF!)","v":{"$error":"#REF!"}}]
[null,{"$f":"#REF!","v":{"$error":"#REF!"}},{"$f":"#REF!","v":{"$error":"#REF!"}},{"$f":"#REF!","v":{"$error":"#REF!"}},"ANZ_MA_EHRENAMTLICH_BEHINDERT",null,null,{"$f":"IF(ISBLANK(#REF!),\"\",#REF!)","v":{"$error":"#REF!"}}]
[null,{"$f":"#REF!","v":{"$error":"#REF!"}},{"$f":"#REF!","v":{"$error":"#REF!"}},{"$f":"#REF!","v":{"$error":"#REF!"}},"PERSONALAUFWAND",null,null,{"$f":"IF(ISBLANK(#REF!),\"\",#REF!)","v":{"$error":"#REF!"}}]
[null,{"$f":"#REF!","v":{"$error":"#REF!"}},{"$f":"#REF!","v":{"$error":"#REF!"}},{"$f":"#REF!","v":{"$error":"#REF!"}},"BETRIEBSAUFWAND",null,null,{"$f":"IF(ISBLANK(#REF!),\"\",#REF!)","v":{"$error":"#REF!"}}]
[null,{"$f":"#REF!","v":{"$error":"#REF!"}},{"$f":"#REF!","v":{"$error":"#REF!"}},{"$f":"#REF!","v":{"$error":"#REF!"}},"BETRIEBSERTRAG",null,null,{"$f":"IF(ISBLANK(#REF!),\"\",#REF!)","v":{"$error":"#REF!"}}]
[null,{"$f":"#REF!","v":{"$error":"#REF!"}},{"$f":"#REF!","v":{"$error":"#REF!"}},{"$f":"#REF!","v":{"$error":"#REF!"}},"BEITRAG_IV",null,null,{"$f":"IF(ISBLANK(#REF!),\"\",#REF!)","v":{"$error":"#REF!"}}]
[null,{"$f":"#REF!","v":{"$error":"#REF!"}},{"$f":"#REF!","v":{"$error":"#REF!"}},{"$f":"#REF!","v":{"$error":"#REF!"}},"BEITRAG_AHV",null,null,{"$f":"IF(ISBLANK(#REF!),\"\",#REF!)","v":{"$error":"#REF!"}}]
[null,{"$f":"#REF!","v":{"$error":"#REF!"}},{"$f":"#REF!","v":{"$error":"#REF!"}},{"$f":"#REF!","v":{"$error":"#REF!"}},"ANZ_MITARBEITER",null,null,{"$f":"IF(ISBLANK(#REF!),\"\",#REF!)","v":{"$error":"#REF!"}}]
[null,{"$f":"#REF!","v":{"$error":"#REF!"}},{"$f":"#REF!","v":{"$error":"#REF!"}},{"$f":"#REF!","v":{"$error":"#REF!"}},"ANZ_MITARBEITER_BEHINDERT",null,null,{"$f":"IF(ISBLANK(#REF!),\"\",#REF!)","v":{"$error":"#REF!"}}]
[null,{"$f":"#REF!","v":{"$error":"#REF!"}},{"$f":"#REF!","v":{"$error":"#REF!"}},{"$f":"#REF!","v":{"$error":"#REF!"}},"ANZ_MITARBEITER_FREIWILLIG",null,null,{"$f":"IF(ISBLANK(#REF!),\"\",#REF!)","v":{"$error":"#REF!"}}]
[null,{"$f":"#REF!","v":{"$error":"#REF!"}},{"$f":"#REF!","v":{"$error":"#REF!"}},{"$f":"#REF!","v":{"$error":"#REF!"}},"ANZ_MA_FREIWILLIG_BEHINDERT",null,null,{"$f":"IF(ISBLANK(#REF!),\"\",#REF!)","v":{"$error":"#REF!"}}]
[null,{"$f":"#REF!","v":{"$error":"#REF!"}},{"$f":"#REF!","v":{"$error":"#REF!"}},{"$f":"#REF!","v":{"$error":"#REF!"}},"ANZ_MITARBEITER_EHRENAMTLICH",null,null,{"$f":"IF(ISBLANK(#REF!),\"\",#REF!)","v":{"$error":"#REF!"}}]
[null,{"$f":"#REF!","v":{"$error":"#REF!"}},{"$f":"#REF!","v":{"$error":"#REF!"}},{"$f":"#REF!","v":{"$error":"#REF!"}},"ANZ_MA_EHRENAMTLICH_BEHINDERT",null,null,{"$f":"IF(ISBLANK(#REF!),\"\",#REF!)","v":{"$error":"#REF!"}}]
[null,{"$f":"#REF!","v":{"$error":"#REF!"}},{"$f":"#REF!","v":{"$error":"#REF!"}},{"$f":"#REF!","v":{"$error":"#REF!"}},"PERSONALAUFWAND",null,null,{"$f":"IF(ISBLANK(#REF!),\"\",#REF!)","v":{"$error":"#REF!"}}]
[null,{"$f":"#REF!","v":{"$error":"#REF!"}},{"$f":"#REF!","v":{"$error":"#REF!"}},{"$f":"#REF!","v":{"$error":"#REF!"}},"BETRIEBSAUFWAND",null,null,{"$f":"IF(ISBLANK(#REF!),\"\",#REF!)","v":{"$error":"#REF!"}}]
[null,{"$f":"#REF!","v":{"$error":"#REF!"}},{"$f":"#REF!","v":{"$error":"#REF!"}},{"$f":"#REF!","v":{"$error":"#REF!"}},"BETRIEBSERTRAG",null,null,{"$f":"IF(ISBLANK(#REF!),\"\",#REF!)","v":{"$error":"#REF!"}}]
[null,{"$f":"#REF!","v":{"$error":"#REF!"}},{"$f":"#REF!","v":{"$error":"#REF!"}},{"$f":"#REF!","v":{"$error":"#REF!"}},"BEITRAG_IV",null,null,{"$f":"IF(ISBLANK(#REF!),\"\",#REF!)","v":{"$error":"#REF!"}}]
[null,{"$f":"#REF!","v":{"$error":"#REF!"}},{"$f":"#REF!","v":{"$error":"#REF!"}},{"$f":"#REF!","v":{"$error":"#REF!"}},"BEITRAG_AHV",null,null,{"$f":"IF(ISBLANK(#REF!),\"\",#REF!)","v":{"$error":"#REF!"}}]
[null,{"$f":"#REF!","v":{"$error":"#REF!"}},{"$f":"#REF!","v":{"$error":"#REF!"}},{"$f":"#REF!","v":{"$error":"#REF!"}},"ANZ_MITARBEITER",null,null,{"$f":"IF(ISBLANK(#REF!),\"\",#REF!)","v":{"$error":"#REF!"}}]
[null,{"$f":"#REF!","v":{"$error":"#REF!"}},{"$f":"#REF!","v":{"$error":"#REF!"}},{"$f":"#REF!","v":{"$error":"#REF!"}},"ANZ_MITARBEITER_BEHINDERT",null,null,{"$f":"IF(ISBLANK(#REF!),\"\",#REF!)","v":{"$error":"#REF!"}}]
[null,{"$f":"#REF!","v":{"$error":"#REF!"}},{"$f":"#REF!","v":{"$error":"#REF!"}},{"$f":"#REF!","v":{"$error":"#REF!"}},"ANZ_MITARBEITER_FREIWILLIG",null,null,{"$f":"IF(ISBLANK(#REF!),\"\",#REF!)","v":{"$error":"#REF!"}}]
[null,{"$f":"#REF!","v":{"$error":"#REF!"}},{"$f":"#REF!","v":{"$error":"#REF!"}},{"$f":"#REF!","v":{"$error":"#REF!"}},"ANZ_MA_FREIWILLIG_BEHINDERT",null,null,{"$f":"IF(ISBLANK(#REF!),\"\",#REF!)","v":{"$error":"#REF!"}}]
[null,{"$f":"#REF!","v":{"$error":"#REF!"}},{"$f":"#REF!","v":{"$error":"#REF!"}},{"$f":"#REF!","v":{"$error":"#REF!"}},"ANZ_MITARBEITER_EHRENAMTLICH",null,null,{"$f":"IF(ISBLANK(#REF!),\"\",#REF!)","v":{"$error":"#REF!"}}]
[null,{"$f":"#REF!","v":{"$error":"#REF!"}},{"$f":"#REF!","v":{"$error":"#REF!"}},{"$f":"#REF!","v":{"$error":"#REF!"}},"ANZ_MA_EHRENAMTLICH_BEHINDERT",null,null,{"$f":"IF(ISBLANK(#REF!),\"\",#REF!)","v":{"$error":"#REF!"}}]
[null,{"$f":"#REF!","v":{"$error":"#REF!"}},{"$f":"#REF!","v":{"$error":"#REF!"}},{"$f":"#REF!","v":{"$error":"#REF!"}},"PERSONALAUFWAND",null,null,{"$f":"IF(ISBLANK(#REF!),\"\",#REF!)","v":{"$error":"#REF!"}}]
[null,{"$f":"#REF!","v":{"$error":"#REF!"}},{"$f":"#REF!","v":{"$error":"#REF!"}},{"$f":"#REF!","v":{"$error":"#REF!"}},"BETRIEBSAUFWAND",null,null,{"$f":"IF(ISBLANK(#REF!),\"\",#REF!)","v":{"$error":"#REF!"}}]
[null,{"$f":"#REF!","v":{"$error":"#REF!"}},{"$f":"#REF!","v":{"$error":"#REF!"}},{"$f":"#REF!","v":{"$error":"#REF!"}},"BETRIEBSERTRAG",null,null,{"$f":"IF(ISBLANK(#REF!),\"\",#REF!)","v":{"$error":"#REF!"}}]
[null,{"$f":"#REF!","v":{"$error":"#REF!"}},{"$f":"#REF!","v":{"$error":"#REF!"}},{"$f":"#REF!","v":{"$error":"#REF!"}},"BEITRAG_IV",null,null,{"$f":"IF(ISBLANK(#REF!),\"\",#REF!)","v":{"$error":"#REF!"}}]
[null,{"$f":"#REF!","v":{"$error":"#REF!"}},{"$f":"#REF!","v":{"$error":"#REF!"}},{"$f":"#REF!","v":{"$error":"#REF!"}},"BEITRAG_AHV",null,null,{"$f":"IF(ISBLANK(#REF!),\"\",#REF!)","v":{"$error":"#REF!"}}]
[null,{"$f":"#REF!","v":{"$error":"#REF!"}},{"$f":"#REF!","v":{"$error":"#REF!"}},{"$f":"#REF!","v":{"$error":"#REF!"}},"ANZ_MITARBEITER",null,null,{"$f":"IF(ISBLANK(#REF!),\"\",#REF!)","v":{"$error":"#REF!"}}]
[null,{"$f":"#REF!","v":{"$error":"#REF!"}},{"$f":"#REF!","v":{"$error":"#REF!"}},{"$f":"#REF!","v":{"$error":"#REF!"}},"ANZ_MITARBEITER_BEHINDERT",null,null,{"$f":"IF(ISBLANK(#REF!),\"\",#REF!)","v":{"$error":"#REF!"}}]
[null,{"$f":"#REF!","v":{"$error":"#REF!"}},{"$f":"#REF!","v":{"$error":"#REF!"}},{"$f":"#REF!","v":{"$error":"#REF!"}},"ANZ_MITARBEITER_FREIWILLIG",null,null,{"$f":"IF(ISBLANK(#REF!),\"\",#REF!)","v":{"$error":"#REF!"}}]
[null,{"$f":"#REF!","v":{"$error":"#REF!"}},{"$f":"#REF!","v":{"$error":"#REF!"}},{"$f":"#REF!","v":{"$error":"#REF!"}},"ANZ_MA_FREIWILLIG_BEHINDERT",null,null,{"$f":"IF(ISBLANK(#REF!),\"\",#REF!)","v":{"$error":"#REF!"}}]
[null,{"$f":"#REF!","v":{"$error":"#REF!"}},{"$f":"#REF!","v":{"$error":"#REF!"}},{"$f":"#REF!","v":{"$error":"#REF!"}},"ANZ_MITARBEITER_EHRENAMTLICH",null,null,{"$f":"IF(ISBLANK(#REF!),\"\",#REF!)","v":{"$error":"#REF!"}}]
[null,{"$f":"#REF!","v":{"$error":"#REF!"}},{"$f":"#REF!","v":{"$error":"#REF!"}},{"$f":"#REF!","v":{"$error":"#REF!"}},"ANZ_MA_EHRENAMTLICH_BEHINDERT",null,null,{"$f":"IF(ISBLANK(#REF!),\"\",#REF!)","v":{"$error":"#REF!"}}]
[null,{"$f":"#REF!","v":{"$error":"#REF!"}},{"$f":"#REF!","v":{"$error":"#REF!"}},{"$f":"#REF!","v":{"$error":"#REF!"}},"PERSONALAUFWAND",null,null,{"$f":"IF(ISBLANK(#REF!),\"\",#REF!)","v":{"$error":"#REF!"}}]
[null,{"$f":"#REF!","v":{"$error":"#REF!"}},{"$f":"#REF!","v":{"$error":"#REF!"}},{"$f":"#REF!","v":{"$error":"#REF!"}},"BETRIEBSAUFWAND",null,null,{"$f":"IF(ISBLANK(#REF!),\"\",#REF!)","v":{"$error":"#REF!"}}]
[null,{"$f":"#REF!","v":{"$error":"#REF!"}},{"$f":"#REF!","v":{"$error":"#REF!"}},{"$f":"#REF!","v":{"$error":"#REF!"}},"BETRIEBSERTRAG",null,null,{"$f":"IF(ISBLANK(#REF!),\"\",#REF!)","v":{"$error":"#REF!"}}]
[null,{"$f":"#REF!","v":{"$error":"#REF!"}},{"$f":"#REF!","v":{"$error":"#REF!"}},{"$f":"#REF!","v":{"$error":"#REF!"}},"BEITRAG_IV",null,null,{"$f":"IF(ISBLANK(#REF!),\"\",#REF!)","v":{"$error":"#REF!"}}]
[null,{"$f":"#REF!","v":{"$error":"#REF!"}},{"$f":"#REF!","v":{"$error":"#REF!"}},{"$f":"#REF!","v":{"$error":"#REF!"}},"BEITRAG_AHV",null,null,{"$f":"IF(ISBLANK(#REF!),\"\",#REF!)","v":{"$error":"#REF!"}}]
[null,{"$f":"#REF!","v":{"$error":"#REF!"}},{"$f":"#REF!","v":{"$error":"#REF!"}},{"$f":"#REF!","v":{"$error":"#REF!"}},"ANZ_MITARBEITER",null,null,{"$f":"IF(ISBLANK(#REF!),\"\",#REF!)","v":{"$error":"#REF!"}}]
[null,{"$f":"#REF!","v":{"$error":"#REF!"}},{"$f":"#REF!","v":{"$error":"#REF!"}},{"$f":"#REF!","v":{"$error":"#REF!"}},"ANZ_MITARBEITER_BEHINDERT",null,null,{"$f":"IF(ISBLANK(#REF!),\"\",#REF!)","v":{"$error":"#REF!"}}]
[null,{"$f":"#REF!","v":{"$error":"#REF!"}},{"$f":"#REF!","v":{"$error":"#REF!"}},{"$f":"#REF!","v":{"$error":"#REF!"}},"ANZ_MITARBEITER_FREIWILLIG",null,null,{"$f":"IF(ISBLANK(#REF!),\"\",#REF!)","v":{"$error":"#REF!"}}]
[null,{"$f":"#REF!","v":{"$error":"#REF!"}},{"$f":"#REF!","v":{"$error":"#REF!"}},{"$f":"#REF!","v":{"$error":"#REF!"}},"ANZ_MA_FREIWILLIG_BEHINDERT",null,null,{"$f":"IF(ISBLANK(#REF!),\"\",#REF!)","v":{"$error":"#REF!"}}]
[null,{"$f":"#REF!","v":{"$error":"#REF!"}},{"$f":"#REF!","v":{"$error":"#REF!"}},{"$f":"#REF!","v":{"$error":"#REF!"}},"ANZ_MITARBEITER_EHRENAMTLICH",null,null,{"$f":"IF(ISBLANK(#REF!),\"\",#REF!)","v":{"$error":"#REF!"}}]
[null,{"$f":"#REF!","v":{"$error":"#REF!"}},{"$f":"#REF!","v":{"$error":"#REF!"}},{"$f":"#REF!","v":{"$error":"#REF!"}},"ANZ_MA_EHRENAMTLICH_BEHINDERT",null,null,{"$f":"IF(ISBLANK(#REF!),\"\",#REF!)","v":{"$error":"#REF!"}}]
[null,{"$f":"#REF!","v":{"$error":"#REF!"}},{"$f":"#REF!","v":{"$error":"#REF!"}},{"$f":"#REF!","v":{"$error":"#REF!"}},"PERSONALAUFWAND",null,null,{"$f":"IF(ISBLANK(#REF!),\"\",#REF!)","v":{"$error":"#REF!"}}]
[null,{"$f":"#REF!","v":{"$error":"#REF!"}},{"$f":"#REF!","v":{"$error":"#REF!"}},{"$f":"#REF!","v":{"$error":"#REF!"}},"BETRIEBSAUFWAND",null,null,{"$f":"IF(ISBLANK(#REF!),\"\",#REF!)","v":{"$error":"#REF!"}}]
[null,{"$f":"#REF!","v":{"$error":"#REF!"}},{"$f":"#REF!","v":{"$error":"#REF!"}},{"$f":"#REF!","v":{"$error":"#REF!"}},"BETRIEBSERTRAG",null,null,{"$f":"IF(ISBLANK(#REF!),\"\",#REF!)","v":{"$error":"#REF!"}}]
[null,{"$f":"#REF!","v":{"$error":"#REF!"}},{"$f":"#REF!","v":{"$error":"#REF!"}},{"$f":"#REF!","v":{"$error":"#REF!"}},"BEITRAG_IV",null,null,{"$f":"IF(ISBLANK(#REF!),\"\",#REF!)","v":{"$error":"#REF!"}}]
[null,{"$f":"#REF!","v":{"$error":"#REF!"}},{"$f":"#REF!","v":{"$error":"#REF!"}},{"$f":"#REF!","v":{"$error":"#REF!"}},"BEITRAG_AHV",null,null,{"$f":"IF(ISBLANK(#REF!),\"\",#REF!)","v":{"$error":"#REF!"}}]
[null,{"$f":"#REF!","v":{"$error":"#REF!"}},{"$f":"#REF!","v":{"$error":"#REF!"}},{"$f":"#REF!","v":{"$error":"#REF!"}},"ANZ_MITARBEITER",null,null,{"$f":"IF(ISBLANK(#REF!),\"\",#REF!)","v":{"$error":"#REF!"}}]
[null,{"$f":"#REF!","v":{"$error":"#REF!"}},{"$f":"#REF!","v":{"$error":"#REF!"}},{"$f":"#REF!","v":{"$error":"#REF!"}},"ANZ_MITARBEITER_BEHINDERT",null,null,{"$f":"IF(ISBLANK(#REF!),\"\",#REF!)","v":{"$error":"#REF!"}}]
[null,{"$f":"#REF!","v":{"$error":"#REF!"}},{"$f":"#REF!","v":{"$error":"#REF!"}},{"$f":"#REF!","v":{"$error":"#REF!"}},"ANZ_MITARBEITER_FREIWILLIG",null,null,{"$f":"IF(ISBLANK(#REF!),\"\",#REF!)","v":{"$error":"#REF!"}}]
[null,{"$f":"#REF!","v":{"$error":"#REF!"}},{"$f":"#REF!","v":{"$error":"#REF!"}},{"$f":"#REF!","v":{"$error":"#REF!"}},"ANZ_MA_FREIWILLIG_BEHINDERT",null,null,{"$f":"IF(ISBLANK(#REF!),\"\",#REF!)","v":{"$error":"#REF!"}}]
[null,{"$f":"#REF!","v":{"$error":"#REF!"}},{"$f":"#REF!","v":{"$error":"#REF!"}},{"$f":"#REF!","v":{"$error":"#REF!"}},"ANZ_MITARBEITER_EHRENAMTLICH",null,null,{"$f":"IF(ISBLANK(#REF!),\"\",#REF!)","v":{"$error":"#REF!"}}]
[null,{"$f":"#REF!","v":{"$error":"#REF!"}},{"$f":"#REF!","v":{"$error":"#REF!"}},{"$f":"#REF!","v":{"$error":"#REF!"}},"ANZ_MA_EHRENAMTLICH_BEHINDERT",null,null,{"$f":"IF(ISBLANK(#REF!),\"\",#REF!)","v":{"$error":"#REF!"}}]
[null,{"$f":"#REF!","v":{"$error":"#REF!"}},{"$f":"#REF!","v":{"$error":"#REF!"}},{"$f":"#REF!","v":{"$error":"#REF!"}},"PERSONALAUFWAND",null,null,{"$f":"IF(ISBLANK(#REF!),\"\",#REF!)","v":{"$error":"#REF!"}}]
[null,{"$f":"#REF!","v":{"$error":"#REF!"}},{"$f":"#REF!","v":{"$error":"#REF!"}},{"$f":"#REF!","v":{"$error":"#REF!"}},"BETRIEBSAUFWAND",null,null,{"$f":"IF(ISBLANK(#REF!),\"\",#REF!)","v":{"$error":"#REF!"}}]
[null,{"$f":"#REF!","v":{"$error":"#REF!"}},{"$f":"#REF!","v":{"$error":"#REF!"}},{"$f":"#REF!","v":{"$error":"#REF!"}},"BETRIEBSERTRAG",null,null,{"$f":"IF(ISBLANK(#REF!),\"\",#REF!)","v":{"$error":"#REF!"}}]
[null,{"$f":"#REF!","v":{"$error":"#REF!"}},{"$f":"#REF!","v":{"$error":"#REF!"}},{"$f":"#REF!","v":{"$error":"#REF!"}},"BEITRAG_IV",null,null,{"$f":"IF(ISBLANK(#REF!),\"\",#REF!)","v":{"$error":"#REF!"}}]
[null,{"$f":"#REF!","v":{"$error":"#REF!"}},{"$f":"#REF!","v":{"$error":"#REF!"}},{"$f":"#REF!","v":{"$error":"#REF!"}},"BEITRAG_AHV",null,null,{"$f":"IF(ISBLANK(#REF!),\"\",#REF!)","v":{"$error":"#REF!"}}]
[null,{"$f":"#REF!","v":{"$error":"#REF!"}},{"$f":"#REF!","v":{"$error":"#REF!"}},{"$f":"#REF!","v":{"$error":"#REF!"}},"ANZ_MITARBEITER",null,null,{"$f":"IF(ISBLANK(#REF!),\"\",#REF!)","v":{"$error":"#REF!"}}]
[null,{"$f":"#REF!","v":{"$error":"#REF!"}},{"$f":"#REF!","v":{"$error":"#REF!"}},{"$f":"#REF!","v":{"$error":"#REF!"}},"ANZ_MITARBEITER_BEHINDERT",null,null,{"$f":"IF(ISBLANK(#REF!),\"\",#REF!)","v":{"$error":"#REF!"}}]
[null,{"$f":"#REF!","v":{"$error":"#REF!"}},{"$f":"#REF!","v":{"$error":"#REF!"}},{"$f":"#REF!","v":{"$error":"#REF!"}},"ANZ_MITARBEITER_FREIWILLIG",null,null,{"$f":"IF(ISBLANK(#REF!),\"\",#REF!)","v":{"$error":"#REF!"}}]
[null,{"$f":"#REF!","v":{"$error":"#REF!"}},{"$f":"#REF!","v":{"$error":"#REF!"}},{"$f":"#REF!","v":{"$error":"#REF!"}},"ANZ_MA_FREIWILLIG_BEHINDERT",null,null,{"$f":"IF(ISBLANK(#REF!),\"\",#REF!)","v":{"$error":"#REF!"}}]
[null,{"$f":"#REF!","v":{"$error":"#REF!"}},{"$f":"#REF!","v":{"$error":"#REF!"}},{"$f":"#REF!","v":{"$error":"#REF!"}},"ANZ_MITARBEITER_EHRENAMTLICH",null,null,{"$f":"IF(ISBLANK(#REF!),\"\",#REF!)","v":{"$error":"#REF!"}}]
[null,{"$f":"#REF!","v":{"$error":"#REF!"}},{"$f":"#REF!","v":{"$error":"#REF!"}},{"$f":"#REF!","v":{"$error":"#REF!"}},"ANZ_MA_EHRENAMTLICH_BEHINDERT",null,null,{"$f":"IF(ISBLANK(#REF!),\"\",#REF!)","v":{"$error":"#REF!"}}]
[null,{"$f":"#REF!","v":{"$error":"#REF!"}},{"$f":"#REF!","v":{"$error":"#REF!"}},{"$f":"#REF!","v":{"$error":"#REF!"}},"PERSONALAUFWAND",null,null,{"$f":"IF(ISBLANK(#REF!),\"\",#REF!)","v":{"$error":"#REF!"}}]
[null,{"$f":"#REF!","v":{"$error":"#REF!"}},{"$f":"#REF!","v":{"$error":"#REF!"}},{"$f":"#REF!","v":{"$error":"#REF!"}},"BETRIEBSAUFWAND",null,null,{"$f":"IF(ISBLANK(#REF!),\"\",#REF!)","v":{"$error":"#REF!"}}]
[null,{"$f":"#REF!","v":{"$error":"#REF!"}},{"$f":"#REF!","v":{"$error":"#REF!"}},{"$f":"#REF!","v":{"$error":"#REF!"}},"BETRIEBSERTRAG",null,null,{"$f":"IF(ISBLANK(#REF!),\"\",#REF!)","v":{"$error":"#REF!"}}]
[null,{"$f":"#REF!","v":{"$error":"#REF!"}},{"$f":"#REF!","v":{"$error":"#REF!"}},{"$f":"#REF!","v":{"$error":"#REF!"}},"BEITRAG_IV",null,null,{"$f":"IF(ISBLANK(#REF!),\"\",#REF!)","v":{"$error":"#REF!"}}]
[null,{"$f":"#REF!","v":{"$error":"#REF!"}},{"$f":"#REF!","v":{"$error":"#REF!"}},{"$f":"#REF!","v":{"$error":"#REF!"}},"BEITRAG_AHV",null,null,{"$f":"IF(ISBLANK(#REF!),\"\",#REF!)","v":{"$error":"#REF!"}}]
[null,{"$f":"#REF!","v":{"$error":"#REF!"}},{"$f":"#REF!","v":{"$error":"#REF!"}},{"$f":"#REF!","v":{"$error":"#REF!"}},"ANZ_MITARBEITER",null,null,{"$f":"IF(ISBLANK(#REF!),\"\",#REF!)","v":{"$error":"#REF!"}}]
[null,{"$f":"#REF!","v":{"$error":"#REF!"}},{"$f":"#REF!","v":{"$error":"#REF!"}},{"$f":"#REF!","v":{"$error":"#REF!"}},"ANZ_MITARBEITER_BEHINDERT",null,null,{"$f":"IF(ISBLANK(#REF!),\"\",#REF!)","v":{"$error":"#REF!"}}]
[null,{"$f":"#REF!","v":{"$error":"#REF!"}},{"$f":"#REF!","v":{"$error":"#REF!"}},{"$f":"#REF!","v":{"$error":"#REF!"}},"ANZ_MITARBEITER_FREIWILLIG",null,null,{"$f":"IF(ISBLANK(#REF!),\"\",#REF!)","v":{"$error":"#REF!"}}]
[null,{"$f":"#REF!","v":{"$error":"#REF!"}},{"$f":"#REF!","v":{"$error":"#REF!"}},{"$f":"#REF!","v":{"$error":"#REF!"}},"ANZ_MA_FREIWILLIG_BEHINDERT",null,null,{"$f":"IF(ISBLANK(#REF!),\"\",#REF!)","v":{"$error":"#REF!"}}]
[null,{"$f":"#REF!","v":{"$error":"#REF!"}},{"$f":"#REF!","v":{"$error":"#REF!"}},{"$f":"#REF!","v":{"$error":"#REF!"}},"ANZ_MITARBEITER_EHRENAMTLICH",null,null,{"$f":"IF(ISBLANK(#REF!),\"\",#REF!)","v":{"$error":"#REF!"}}]
[null,{"$f":"#REF!","v":{"$error":"#REF!"}},{"$f":"#REF!","v":{"$error":"#REF!"}},{"$f":"#REF!","v":{"$error":"#REF!"}},"ANZ_MA_EHRENAMTLICH_BEHINDERT",null,null,{"$f":"IF(ISBLANK(#REF!),\"\",#REF!)","v":{"$error":"#REF!"}}]
[null,{"$f":"#REF!","v":{"$error":"#REF!"}},{"$f":"#REF!","v":{"$error":"#REF!"}},{"$f":"#REF!","v":{"$error":"#REF!"}},"PERSONALAUFWAND",null,null,{"$f":"IF(ISBLANK(#REF!),\"\",#REF!)","v":{"$error":"#REF!"}}]
[null,{"$f":"#REF!","v":{"$error":"#REF!"}},{"$f":"#REF!","v":{"$error":"#REF!"}},{"$f":"#REF!","v":{"$error":"#REF!"}},"BETRIEBSAUFWAND",null,null,{"$f":"IF(ISBLANK(#REF!),\"\",#REF!)","v":{"$error":"#REF!"}}]
[null,{"$f":"#REF!","v":{"$error":"#REF!"}},{"$f":"#REF!","v":{"$error":"#REF!"}},{"$f":"#REF!","v":{"$error":"#REF!"}},"BETRIEBSERTRAG",null,null,{"$f":"IF(ISBLANK(#REF!),\"\",#REF!)","v":{"$error":"#REF!"}}]
[null,{"$f":"#REF!","v":{"$error":"#REF!"}},{"$f":"#REF!","v":{"$error":"#REF!"}},{"$f":"#REF!","v":{"$error":"#REF!"}},"BEITRAG_IV",null,null,{"$f":"IF(ISBLANK(#REF!),\"\",#REF!)","v":{"$error":"#REF!"}}]
[null,{"$f":"#REF!","v":{"$error":"#REF!"}},{"$f":"#REF!","v":{"$error":"#REF!"}},{"$f":"#REF!","v":{"$error":"#REF!"}},"BEITRAG_AHV",null,null,{"$f":"IF(ISBLANK(#REF!),\"\",#REF!)","v":{"$error":"#REF!"}}]
[null,{"$f":"#REF!","v":{"$error":"#REF!"}},{"$f":"#REF!","v":{"$error":"#REF!"}},{"$f":"#REF!","v":{"$error":"#REF!"}},"ANZ_MITARBEITER",null,null,{"$f":"IF(ISBLANK(#REF!),\"\",#REF!)","v":{"$error":"#REF!"}}]
[null,{"$f":"#REF!","v":{"$error":"#REF!"}},{"$f":"#REF!","v":{"$error":"#REF!"}},{"$f":"#REF!","v":{"$error":"#REF!"}},"ANZ_MITARBEITER_BEHINDERT",null,null,{"$f":"IF(ISBLANK(#REF!),\"\",#REF!)","v":{"$error":"#REF!"}}]
[null,{"$f":"#REF!","v":{"$error":"#REF!"}},{"$f":"#REF!","v":{"$error":"#REF!"}},{"$f":"#REF!","v":{"$error":"#REF!"}},"ANZ_MITARBEITER_FREIWILLIG",null,null,{"$f":"IF(ISBLANK(#REF!),\"\",#REF!)","v":{"$error":"#REF!"}}]
[null,{"$f":"#REF!","v":{"$error":"#REF!"}},{"$f":"#REF!","v":{"$error":"#REF!"}},{"$f":"#REF!","v":{"$error":"#REF!"}},"ANZ_MA_FREIWILLIG_BEHINDERT",null,null,{"$f":"IF(ISBLANK(#REF!),\"\",#REF!)","v":{"$error":"#REF!"}}]
[null,{"$f":"#REF!","v":{"$error":"#REF!"}},{"$f":"#REF!","v":{"$error":"#REF!"}},{"$f":"#REF!","v":{"$error":"#REF!"}},"ANZ_MITARBEITER_EHRENAMTLICH",null,null,{"$f":"IF(ISBLANK(#REF!),\"\",#REF!)","v":{"$error":"#REF!"}}]
[null,{"$f":"#REF!","v":{"$error":"#REF!"}},{"$f":"#REF!","v":{"$error":"#REF!"}},{"$f":"#REF!","v":{"$error":"#REF!"}},"ANZ_MA_EHRENAMTLICH_BEHINDERT",null,null,{"$f":"IF(ISBLANK(#REF!),\"\",#REF!)","v":{"$error":"#REF!"}}]
[null,{"$f":"#REF!","v":{"$error":"#REF!"}},{"$f":"#REF!","v":{"$error":"#REF!"}},{"$f":"#REF!","v":{"$error":"#REF!"}},"PERSONALAUFWAND",null,null,{"$f":"IF(ISBLANK(#REF!),\"\",#REF!)","v":{"$error":"#REF!"}}]
[null,{"$f":"#REF!","v":{"$error":"#REF!"}},{"$f":"#REF!","v":{"$error":"#REF!"}},{"$f":"#REF!","v":{"$error":"#REF!"}},"BETRIEBSAUFWAND",null,null,{"$f":"IF(ISBLANK(#REF!),\"\",#REF!)","v":{"$error":"#REF!"}}]
[null,{"$f":"#REF!","v":{"$error":"#REF!"}},{"$f":"#REF!","v":{"$error":"#REF!"}},{"$f":"#REF!","v":{"$error":"#REF!"}},"BETRIEBSERTRAG",null,null,{"$f":"IF(ISBLANK(#REF!),\"\",#REF!)","v":{"$error":"#REF!"}}]
[null,{"$f":"#REF!","v":{"$error":"#REF!"}},{"$f":"#REF!","v":{"$error":"#REF!"}},{"$f":"#REF!","v":{"$error":"#REF!"}},"BEITRAG_IV",null,null,{"$f":"IF(ISBLANK(#REF!),\"\",#REF!)","v":{"$error":"#REF!"}}]
[null,{"$f":"#REF!","v":{"$error":"#REF!"}},{"$f":"#REF!","v":{"$error":"#REF!"}},{"$f":"#REF!","v":{"$error":"#REF!"}},"BEITRAG_AHV",null,null,{"$f":"IF(ISBLANK(#REF!),\"\",#REF!)","v":{"$error":"#REF!"}}]
[null,{"$f":"#REF!","v":{"$error":"#REF!"}},{"$f":"#REF!","v":{"$error":"#REF!"}},{"$f":"#REF!","v":{"$error":"#REF!"}},"ANZ_MITARBEITER",null,null,{"$f":"IF(ISBLANK(#REF!),\"\",#REF!)","v":{"$error":"#REF!"}}]
[null,{"$f":"#REF!","v":{"$error":"#REF!"}},{"$f":"#REF!","v":{"$error":"#REF!"}},{"$f":"#REF!","v":{"$error":"#REF!"}},"ANZ_MITARBEITER_BEHINDERT",null,null,{"$f":"IF(ISBLANK(#REF!),\"\",#REF!)","v":{"$error":"#REF!"}}]
[null,{"$f":"#REF!","v":{"$error":"#REF!"}},{"$f":"#REF!","v":{"$error":"#REF!"}},{"$f":"#REF!","v":{"$error":"#REF!"}},"ANZ_MITARBEITER_FREIWILLIG",null,null,{"$f":"IF(ISBLANK(#REF!),\"\",#REF!)","v":{"$error":"#REF!"}}]
[null,{"$f":"#REF!","v":{"$error":"#REF!"}},{"$f":"#REF!","v":{"$error":"#REF!"}},{"$f":"#REF!","v":{"$error":"#REF!"}},"ANZ_MA_FREIWILLIG_BEHINDERT",null,null,{"$f":"IF(ISBLANK(#REF!),\"\",#REF!)","v":{"$error":"#REF!"}}]
[null,{"$f":"#REF!","v":{"$error":"#REF!"}},{"$f":"#REF!","v":{"$error":"#REF!"}},{"$f":"#REF!","v":{"$error":"#REF!"}},"ANZ_MITARBEITER_EHRENAMTLICH",null,null,{"$f":"IF(ISBLANK(#REF!),\"\",#REF!)","v":{"$error":"#REF!"}}]
[null,{"$f":"#REF!","v":{"$error":"#REF!"}},{"$f":"#REF!","v":{"$error":"#REF!"}},{"$f":"#REF!","v":{"$error":"#REF!"}},"ANZ_MA_EHRENAMTLICH_BEHINDERT",null,null,{"$f":"IF(ISBLANK(#REF!),\"\",#REF!)","v":{"$error":"#REF!"}}]
[null,{"$f":"#REF!","v":{"$error":"#REF!"}},{"$f":"#REF!","v":{"$error":"#REF!"}},{"$f":"#REF!","v":{"$error":"#REF!"}},"PERSONALAUFWAND",null,null,{"$f":"IF(ISBLANK(#REF!),\"\",#REF!)","v":{"$error":"#REF!"}}]
[null,{"$f":"#REF!","v":{"$error":"#REF!"}},{"$f":"#REF!","v":{"$error":"#REF!"}},{"$f":"#REF!","v":{"$error":"#REF!"}},"BETRIEBSAUFWAND",null,null,{"$f":"IF(ISBLANK(#REF!),\"\",#REF!)","v":{"$error":"#REF!"}}]
[null,{"$f":"#REF!","v":{"$error":"#REF!"}},{"$f":"#REF!","v":{"$error":"#REF!"}},{"$f":"#REF!","v":{"$error":"#REF!"}},"BETRIEBSERTRAG",null,null,{"$f":"IF(ISBLANK(#REF!),\"\",#REF!)","v":{"$error":"#REF!"}}]
[null,{"$f":"#REF!","v":{"$error":"#REF!"}},{"$f":"#REF!","v":{"$error":"#REF!"}},{"$f":"#REF!","v":{"$error":"#REF!"}},"BEITRAG_IV",null,null,{"$f":"IF(ISBLANK(#REF!),\"\",#REF!)","v":{"$error":"#REF!"}}]
[null,{"$f":"#REF!","v":{"$error":"#REF!"}},{"$f":"#REF!","v":{"$error":"#REF!"}},{"$f":"#REF!","v":{"$error":"#REF!"}},"BEITRAG_AHV",null,null,{"$f":"IF(ISBLANK(#REF!),\"\",#REF!)","v":{"$error":"#REF!"}}]
[null,{"$f":"#REF!","v":{"$error":"#REF!"}},{"$f":"#REF!","v":{"$error":"#REF!"}},{"$f":"#REF!","v":{"$error":"#REF!"}},"ANZ_MITARBEITER",null,null,{"$f":"IF(ISBLANK(#REF!),\"\",#REF!)","v":{"$error":"#REF!"}}]
[null,{"$f":"#REF!","v":{"$error":"#REF!"}},{"$f":"#REF!","v":{"$error":"#REF!"}},{"$f":"#REF!","v":{"$error":"#REF!"}},"ANZ_MITARBEITER_BEHINDERT",null,null,{"$f":"IF(ISBLANK(#REF!),\"\",#REF!)","v":{"$error":"#REF!"}}]
[null,{"$f":"#REF!","v":{"$error":"#REF!"}},{"$f":"#REF!","v":{"$error":"#REF!"}},{"$f":"#REF!","v":{"$error":"#REF!"}},"ANZ_MITARBEITER_FREIWILLIG",null,null,{"$f":"IF(ISBLANK(#REF!),\"\",#REF!)","v":{"$error":"#REF!"}}]
[null,{"$f":"#REF!","v":{"$error":"#REF!"}},{"$f":"#REF!","v":{"$error":"#REF!"}},{"$f":"#REF!","v":{"$error":"#REF!"}},"ANZ_MA_FREIWILLIG_BEHINDERT",null,null,{"$f":"IF(ISBLANK(#REF!),\"\",#REF!)","v":{"$error":"#REF!"}}]
[null,{"$f":"#REF!","v":{"$error":"#REF!"}},{"$f":"#REF!","v":{"$error":"#REF!"}},{"$f":"#REF!","v":{"$error":"#REF!"}},"ANZ_MITARBEITER_EHRENAMTLICH",null,null,{"$f":"IF(ISBLANK(#REF!),\"\",#REF!)","v":{"$error":"#REF!"}}]
[null,{"$f":"#REF!","v":{"$error":"#REF!"}},{"$f":"#REF!","v":{"$error":"#REF!"}},{"$f":"#REF!","v":{"$error":"#REF!"}},"ANZ_MA_EHRENAMTLICH_BEHINDERT",null,null,{"$f":"IF(ISBLANK(#REF!),\"\",#REF!)","v":{"$error":"#REF!"}}]
[null,{"$f":"#REF!","v":{"$error":"#REF!"}},{"$f":"#REF!","v":{"$error":"#REF!"}},{"$f":"#REF!","v":{"$error":"#REF!"}},"PERSONALAUFWAND",null,null,{"$f":"IF(ISBLANK(#REF!),\"\",#REF!)","v":{"$error":"#REF!"}}]
[null,{"$f":"#REF!","v":{"$error":"#REF!"}},{"$f":"#REF!","v":{"$error":"#REF!"}},{"$f":"#REF!","v":{"$error":"#REF!"}},"BETRIEBSAUFWAND",null,null,{"$f":"IF(ISBLANK(#REF!),\"\",#REF!)","v":{"$error":"#REF!"}}]
[null,{"$f":"#REF!","v":{"$error":"#REF!"}},{"$f":"#REF!","v":{"$error":"#REF!"}},{"$f":"#REF!","v":{"$error":"#REF!"}},"BETRIEBSERTRAG",null,null,{"$f":"IF(ISBLANK(#REF!),\"\",#REF!)","v":{"$error":"#REF!"}}]
[null,{"$f":"#REF!","v":{"$error":"#REF!"}},{"$f":"#REF!","v":{"$error":"#REF!"}},{"$f":"#REF!","v":{"$error":"#REF!"}},"BEITRAG_IV",null,null,{"$f":"IF(ISBLANK(#REF!),\"\",#REF!)","v":{"$error":"#REF!"}}]
[null,{"$f":"#REF!","v":{"$error":"#REF!"}},{"$f":"#REF!","v":{"$error":"#REF!"}},{"$f":"#REF!","v":{"$error":"#REF!"}},"BEITRAG_AHV",null,null,{"$f":"IF(ISBLANK(#REF!),\"\",#REF!)","v":{"$error":"#REF!"}}]
[null,{"$f":"#REF!","v":{"$error":"#REF!"}},{"$f":"#REF!","v":{"$error":"#REF!"}},{"$f":"#REF!","v":{"$error":"#REF!"}},"ANZ_MITARBEITER",null,null,{"$f":"IF(ISBLANK(#REF!),\"\",#REF!)","v":{"$error":"#REF!"}}]
[null,{"$f":"#REF!","v":{"$error":"#REF!"}},{"$f":"#REF!","v":{"$error":"#REF!"}},{"$f":"#REF!","v":{"$error":"#REF!"}},"ANZ_MITARBEITER_BEHINDERT",null,null,{"$f":"IF(ISBLANK(#REF!),\"\",#REF!)","v":{"$error":"#REF!"}}]
[null,{"$f":"#REF!","v":{"$error":"#REF!"}},{"$f":"#REF!","v":{"$error":"#REF!"}},{"$f":"#REF!","v":{"$error":"#REF!"}},"ANZ_MITARBEITER_FREIWILLIG",null,null,{"$f":"IF(ISBLANK(#REF!),\"\",#REF!)","v":{"$error":"#REF!"}}]
[null,{"$f":"#REF!","v":{"$error":"#REF!"}},{"$f":"#REF!","v":{"$error":"#REF!"}},{"$f":"#REF!","v":{"$error":"#REF!"}},"ANZ_MA_FREIWILLIG_BEHINDERT",null,null,{"$f":"IF(ISBLANK(#REF!),\"\",#REF!)","v":{"$error":"#REF!"}}]
[null,{"$f":"#REF!","v":{"$error":"#REF!"}},{"$f":"#REF!","v":{"$error":"#REF!"}},{"$f":"#REF!","v":{"$error":"#REF!"}},"ANZ_MITARBEITER_EHRENAMTLICH",null,null,{"$f":"IF(ISBLANK(#REF!),\"\",#REF!)","v":{"$error":"#REF!"}}]
[null,{"$f":"#REF!","v":{"$error":"#REF!"}},{"$f":"#REF!","v":{"$error":"#REF!"}},{"$f":"#REF!","v":{"$error":"#REF!"}},"ANZ_MA_EHRENAMTLICH_BEHINDERT",null,null,{"$f":"IF(ISBLANK(#REF!),\"\",#REF!)","v":{"$error":"#REF!"}}]
[null,{"$f":"#REF!","v":{"$error":"#REF!"}},{"$f":"#REF!","v":{"$error":"#REF!"}},{"$f":"#REF!","v":{"$error":"#REF!"}},"PERSONALAUFWAND",null,null,{"$f":"IF(ISBLANK(#REF!),\"\",#REF!)","v":{"$error":"#REF!"}}]
[null,{"$f":"#REF!","v":{"$error":"#REF!"}},{"$f":"#REF!","v":{"$error":"#REF!"}},{"$f":"#REF!","v":{"$error":"#REF!"}},"BETRIEBSAUFWAND",null,null,{"$f":"IF(ISBLANK(#REF!),\"\",#REF!)","v":{"$error":"#REF!"}}]
[null,{"$f":"#REF!","v":{"$error":"#REF!"}},{"$f":"#REF!","v":{"$error":"#REF!"}},{"$f":"#REF!","v":{"$error":"#REF!"}},"BETRIEBSERTRAG",null,null,{"$f":"IF(ISBLANK(#REF!),\"\",#REF!)","v":{"$error":"#REF!"}}]
[null,{"$f":"#REF!","v":{"$error":"#REF!"}},{"$f":"#REF!","v":{"$error":"#REF!"}},{"$f":"#REF!","v":{"$error":"#REF!"}},"BEITRAG_IV",null,null,{"$f":"IF(ISBLANK(#REF!),\"\",#REF!)","v":{"$error":"#REF!"}}]
[null,{"$f":"#REF!","v":{"$error":"#REF!"}},{"$f":"#REF!","v":{"$error":"#REF!"}},{"$f":"#REF!","v":{"$error":"#REF!"}},"BEITRAG_AHV",null,null,{"$f":"IF(ISBLANK(#REF!),\"\",#REF!)","v":{"$error":"#REF!"}}]
[null,{"$f":"#REF!","v":{"$error":"#REF!"}},{"$f":"#REF!","v":{"$error":"#REF!"}},{"$f":"#REF!","v":{"$error":"#REF!"}},"ANZ_MITARBEITER",null,null,{"$f":"IF(ISBLANK(#REF!),\"\",#REF!)","v":{"$error":"#REF!"}}]
[null,{"$f":"#REF!","v":{"$error":"#REF!"}},{"$f":"#REF!","v":{"$error":"#REF!"}},{"$f":"#REF!","v":{"$error":"#REF!"}},"ANZ_MITARBEITER_BEHINDERT",null,null,{"$f":"IF(ISBLANK(#REF!),\"\",#REF!)","v":{"$error":"#REF!"}}]
[null,{"$f":"#REF!","v":{"$error":"#REF!"}},{"$f":"#REF!","v":{"$error":"#REF!"}},{"$f":"#REF!","v":{"$error":"#REF!"}},"ANZ_MITARBEITER_FREIWILLIG",null,null,{"$f":"IF(ISBLANK(#REF!),\"\",#REF!)","v":{"$error":"#REF!"}}]
[null,{"$f":"#REF!","v":{"$error":"#REF!"}},{"$f":"#REF!","v":{"$error":"#REF!"}},{"$f":"#REF!","v":{"$error":"#REF!"}},"ANZ_MA_FREIWILLIG_BEHINDERT",null,null,{"$f":"IF(ISBLANK(#REF!),\"\",#REF!)","v":{"$error":"#REF!"}}]
[null,{"$f":"#REF!","v":{"$error":"#REF!"}},{"$f":"#REF!","v":{"$error":"#REF!"}},{"$f":"#REF!","v":{"$error":"#REF!"}},"ANZ_MITARBEITER_EHRENAMTLICH",null,null,{"$f":"IF(ISBLANK(#REF!),\"\",#REF!)","v":{"$error":"#REF!"}}]
[null,{"$f":"#REF!","v":{"$error":"#REF!"}},{"$f":"#REF!","v":{"$error":"#REF!"}},{"$f":"#REF!","v":{"$error":"#REF!"}},"ANZ_MA_EHRENAMTLICH_BEHINDERT",null,null,{"$f":"IF(ISBLANK(#REF!),\"\",#REF!)","v":{"$error":"#REF!"}}]
[null,{"$f":"#REF!","v":{"$error":"#REF!"}},{"$f":"#REF!","v":{"$error":"#REF!"}},{"$f":"#REF!","v":{"$error":"#REF!"}},"PERSONALAUFWAND",null,null,{"$f":"IF(ISBLANK(#REF!),\"\",#REF!)","v":{"$error":"#REF!"}}]
[null,{"$f":"#REF!","v":{"$error":"#REF!"}},{"$f":"#REF!","v":{"$error":"#REF!"}},{"$f":"#REF!","v":{"$error":"#REF!"}},"BETRIEBSAUFWAND",null,null,{"$f":"IF(ISBLANK(#REF!),\"\",#REF!)","v":{"$error":"#REF!"}}]
[null,{"$f":"#REF!","v":{"$error":"#REF!"}},{"$f":"#REF!","v":{"$error":"#REF!"}},{"$f":"#REF!","v":{"$error":"#REF!"}},"BETRIEBSERTRAG",null,null,{"$f":"IF(ISBLANK(#REF!),\"\",#REF!)","v":{"$error":"#REF!"}}]
[null,{"$f":"#REF!","v":{"$error":"#REF!"}},{"$f":"#REF!","v":{"$error":"#REF!"}},{"$f":"#REF!","v":{"$error":"#REF!"}},"BEITRAG_IV",null,null,{"$f":"IF(ISBLANK(#REF!),\"\",#REF!)","v":{"$error":"#REF!"}}]
[null,{"$f":"#REF!","v":{"$error":"#REF!"}},{"$f":"#REF!","v":{"$error":"#REF!"}},{"$f":"#REF!","v":{"$error":"#REF!"}},"BEITRAG_AHV",null,null,{"$f":"IF(ISBLANK(#REF!),\"\",#REF!)","v":{"$error":"#REF!"}}]
[null,{"$f":"#REF!","v":{"$error":"#REF!"}},{"$f":"#REF!","v":{"$error":"#REF!"}},{"$f":"#REF!","v":{"$error":"#REF!"}},"ANZ_MITARBEITER",null,null,{"$f":"IF(ISBLANK(#REF!),\"\",#REF!)","v":{"$error":"#REF!"}}]
[null,{"$f":"#REF!","v":{"$error":"#REF!"}},{"$f":"#REF!","v":{"$error":"#REF!"}},{"$f":"#REF!","v":{"$error":"#REF!"}},"ANZ_MITARBEITER_BEHINDERT",null,null,{"$f":"IF(ISBLANK(#REF!),\"\",#REF!)","v":{"$error":"#REF!"}}]
[null,{"$f":"#REF!","v":{"$error":"#REF!"}},{"$f":"#REF!","v":{"$error":"#REF!"}},{"$f":"#REF!","v":{"$error":"#REF!"}},"ANZ_MITARBEITER_FREIWILLIG",null,null,{"$f":"IF(ISBLANK(#REF!),\"\",#REF!)","v":{"$error":"#REF!"}}]
[null,{"$f":"#REF!","v":{"$error":"#REF!"}},{"$f":"#REF!","v":{"$error":"#REF!"}},{"$f":"#REF!","v":{"$error":"#REF!"}},"ANZ_MA_FREIWILLIG_BEHINDERT",null,null,{"$f":"IF(ISBLANK(#REF!),\"\",#REF!)","v":{"$error":"#REF!"}}]
[null,{"$f":"#REF!","v":{"$error":"#REF!"}},{"$f":"#REF!","v":{"$error":"#REF!"}},{"$f":"#REF!","v":{"$error":"#REF!"}},"ANZ_MITARBEITER_EHRENAMTLICH",null,null,{"$f":"IF(ISBLANK(#REF!),\"\",#REF!)","v":{"$error":"#REF!"}}]
[null,{"$f":"#REF!","v":{"$error":"#REF!"}},{"$f":"#REF!","v":{"$error":"#REF!"}},{"$f":"#REF!","v":{"$error":"#REF!"}},"ANZ_MA_EHRENAMTLICH_BEHINDERT",null,null,{"$f":"IF(ISBLANK(#REF!),\"\",#REF!)","v":{"$error":"#REF!"}}]
[null,{"$f":"#REF!","v":{"$error":"#REF!"}},{"$f":"#REF!","v":{"$error":"#REF!"}},{"$f":"#REF!","v":{"$error":"#REF!"}},"PERSONALAUFWAND",null,null,{"$f":"IF(ISBLANK(#REF!),\"\",#REF!)","v":{"$error":"#REF!"}}]
[null,{"$f":"#REF!","v":{"$error":"#REF!"}},{"$f":"#REF!","v":{"$error":"#REF!"}},{"$f":"#REF!","v":{"$error":"#REF!"}},"BETRIEBSAUFWAND",null,null,{"$f":"IF(ISBLANK(#REF!),\"\",#REF!)","v":{"$error":"#REF!"}}]
[null,{"$f":"#REF!","v":{"$error":"#REF!"}},{"$f":"#REF!","v":{"$error":"#REF!"}},{"$f":"#REF!","v":{"$error":"#REF!"}},"BETRIEBSERTRAG",null,null,{"$f":"IF(ISBLANK(#REF!),\"\",#REF!)","v":{"$error":"#REF!"}}]
[null,{"$f":"#REF!","v":{"$error":"#REF!"}},{"$f":"#REF!","v":{"$error":"#REF!"}},{"$f":"#REF!","v":{"$error":"#REF!"}},"BEITRAG_IV",null,null,{"$f":"IF(ISBLANK(#REF!),\"\",#REF!)","v":{"$error":"#REF!"}}]
[null,{"$f":"#REF!","v":{"$error":"#REF!"}},{"$f":"#REF!","v":{"$error":"#REF!"}},{"$f":"#REF!","v":{"$error":"#REF!"}},"BEITRAG_AHV",null,null,{"$f":"IF(ISBLANK(#REF!),\"\",#REF!)","v":{"$error":"#REF!"}}]
[null,{"$f":"#REF!","v":{"$error":"#REF!"}},{"$f":"#REF!","v":{"$error":"#REF!"}},{"$f":"#REF!","v":{"$error":"#REF!"}},"ANZ_MITARBEITER",null,null,{"$f":"IF(ISBLANK(#REF!),\"\",#REF!)","v":{"$error":"#REF!"}}]
[null,{"$f":"#REF!","v":{"$error":"#REF!"}},{"$f":"#REF!","v":{"$error":"#REF!"}},{"$f":"#REF!","v":{"$error":"#REF!"}},"ANZ_MITARBEITER_BEHINDERT",null,null,{"$f":"IF(ISBLANK(#REF!),\"\",#REF!)","v":{"$error":"#REF!"}}]
[null,{"$f":"#REF!","v":{"$error":"#REF!"}},{"$f":"#REF!","v":{"$error":"#REF!"}},{"$f":"#REF!","v":{"$error":"#REF!"}},"ANZ_MITARBEITER_FREIWILLIG",null,null,{"$f":"IF(ISBLANK(#REF!),\"\",#REF!)","v":{"$error":"#REF!"}}]
[null,{"$f":"#REF!","v":{"$error":"#REF!"}},{"$f":"#REF!","v":{"$error":"#REF!"}},{"$f":"#REF!","v":{"$error":"#REF!"}},"ANZ_MA_FREIWILLIG_BEHINDERT",null,null,{"$f":"IF(ISBLANK(#REF!),\"\",#REF!)","v":{"$error":"#REF!"}}]
[null,{"$f":"#REF!","v":{"$error":"#REF!"}},{"$f":"#REF!","v":{"$error":"#REF!"}},{"$f":"#REF!","v":{"$error":"#REF!"}},"ANZ_MITARBEITER_EHRENAMTLICH",null,null,{"$f":"IF(ISBLANK(#REF!),\"\",#REF!)","v":{"$error":"#REF!"}}]
[null,{"$f":"#REF!","v":{"$error":"#REF!"}},{"$f":"#REF!","v":{"$error":"#REF!"}},{"$f":"#REF!","v":{"$error":"#REF!"}},"ANZ_MA_EHRENAMTLICH_BEHINDERT",null,null,{"$f":"IF(ISBLANK(#REF!),\"\",#REF!)","v":{"$error":"#REF!"}}]
[null,{"$f":"#REF!","v":{"$error":"#REF!"}},{"$f":"#REF!","v":{"$error":"#REF!"}},{"$f":"#REF!","v":{"$error":"#REF!"}},"PERSONALAUFWAND",null,null,{"$f":"IF(ISBLANK(#REF!),\"\",#REF!)","v":{"$error":"#REF!"}}]
[null,{"$f":"#REF!","v":{"$error":"#REF!"}},{"$f":"#REF!","v":{"$error":"#REF!"}},{"$f":"#REF!","v":{"$error":"#REF!"}},"BETRIEBSAUFWAND",null,null,{"$f":"IF(ISBLANK(#REF!),\"\",#REF!)","v":{"$error":"#REF!"}}]
[null,{"$f":"#REF!","v":{"$error":"#REF!"}},{"$f":"#REF!","v":{"$error":"#REF!"}},{"$f":"#REF!","v":{"$error":"#REF!"}},"BETRIEBSERTRAG",null,null,{"$f":"IF(ISBLANK(#REF!),\"\",#REF!)","v":{"$error":"#REF!"}}]
[null,{"$f":"#REF!","v":{"$error":"#REF!"}},{"$f":"#REF!","v":{"$error":"#REF!"}},{"$f":"#REF!","v":{"$error":"#REF!"}},"BEITRAG_IV",null,null,{"$f":"IF(ISBLANK(#REF!),\"\",#REF!)","v":{"$error":"#REF!"}}]
[null,{"$f":"#REF!","v":{"$error":"#REF!"}},{"$f":"#REF!","v":{"$error":"#REF!"}},{"$f":"#REF!","v":{"$error":"#REF!"}},"BEITRAG_AHV",null,null,{"$f":"IF(ISBLANK(#REF!),\"\",#REF!)","v":{"$error":"#REF!"}}]
[null,{"$f":"#REF!","v":{"$error":"#REF!"}},{"$f":"#REF!","v":{"$error":"#REF!"}},{"$f":"#REF!","v":{"$error":"#REF!"}},"ANZ_MITARBEITER",null,null,{"$f":"IF(ISBLANK(#REF!),\"\",#REF!)","v":{"$error":"#REF!"}}]
[null,{"$f":"#REF!","v":{"$error":"#REF!"}},{"$f":"#REF!","v":{"$error":"#REF!"}},{"$f":"#REF!","v":{"$error":"#REF!"}},"ANZ_MITARBEITER_BEHINDERT",null,null,{"$f":"IF(ISBLANK(#REF!),\"\",#REF!)","v":{"$error":"#REF!"}}]
[null,{"$f":"#REF!","v":{"$error":"#REF!"}},{"$f":"#REF!","v":{"$error":"#REF!"}},{"$f":"#REF!","v":{"$error":"#REF!"}},"ANZ_MITARBEITER_FREIWILLIG",null,null,{"$f":"IF(ISBLANK(#REF!),\"\",#REF!)","v":{"$error":"#REF!"}}]
[null,{"$f":"#REF!","v":{"$error":"#REF!"}},{"$f":"#REF!","v":{"$error":"#REF!"}},{"$f":"#REF!","v":{"$error":"#REF!"}},"ANZ_MA_FREIWILLIG_BEHINDERT",null,null,{"$f":"IF(ISBLANK(#REF!),\"\",#REF!)","v":{"$error":"#REF!"}}]
[null,{"$f":"#REF!","v":{"$error":"#REF!"}},{"$f":"#REF!","v":{"$error":"#REF!"}},{"$f":"#REF!","v":{"$error":"#REF!"}},"ANZ_MITARBEITER_EHRENAMTLICH",null,null,{"$f":"IF(ISBLANK(#REF!),\"\",#REF!)","v":{"$error":"#REF!"}}]
[null,{"$f":"#REF!","v":{"$error":"#REF!"}},{"$f":"#REF!","v":{"$error":"#REF!"}},{"$f":"#REF!","v":{"$error":"#REF!"}},"ANZ_MA_EHRENAMTLICH_BEHINDERT",null,null,{"$f":"IF(ISBLANK(#REF!),\"\",#REF!)","v":{"$error":"#REF!"}}]
[null,{"$f":"#REF!","v":{"$error":"#REF!"}},{"$f":"#REF!","v":{"$error":"#REF!"}},{"$f":"#REF!","v":{"$error":"#REF!"}},"PERSONALAUFWAND",null,null,{"$f":"IF(ISBLANK(#REF!),\"\",#REF!)","v":{"$error":"#REF!"}}]
[null,{"$f":"#REF!","v":{"$error":"#REF!"}},{"$f":"#REF!","v":{"$error":"#REF!"}},{"$f":"#REF!","v":{"$error":"#REF!"}},"BETRIEBSAUFWAND",null,null,{"$f":"IF(ISBLANK(#REF!),\"\",#REF!)","v":{"$error":"#REF!"}}]
[null,{"$f":"#REF!","v":{"$error":"#REF!"}},{"$f":"#REF!","v":{"$error":"#REF!"}},{"$f":"#REF!","v":{"$error":"#REF!"}},"BETRIEBSERTRAG",null,null,{"$f":"IF(ISBLANK(#REF!),\"\",#REF!)","v":{"$error":"#REF!"}}]
[null,{"$f":"#REF!","v":{"$error":"#REF!"}},{"$f":"#REF!","v":{"$error":"#REF!"}},{"$f":"#REF!","v":{"$error":"#REF!"}},"BEITRAG_IV",null,null,{"$f":"IF(ISBLANK(#REF!),\"\",#REF!)","v":{"$error":"#REF!"}}]
[null,{"$f":"#REF!","v":{"$error":"#REF!"}},{"$f":"#REF!","v":{"$error":"#REF!"}},{"$f":"#REF!","v":{"$error":"#REF!"}},"BEITRAG_AHV",null,null,{"$f":"IF(ISBLANK(#REF!),\"\",#REF!)","v":{"$error":"#REF!"}}]
[null,{"$f":"#REF!","v":{"$error":"#REF!"}},{"$f":"#REF!","v":{"$error":"#REF!"}},{"$f":"#REF!","v":{"$error":"#REF!"}},"ANZ_MITARBEITER",null,null,{"$f":"IF(ISBLANK(#REF!),\"\",#REF!)","v":{"$error":"#REF!"}}]
[null,{"$f":"#REF!","v":{"$error":"#REF!"}},{"$f":"#REF!","v":{"$error":"#REF!"}},{"$f":"#REF!","v":{"$error":"#REF!"}},"ANZ_MITARBEITER_BEHINDERT",null,null,{"$f":"IF(ISBLANK(#REF!),\"\",#REF!)","v":{"$error":"#REF!"}}]
[null,{"$f":"#REF!","v":{"$error":"#REF!"}},{"$f":"#REF!","v":{"$error":"#REF!"}},{"$f":"#REF!","v":{"$error":"#REF!"}},"ANZ_MITARBEITER_FREIWILLIG",null,null,{"$f":"IF(ISBLANK(#REF!),\"\",#REF!)","v":{"$error":"#REF!"}}]
[null,{"$f":"#REF!","v":{"$error":"#REF!"}},{"$f":"#REF!","v":{"$error":"#REF!"}},{"$f":"#REF!","v":{"$error":"#REF!"}},"ANZ_MA_FREIWILLIG_BEHINDERT",null,null,{"$f":"IF(ISBLANK(#REF!),\"\",#REF!)","v":{"$error":"#REF!"}}]
[null,{"$f":"#REF!","v":{"$error":"#REF!"}},{"$f":"#REF!","v":{"$error":"#REF!"}},{"$f":"#REF!","v":{"$error":"#REF!"}},"ANZ_MITARBEITER_EHRENAMTLICH",null,null,{"$f":"IF(ISBLANK(#REF!),\"\",#REF!)","v":{"$error":"#REF!"}}]
[null,{"$f":"#REF!","v":{"$error":"#REF!"}},{"$f":"#REF!","v":{"$error":"#REF!"}},{"$f":"#REF!","v":{"$error":"#REF!"}},"ANZ_MA_EHRENAMTLICH_BEHINDERT",null,null,{"$f":"IF(ISBLANK(#REF!),\"\",#REF!)","v":{"$error":"#REF!"}}]
[null,{"$f":"#REF!","v":{"$error":"#REF!"}},{"$f":"#REF!","v":{"$error":"#REF!"}},{"$f":"#REF!","v":{"$error":"#REF!"}},"PERSONALAUFWAND",null,null,{"$f":"IF(ISBLANK(#REF!),\"\",#REF!)","v":{"$error":"#REF!"}}]
[null,{"$f":"#REF!","v":{"$error":"#REF!"}},{"$f":"#REF!","v":{"$error":"#REF!"}},{"$f":"#REF!","v":{"$error":"#REF!"}},"BETRIEBSAUFWAND",null,null,{"$f":"IF(ISBLANK(#REF!),\"\",#REF!)","v":{"$error":"#REF!"}}]
[null,{"$f":"#REF!","v":{"$error":"#REF!"}},{"$f":"#REF!","v":{"$error":"#REF!"}},{"$f":"#REF!","v":{"$error":"#REF!"}},"BETRIEBSERTRAG",null,null,{"$f":"IF(ISBLANK(#REF!),\"\",#REF!)","v":{"$error":"#REF!"}}]
[null,{"$f":"#REF!","v":{"$error":"#REF!"}},{"$f":"#REF!","v":{"$error":"#REF!"}},{"$f":"#REF!","v":{"$error":"#REF!"}},"BEITRAG_IV",null,null,{"$f":"IF(ISBLANK(#REF!),\"\",#REF!)","v":{"$error":"#REF!"}}]
[null,{"$f":"#REF!","v":{"$error":"#REF!"}},{"$f":"#REF!","v":{"$error":"#REF!"}},{"$f":"#REF!","v":{"$error":"#REF!"}},"BEITRAG_AHV",null,null,{"$f":"IF(ISBLANK(#REF!),\"\",#REF!)","v":{"$error":"#REF!"}}]
[null,{"$f":"#REF!","v":{"$error":"#REF!"}},{"$f":"#REF!","v":{"$error":"#REF!"}},{"$f":"#REF!","v":{"$error":"#REF!"}},"ANZ_MITARBEITER",null,null,{"$f":"IF(ISBLANK(#REF!),\"\",#REF!)","v":{"$error":"#REF!"}}]
[null,{"$f":"#REF!","v":{"$error":"#REF!"}},{"$f":"#REF!","v":{"$error":"#REF!"}},{"$f":"#REF!","v":{"$error":"#REF!"}},"ANZ_MITARBEITER_BEHINDERT",null,null,{"$f":"IF(ISBLANK(#REF!),\"\",#REF!)","v":{"$error":"#REF!"}}]
[null,{"$f":"#REF!","v":{"$error":"#REF!"}},{"$f":"#REF!","v":{"$error":"#REF!"}},{"$f":"#REF!","v":{"$error":"#REF!"}},"ANZ_MITARBEITER_FREIWILLIG",null,null,{"$f":"IF(ISBLANK(#REF!),\"\",#REF!)","v":{"$error":"#REF!"}}]
[null,{"$f":"#REF!","v":{"$error":"#REF!"}},{"$f":"#REF!","v":{"$error":"#REF!"}},{"$f":"#REF!","v":{"$error":"#REF!"}},"ANZ_MA_FREIWILLIG_BEHINDERT",null,null,{"$f":"IF(ISBLANK(#REF!),\"\",#REF!)","v":{"$error":"#REF!"}}]
[null,{"$f":"#REF!","v":{"$error":"#REF!"}},{"$f":"#REF!","v":{"$error":"#REF!"}},{"$f":"#REF!","v":{"$error":"#REF!"}},"ANZ_MITARBEITER_EHRENAMTLICH",null,null,{"$f":"IF(ISBLANK(#REF!),\"\",#REF!)","v":{"$error":"#REF!"}}]
[null,{"$f":"#REF!","v":{"$error":"#REF!"}},{"$f":"#REF!","v":{"$error":"#REF!"}},{"$f":"#REF!","v":{"$error":"#REF!"}},"ANZ_MA_EHRENAMTLICH_BEHINDERT",null,null,{"$f":"IF(ISBLANK(#REF!),\"\",#REF!)","v":{"$error":"#REF!"}}]
[null,{"$f":"#REF!","v":{"$error":"#REF!"}},{"$f":"#REF!","v":{"$error":"#REF!"}},{"$f":"#REF!","v":{"$error":"#REF!"}},"PERSONALAUFWAND",null,null,{"$f":"IF(ISBLANK(#REF!),\"\",#REF!)","v":{"$error":"#REF!"}}]
[null,{"$f":"#REF!","v":{"$error":"#REF!"}},{"$f":"#REF!","v":{"$error":"#REF!"}},{"$f":"#REF!","v":{"$error":"#REF!"}},"BETRIEBSAUFWAND",null,null,{"$f":"IF(ISBLANK(#REF!),\"\",#REF!)","v":{"$error":"#REF!"}}]
[null,{"$f":"#REF!","v":{"$error":"#REF!"}},{"$f":"#REF!","v":{"$error":"#REF!"}},{"$f":"#REF!","v":{"$error":"#REF!"}},"BETRIEBSERTRAG",null,null,{"$f":"IF(ISBLANK(#REF!),\"\",#REF!)","v":{"$error":"#REF!"}}]
[null,{"$f":"#REF!","v":{"$error":"#REF!"}},{"$f":"#REF!","v":{"$error":"#REF!"}},{"$f":"#REF!","v":{"$error":"#REF!"}},"BEITRAG_IV",null,null,{"$f":"IF(ISBLANK(#REF!),\"\",#REF!)","v":{"$error":"#REF!"}}]
[null,{"$f":"#REF!","v":{"$error":"#REF!"}},{"$f":"#REF!","v":{"$error":"#REF!"}},{"$f":"#REF!","v":{"$error":"#REF!"}},"BEITRAG_AHV",null,null,{"$f":"IF(ISBLANK(#REF!),\"\",#REF!)","v":{"$error":"#REF!"}}]
[null,{"$f":"#REF!","v":{"$error":"#REF!"}},{"$f":"#REF!","v":{"$error":"#REF!"}},{"$f":"#REF!","v":{"$error":"#REF!"}},"ANZ_MITARBEITER",null,null,{"$f":"IF(ISBLANK(#REF!),\"\",#REF!)","v":{"$error":"#REF!"}}]
[null,{"$f":"#REF!","v":{"$error":"#REF!"}},{"$f":"#REF!","v":{"$error":"#REF!"}},{"$f":"#REF!","v":{"$error":"#REF!"}},"ANZ_MITARBEITER_BEHINDERT",null,null,{"$f":"IF(ISBLANK(#REF!),\"\",#REF!)","v":{"$error":"#REF!"}}]
[null,{"$f":"#REF!","v":{"$error":"#REF!"}},{"$f":"#REF!","v":{"$error":"#REF!"}},{"$f":"#REF!","v":{"$error":"#REF!"}},"ANZ_MITARBEITER_FREIWILLIG",null,null,{"$f":"IF(ISBLANK(#REF!),\"\",#REF!)","v":{"$error":"#REF!"}}]
[null,{"$f":"#REF!","v":{"$error":"#REF!"}},{"$f":"#REF!","v":{"$error":"#REF!"}},{"$f":"#REF!","v":{"$error":"#REF!"}},"ANZ_MA_FREIWILLIG_BEHINDERT",null,null,{"$f":"IF(ISBLANK(#REF!),\"\",#REF!)","v":{"$error":"#REF!"}}]
[null,{"$f":"#REF!","v":{"$error":"#REF!"}},{"$f":"#REF!","v":{"$error":"#REF!"}},{"$f":"#REF!","v":{"$error":"#REF!"}},"ANZ_MITARBEITER_EHRENAMTLICH",null,null,{"$f":"IF(ISBLANK(#REF!),\"\",#REF!)","v":{"$error":"#REF!"}}]
[null,{"$f":"#REF!","v":{"$error":"#REF!"}},{"$f":"#REF!","v":{"$error":"#REF!"}},{"$f":"#REF!","v":{"$error":"#REF!"}},"ANZ_MA_EHRENAMTLICH_BEHINDERT",null,null,{"$f":"IF(ISBLANK(#REF!),\"\",#REF!)","v":{"$error":"#REF!"}}]
[null,{"$f":"#REF!","v":{"$error":"#REF!"}},{"$f":"#REF!","v":{"$error":"#REF!"}},{"$f":"#REF!","v":{"$error":"#REF!"}},"PERSONALAUFWAND",null,null,{"$f":"IF(ISBLANK(#REF!),\"\",#REF!)","v":{"$error":"#REF!"}}]
[null,{"$f":"#REF!","v":{"$error":"#REF!"}},{"$f":"#REF!","v":{"$error":"#REF!"}},{"$f":"#REF!","v":{"$error":"#REF!"}},"BETRIEBSAUFWAND",null,null,{"$f":"IF(ISBLANK(#REF!),\"\",#REF!)","v":{"$error":"#REF!"}}]
[null,{"$f":"#REF!","v":{"$error":"#REF!"}},{"$f":"#REF!","v":{"$error":"#REF!"}},{"$f":"#REF!","v":{"$error":"#REF!"}},"BETRIEBSERTRAG",null,null,{"$f":"IF(ISBLANK(#REF!),\"\",#REF!)","v":{"$error":"#REF!"}}]
[null,{"$f":"#REF!","v":{"$error":"#REF!"}},{"$f":"#REF!","v":{"$error":"#REF!"}},{"$f":"#REF!","v":{"$error":"#REF!"}},"BEITRAG_IV",null,null,{"$f":"IF(ISBLANK(#REF!),\"\",#REF!)","v":{"$error":"#REF!"}}]
[null,{"$f":"#REF!","v":{"$error":"#REF!"}},{"$f":"#REF!","v":{"$error":"#REF!"}},{"$f":"#REF!","v":{"$error":"#REF!"}},"BEITRAG_AHV",null,null,{"$f":"IF(ISBLANK(#REF!),\"\",#REF!)","v":{"$error":"#REF!"}}]
[null,{"$f":"#REF!","v":{"$error":"#REF!"}},{"$f":"#REF!","v":{"$error":"#REF!"}},{"$f":"#REF!","v":{"$error":"#REF!"}},"ANZ_MITARBEITER",null,null,{"$f":"IF(ISBLANK(#REF!),\"\",#REF!)","v":{"$error":"#REF!"}}]
[null,{"$f":"#REF!","v":{"$error":"#REF!"}},{"$f":"#REF!","v":{"$error":"#REF!"}},{"$f":"#REF!","v":{"$error":"#REF!"}},"ANZ_MITARBEITER_BEHINDERT",null,null,{"$f":"IF(ISBLANK(#REF!),\"\",#REF!)","v":{"$error":"#REF!"}}]
[null,{"$f":"#REF!","v":{"$error":"#REF!"}},{"$f":"#REF!","v":{"$error":"#REF!"}},{"$f":"#REF!","v":{"$error":"#REF!"}},"ANZ_MITARBEITER_FREIWILLIG",null,null,{"$f":"IF(ISBLANK(#REF!),\"\",#REF!)","v":{"$error":"#REF!"}}]
[null,{"$f":"#REF!","v":{"$error":"#REF!"}},{"$f":"#REF!","v":{"$error":"#REF!"}},{"$f":"#REF!","v":{"$error":"#REF!"}},"ANZ_MA_FREIWILLIG_BEHINDERT",null,null,{"$f":"IF(ISBLANK(#REF!),\"\",#REF!)","v":{"$error":"#REF!"}}]
[null,{"$f":"#REF!","v":{"$error":"#REF!"}},{"$f":"#REF!","v":{"$error":"#REF!"}},{"$f":"#REF!","v":{"$error":"#REF!"}},"ANZ_MITARBEITER_EHRENAMTLICH",null,null,{"$f":"IF(ISBLANK(#REF!),\"\",#REF!)","v":{"$error":"#REF!"}}]
[null,{"$f":"#REF!","v":{"$error":"#REF!"}},{"$f":"#REF!","v":{"$error":"#REF!"}},{"$f":"#REF!","v":{"$error":"#REF!"}},"ANZ_MA_EHRENAMTLICH_BEHINDERT",null,null,{"$f":"IF(ISBLANK(#REF!),\"\",#REF!)","v":{"$error":"#REF!"}}]
[null,{"$f":"#REF!","v":{"$error":"#REF!"}},{"$f":"#REF!","v":{"$error":"#REF!"}},{"$f":"#REF!","v":{"$error":"#REF!"}},"PERSONALAUFWAND",null,null,{"$f":"IF(ISBLANK(#REF!),\"\",#REF!)","v":{"$error":"#REF!"}}]
[null,{"$f":"#REF!","v":{"$error":"#REF!"}},{"$f":"#REF!","v":{"$error":"#REF!"}},{"$f":"#REF!","v":{"$error":"#REF!"}},"BETRIEBSAUFWAND",null,null,{"$f":"IF(ISBLANK(#REF!),\"\",#REF!)","v":{"$error":"#REF!"}}]
[null,{"$f":"#REF!","v":{"$error":"#REF!"}},{"$f":"#REF!","v":{"$error":"#REF!"}},{"$f":"#REF!","v":{"$error":"#REF!"}},"BETRIEBSERTRAG",null,null,{"$f":"IF(ISBLANK(#REF!),\"\",#REF!)","v":{"$error":"#REF!"}}]
[null,{"$f":"#REF!","v":{"$error":"#REF!"}},{"$f":"#REF!","v":{"$error":"#REF!"}},{"$f":"#REF!","v":{"$error":"#REF!"}},"BEITRAG_IV",null,null,{"$f":"IF(ISBLANK(#REF!),\"\",#REF!)","v":{"$error":"#REF!"}}]
[null,{"$f":"#REF!","v":{"$error":"#REF!"}},{"$f":"#REF!","v":{"$error":"#REF!"}},{"$f":"#REF!","v":{"$error":"#REF!"}},"BEITRAG_AHV",null,null,{"$f":"IF(ISBLANK(#REF!),\"\",#REF!)","v":{"$error":"#REF!"}}]
[null,{"$f":"#REF!","v":{"$error":"#REF!"}},{"$f":"#REF!","v":{"$error":"#REF!"}},{"$f":"#REF!","v":{"$error":"#REF!"}},"ANZ_MITARBEITER",null,null,{"$f":"IF(ISBLANK(#REF!),\"\",#REF!)","v":{"$error":"#REF!"}}]
[null,{"$f":"#REF!","v":{"$error":"#REF!"}},{"$f":"#REF!","v":{"$error":"#REF!"}},{"$f":"#REF!","v":{"$error":"#REF!"}},"ANZ_MITARBEITER_BEHINDERT",null,null,{"$f":"IF(ISBLANK(#REF!),\"\",#REF!)","v":{"$error":"#REF!"}}]
[null,{"$f":"#REF!","v":{"$error":"#REF!"}},{"$f":"#REF!","v":{"$error":"#REF!"}},{"$f":"#REF!","v":{"$error":"#REF!"}},"ANZ_MITARBEITER_FREIWILLIG",null,null,{"$f":"IF(ISBLANK(#REF!),\"\",#REF!)","v":{"$error":"#REF!"}}]
[null,{"$f":"#REF!","v":{"$error":"#REF!"}},{"$f":"#REF!","v":{"$error":"#REF!"}},{"$f":"#REF!","v":{"$error":"#REF!"}},"ANZ_MA_FREIWILLIG_BEHINDERT",null,null,{"$f":"IF(ISBLANK(#REF!),\"\",#REF!)","v":{"$error":"#REF!"}}]
[null,{"$f":"#REF!","v":{"$error":"#REF!"}},{"$f":"#REF!","v":{"$error":"#REF!"}},{"$f":"#REF!","v":{"$error":"#REF!"}},"ANZ_MITARBEITER_EHRENAMTLICH",null,null,{"$f":"IF(ISBLANK(#REF!),\"\",#REF!)","v":{"$error":"#REF!"}}]
[null,{"$f":"#REF!","v":{"$error":"#REF!"}},{"$f":"#REF!","v":{"$error":"#REF!"}},{"$f":"#REF!","v":{"$error":"#REF!"}},"ANZ_MA_EHRENAMTLICH_BEHINDERT",null,null,{"$f":"IF(ISBLANK(#REF!),\"\",#REF!)","v":{"$error":"#REF!"}}]
[null,{"$f":"#REF!","v":{"$error":"#REF!"}},{"$f":"#REF!","v":{"$error":"#REF!"}},{"$f":"#REF!","v":{"$error":"#REF!"}},"PERSONALAUFWAND",null,null,{"$f":"IF(ISBLANK(#REF!),\"\",#REF!)","v":{"$error":"#REF!"}}]
[null,{"$f":"#REF!","v":{"$error":"#REF!"}},{"$f":"#REF!","v":{"$error":"#REF!"}},{"$f":"#REF!","v":{"$error":"#REF!"}},"BETRIEBSAUFWAND",null,null,{"$f":"IF(ISBLANK(#REF!),\"\",#REF!)","v":{"$error":"#REF!"}}]
[null,{"$f":"#REF!","v":{"$error":"#REF!"}},{"$f":"#REF!","v":{"$error":"#REF!"}},{"$f":"#REF!","v":{"$error":"#REF!"}},"BETRIEBSERTRAG",null,null,{"$f":"IF(ISBLANK(#REF!),\"\",#REF!)","v":{"$error":"#REF!"}}]
[null,{"$f":"#REF!","v":{"$error":"#REF!"}},{"$f":"#REF!","v":{"$error":"#REF!"}},{"$f":"#REF!","v":{"$error":"#REF!"}},"BEITRAG_IV",null,null,{"$f":"IF(ISBLANK(#REF!),\"\",#REF!)","v":{"$error":"#REF!"}}]
[null,{"$f":"#REF!","v":{"$error":"#REF!"}},{"$f":"#REF!","v":{"$error":"#REF!"}},{"$f":"#REF!","v":{"$error":"#REF!"}},"BEITRAG_AHV",null,null,{"$f":"IF(ISBLANK(#REF!),\"\",#REF!)","v":{"$error":"#REF!"}}]
[null,{"$f":"#REF!","v":{"$error":"#REF!"}},{"$f":"#REF!","v":{"$error":"#REF!"}},{"$f":"#REF!","v":{"$error":"#REF!"}},"ANZ_MITARBEITER",null,null,{"$f":"IF(ISBLANK(#REF!),\"\",#REF!)","v":{"$error":"#REF!"}}]
[null,{"$f":"#REF!","v":{"$error":"#REF!"}},{"$f":"#REF!","v":{"$error":"#REF!"}},{"$f":"#REF!","v":{"$error":"#REF!"}},"ANZ_MITARBEITER_BEHINDERT",null,null,{"$f":"IF(ISBLANK(#REF!),\"\",#REF!)","v":{"$error":"#REF!"}}]
[null,{"$f":"#REF!","v":{"$error":"#REF!"}},{"$f":"#REF!","v":{"$error":"#REF!"}},{"$f":"#REF!","v":{"$error":"#REF!"}},"ANZ_MITARBEITER_FREIWILLIG",null,null,{"$f":"IF(ISBLANK(#REF!),\"\",#REF!)","v":{"$error":"#REF!"}}]
[null,{"$f":"#REF!","v":{"$error":"#REF!"}},{"$f":"#REF!","v":{"$error":"#REF!"}},{"$f":"#REF!","v":{"$error":"#REF!"}},"ANZ_MA_FREIWILLIG_BEHINDERT",null,null,{"$f":"IF(ISBLANK(#REF!),\"\",#REF!)","v":{"$error":"#REF!"}}]
[null,{"$f":"#REF!","v":{"$error":"#REF!"}},{"$f":"#REF!","v":{"$error":"#REF!"}},{"$f":"#REF!","v":{"$error":"#REF!"}},"ANZ_MITARBEITER_EHRENAMTLICH",null,null,{"$f":"IF(ISBLANK(#REF!),\"\",#REF!)","v":{"$error":"#REF!"}}]
[null,{"$f":"#REF!","v":{"$error":"#REF!"}},{"$f":"#REF!","v":{"$error":"#REF!"}},{"$f":"#REF!","v":{"$error":"#REF!"}},"ANZ_MA_EHRENAMTLICH_BEHINDERT",null,null,{"$f":"IF(ISBLANK(#REF!),\"\",#REF!)","v":{"$error":"#REF!"}}]
[null,{"$f":"#REF!","v":{"$error":"#REF!"}},{"$f":"#REF!","v":{"$error":"#REF!"}},{"$f":"#REF!","v":{"$error":"#REF!"}},"PERSONALAUFWAND",null,null,{"$f":"IF(ISBLANK(#REF!),\"\",#REF!)","v":{"$error":"#REF!"}}]
[null,{"$f":"#REF!","v":{"$error":"#REF!"}},{"$f":"#REF!","v":{"$error":"#REF!"}},{"$f":"#REF!","v":{"$error":"#REF!"}},"BETRIEBSAUFWAND",null,null,{"$f":"IF(ISBLANK(#REF!),\"\",#REF!)","v":{"$error":"#REF!"}}]
[null,{"$f":"#REF!","v":{"$error":"#REF!"}},{"$f":"#REF!","v":{"$error":"#REF!"}},{"$f":"#REF!","v":{"$error":"#REF!"}},"BETRIEBSERTRAG",null,null,{"$f":"IF(ISBLANK(#REF!),\"\",#REF!)","v":{"$error":"#REF!"}}]
[null,{"$f":"#REF!","v":{"$error":"#REF!"}},{"$f":"#REF!","v":{"$error":"#REF!"}},{"$f":"#REF!","v":{"$error":"#REF!"}},"BEITRAG_IV",null,null,{"$f":"IF(ISBLANK(#REF!),\"\",#REF!)","v":{"$error":"#REF!"}}]
[null,{"$f":"#REF!","v":{"$error":"#REF!"}},{"$f":"#REF!","v":{"$error":"#REF!"}},{"$f":"#REF!","v":{"$error":"#REF!"}},"BEITRAG_AHV",null,null,{"$f":"IF(ISBLANK(#REF!),\"\",#REF!)","v":{"$error":"#REF!"}}]
[null,{"$f":"#REF!","v":{"$error":"#REF!"}},{"$f":"#REF!","v":{"$error":"#REF!"}},{"$f":"#REF!","v":{"$error":"#REF!"}},"ANZ_MITARBEITER",null,null,{"$f":"IF(ISBLANK(#REF!),\"\",#REF!)","v":{"$error":"#REF!"}}]
[null,{"$f":"#REF!","v":{"$error":"#REF!"}},{"$f":"#REF!","v":{"$error":"#REF!"}},{"$f":"#REF!","v":{"$error":"#REF!"}},"ANZ_MITARBEITER_BEHINDERT",null,null,{"$f":"IF(ISBLANK(#REF!),\"\",#REF!)","v":{"$error":"#REF!"}}]
[null,{"$f":"#REF!","v":{"$error":"#REF!"}},{"$f":"#REF!","v":{"$error":"#REF!"}},{"$f":"#REF!","v":{"$error":"#REF!"}},"ANZ_MITARBEITER_FREIWILLIG",null,null,{"$f":"IF(ISBLANK(#REF!),\"\",#REF!)","v":{"$error":"#REF!"}}]
[null,{"$f":"#REF!","v":{"$error":"#REF!"}},{"$f":"#REF!","v":{"$error":"#REF!"}},{"$f":"#REF!","v":{"$error":"#REF!"}},"ANZ_MA_FREIWILLIG_BEHINDERT",null,null,{"$f":"IF(ISBLANK(#REF!),\"\",#REF!)","v":{"$error":"#REF!"}}]
[null,{"$f":"#REF!","v":{"$error":"#REF!"}},{"$f":"#REF!","v":{"$error":"#REF!"}},{"$f":"#REF!","v":{"$error":"#REF!"}},"ANZ_MITARBEITER_EHRENAMTLICH",null,null,{"$f":"IF(ISBLANK(#REF!),\"\",#REF!)","v":{"$error":"#REF!"}}]
[null,{"$f":"#REF!","v":{"$error":"#REF!"}},{"$f":"#REF!","v":{"$error":"#REF!"}},{"$f":"#REF!","v":{"$error":"#REF!"}},"ANZ_MA_EHRENAMTLICH_BEHINDERT",null,null,{"$f":"IF(ISBLANK(#REF!),\"\",#REF!)","v":{"$error":"#REF!"}}]
[null,{"$f":"#REF!","v":{"$error":"#REF!"}},{"$f":"#REF!","v":{"$error":"#REF!"}},{"$f":"#REF!","v":{"$error":"#REF!"}},"PERSONALAUFWAND",null,null,{"$f":"IF(ISBLANK(#REF!),\"\",#REF!)","v":{"$error":"#REF!"}}]
[null,{"$f":"#REF!","v":{"$error":"#REF!"}},{"$f":"#REF!","v":{"$error":"#REF!"}},{"$f":"#REF!","v":{"$error":"#REF!"}},"BETRIEBSAUFWAND",null,null,{"$f":"IF(ISBLANK(#REF!),\"\",#REF!)","v":{"$error":"#REF!"}}]
[null,{"$f":"#REF!","v":{"$error":"#REF!"}},{"$f":"#REF!","v":{"$error":"#REF!"}},{"$f":"#REF!","v":{"$error":"#REF!"}},"BETRIEBSERTRAG",null,null,{"$f":"IF(ISBLANK(#REF!),\"\",#REF!)","v":{"$error":"#REF!"}}]
[null,{"$f":"#REF!","v":{"$error":"#REF!"}},{"$f":"#REF!","v":{"$error":"#REF!"}},{"$f":"#REF!","v":{"$error":"#REF!"}},"BEITRAG_IV",null,null,{"$f":"IF(ISBLANK(#REF!),\"\",#REF!)","v":{"$error":"#REF!"}}]
[null,{"$f":"#REF!","v":{"$error":"#REF!"}},{"$f":"#REF!","v":{"$error":"#REF!"}},{"$f":"#REF!","v":{"$error":"#REF!"}},"BEITRAG_AHV",null,null,{"$f":"IF(ISBLANK(#REF!),\"\",#REF!)","v":{"$error":"#REF!"}}]
[null,{"$f":"#REF!","v":{"$error":"#REF!"}},{"$f":"#REF!","v":{"$error":"#REF!"}},{"$f":"#REF!","v":{"$error":"#REF!"}},"ANZ_MITARBEITER",null,null,{"$f":"IF(ISBLANK(#REF!),\"\",#REF!)","v":{"$error":"#REF!"}}]
[null,{"$f":"#REF!","v":{"$error":"#REF!"}},{"$f":"#REF!","v":{"$error":"#REF!"}},{"$f":"#REF!","v":{"$error":"#REF!"}},"ANZ_MITARBEITER_BEHINDERT",null,null,{"$f":"IF(ISBLANK(#REF!),\"\",#REF!)","v":{"$error":"#REF!"}}]
[null,{"$f":"#REF!","v":{"$error":"#REF!"}},{"$f":"#REF!","v":{"$error":"#REF!"}},{"$f":"#REF!","v":{"$error":"#REF!"}},"ANZ_MITARBEITER_FREIWILLIG",null,null,{"$f":"IF(ISBLANK(#REF!),\"\",#REF!)","v":{"$error":"#REF!"}}]
[null,{"$f":"#REF!","v":{"$error":"#REF!"}},{"$f":"#REF!","v":{"$error":"#REF!"}},{"$f":"#REF!","v":{"$error":"#REF!"}},"ANZ_MA_FREIWILLIG_BEHINDERT",null,null,{"$f":"IF(ISBLANK(#REF!),\"\",#REF!)","v":{"$error":"#REF!"}}]
[null,{"$f":"#REF!","v":{"$error":"#REF!"}},{"$f":"#REF!","v":{"$error":"#REF!"}},{"$f":"#REF!","v":{"$error":"#REF!"}},"ANZ_MITARBEITER_EHRENAMTLICH",null,null,{"$f":"IF(ISBLANK(#REF!),\"\",#REF!)","v":{"$error":"#REF!"}}]
[null,{"$f":"#REF!","v":{"$error":"#REF!"}},{"$f":"#REF!","v":{"$error":"#REF!"}},{"$f":"#REF!","v":{"$error":"#REF!"}},"ANZ_MA_EHRENAMTLICH_BEHINDERT",null,null,{"$f":"IF(ISBLANK(#REF!),\"\",#REF!)","v":{"$error":"#REF!"}}]
[null,{"$f":"#REF!","v":{"$error":"#REF!"}},{"$f":"#REF!","v":{"$error":"#REF!"}},{"$f":"#REF!","v":{"$error":"#REF!"}},"PERSONALAUFWAND",null,null,{"$f":"IF(ISBLANK(#REF!),\"\",#REF!)","v":{"$error":"#REF!"}}]
[null,{"$f":"#REF!","v":{"$error":"#REF!"}},{"$f":"#REF!","v":{"$error":"#REF!"}},{"$f":"#REF!","v":{"$error":"#REF!"}},"BETRIEBSAUFWAND",null,null,{"$f":"IF(ISBLANK(#REF!),\"\",#REF!)","v":{"$error":"#REF!"}}]
[null,{"$f":"#REF!","v":{"$error":"#REF!"}},{"$f":"#REF!","v":{"$error":"#REF!"}},{"$f":"#REF!","v":{"$error":"#REF!"}},"BETRIEBSERTRAG",null,null,{"$f":"IF(ISBLANK(#REF!),\"\",#REF!)","v":{"$error":"#REF!"}}]
[null,{"$f":"#REF!","v":{"$error":"#REF!"}},{"$f":"#REF!","v":{"$error":"#REF!"}},{"$f":"#REF!","v":{"$error":"#REF!"}},"BEITRAG_IV",null,null,{"$f":"IF(ISBLANK(#REF!),\"\",#REF!)","v":{"$error":"#REF!"}}]
[null,{"$f":"#REF!","v":{"$error":"#REF!"}},{"$f":"#REF!","v":{"$error":"#REF!"}},{"$f":"#REF!","v":{"$error":"#REF!"}},"BEITRAG_AHV",null,null,{"$f":"IF(ISBLANK(#REF!),\"\",#REF!)","v":{"$error":"#REF!"}}]
[null,{"$f":"#REF!","v":{"$error":"#REF!"}},{"$f":"#REF!","v":{"$error":"#REF!"}},{"$f":"#REF!","v":{"$error":"#REF!"}},"ANZ_MITARBEITER",null,null,{"$f":"IF(ISBLANK(#REF!),\"\",#REF!)","v":{"$error":"#REF!"}}]
[null,{"$f":"#REF!","v":{"$error":"#REF!"}},{"$f":"#REF!","v":{"$error":"#REF!"}},{"$f":"#REF!","v":{"$error":"#REF!"}},"ANZ_MITARBEITER_BEHINDERT",null,null,{"$f":"IF(ISBLANK(#REF!),\"\",#REF!)","v":{"$error":"#REF!"}}]
[null,{"$f":"#REF!","v":{"$error":"#REF!"}},{"$f":"#REF!","v":{"$error":"#REF!"}},{"$f":"#REF!","v":{"$error":"#REF!"}},"ANZ_MITARBEITER_FREIWILLIG",null,null,{"$f":"IF(ISBLANK(#REF!),\"\",#REF!)","v":{"$error":"#REF!"}}]
[null,{"$f":"#REF!","v":{"$error":"#REF!"}},{"$f":"#REF!","v":{"$error":"#REF!"}},{"$f":"#REF!","v":{"$error":"#REF!"}},"ANZ_MA_FREIWILLIG_BEHINDERT",null,null,{"$f":"IF(ISBLANK(#REF!),\"\",#REF!)","v":{"$error":"#REF!"}}]
[null,{"$f":"#REF!","v":{"$error":"#REF!"}},{"$f":"#REF!","v":{"$error":"#REF!"}},{"$f":"#REF!","v":{"$error":"#REF!"}},"ANZ_MITARBEITER_EHRENAMTLICH",null,null,{"$f":"IF(ISBLANK(#REF!),\"\",#REF!)","v":{"$error":"#REF!"}}]
[null,{"$f":"#REF!","v":{"$error":"#REF!"}},{"$f":"#REF!","v":{"$error":"#REF!"}},{"$f":"#REF!","v":{"$error":"#REF!"}},"ANZ_MA_EHRENAMTLICH_BEHINDERT",null,null,{"$f":"IF(ISBLANK(#REF!),\"\",#REF!)","v":{"$error":"#REF!"}}]
[null,{"$f":"#REF!","v":{"$error":"#REF!"}},{"$f":"#REF!","v":{"$error":"#REF!"}},{"$f":"#REF!","v":{"$error":"#REF!"}},"PERSONALAUFWAND",null,null,{"$f":"IF(ISBLANK(#REF!),\"\",#REF!)","v":{"$error":"#REF!"}}]
[null,{"$f":"#REF!","v":{"$error":"#REF!"}},{"$f":"#REF!","v":{"$error":"#REF!"}},{"$f":"#REF!","v":{"$error":"#REF!"}},"BETRIEBSAUFWAND",null,null,{"$f":"IF(ISBLANK(#REF!),\"\",#REF!)","v":{"$error":"#REF!"}}]
[null,{"$f":"#REF!","v":{"$error":"#REF!"}},{"$f":"#REF!","v":{"$error":"#REF!"}},{"$f":"#REF!","v":{"$error":"#REF!"}},"BETRIEBSERTRAG",null,null,{"$f":"IF(ISBLANK(#REF!),\"\",#REF!)","v":{"$error":"#REF!"}}]
[null,{"$f":"#REF!","v":{"$error":"#REF!"}},{"$f":"#REF!","v":{"$error":"#REF!"}},{"$f":"#REF!","v":{"$error":"#REF!"}},"BEITRAG_IV",null,null,{"$f":"IF(ISBLANK(#REF!),\"\",#REF!)","v":{"$error":"#REF!"}}]
[null,{"$f":"#REF!","v":{"$error":"#REF!"}},{"$f":"#REF!","v":{"$error":"#REF!"}},{"$f":"#REF!","v":{"$error":"#REF!"}},"BEITRAG_AHV",null,null,{"$f":"IF(ISBLANK(#REF!),\"\",#REF!)","v":{"$error":"#REF!"}}]
[null,{"$f":"#REF!","v":{"$error":"#REF!"}},{"$f":"#REF!","v":{"$error":"#REF!"}},{"$f":"#REF!","v":{"$error":"#REF!"}},"ANZ_MITARBEITER",null,null,{"$f":"IF(ISBLANK(#REF!),\"\",#REF!)","v":{"$error":"#REF!"}}]
[null,{"$f":"#REF!","v":{"$error":"#REF!"}},{"$f":"#REF!","v":{"$error":"#REF!"}},{"$f":"#REF!","v":{"$error":"#REF!"}},"ANZ_MITARBEITER_BEHINDERT",null,null,{"$f":"IF(ISBLANK(#REF!),\"\",#REF!)","v":{"$error":"#REF!"}}]
[null,{"$f":"#REF!","v":{"$error":"#REF!"}},{"$f":"#REF!","v":{"$error":"#REF!"}},{"$f":"#REF!","v":{"$error":"#REF!"}},"ANZ_MITARBEITER_FREIWILLIG",null,null,{"$f":"IF(ISBLANK(#REF!),\"\",#REF!)","v":{"$error":"#REF!"}}]
[null,{"$f":"#REF!","v":{"$error":"#REF!"}},{"$f":"#REF!","v":{"$error":"#REF!"}},{"$f":"#REF!","v":{"$error":"#REF!"}},"ANZ_MA_FREIWILLIG_BEHINDERT",null,null,{"$f":"IF(ISBLANK(#REF!),\"\",#REF!)","v":{"$error":"#REF!"}}]
[null,{"$f":"#REF!","v":{"$error":"#REF!"}},{"$f":"#REF!","v":{"$error":"#REF!"}},{"$f":"#REF!","v":{"$error":"#REF!"}},"ANZ_MITARBEITER_EHRENAMTLICH",null,null,{"$f":"IF(ISBLANK(#REF!),\"\",#REF!)","v":{"$error":"#REF!"}}]
[null,{"$f":"#REF!","v":{"$error":"#REF!"}},{"$f":"#REF!","v":{"$error":"#REF!"}},{"$f":"#REF!","v":{"$error":"#REF!"}},"ANZ_MA_EHRENAMTLICH_BEHINDERT",null,null,{"$f":"IF(ISBLANK(#REF!),\"\",#REF!)","v":{"$error":"#REF!"}}]
[null,{"$f":"#REF!","v":{"$error":"#REF!"}},{"$f":"#REF!","v":{"$error":"#REF!"}},{"$f":"#REF!","v":{"$error":"#REF!"}},"PERSONALAUFWAND",null,null,{"$f":"IF(ISBLANK(#REF!),\"\",#REF!)","v":{"$error":"#REF!"}}]
[null,{"$f":"#REF!","v":{"$error":"#REF!"}},{"$f":"#REF!","v":{"$error":"#REF!"}},{"$f":"#REF!","v":{"$error":"#REF!"}},"BETRIEBSAUFWAND",null,null,{"$f":"IF(ISBLANK(#REF!),\"\",#REF!)","v":{"$error":"#REF!"}}]
[null,{"$f":"#REF!","v":{"$error":"#REF!"}},{"$f":"#REF!","v":{"$error":"#REF!"}},{"$f":"#REF!","v":{"$error":"#REF!"}},"BETRIEBSERTRAG",null,null,{"$f":"IF(ISBLANK(#REF!),\"\",#REF!)","v":{"$error":"#REF!"}}]
[null,{"$f":"#REF!","v":{"$error":"#REF!"}},{"$f":"#REF!","v":{"$error":"#REF!"}},{"$f":"#REF!","v":{"$error":"#REF!"}},"BEITRAG_IV",null,null,{"$f":"IF(ISBLANK(#REF!),\"\",#REF!)","v":{"$error":"#REF!"}}]
[null,{"$f":"#REF!","v":{"$error":"#REF!"}},{"$f":"#REF!","v":{"$error":"#REF!"}},{"$f":"#REF!","v":{"$error":"#REF!"}},"BEITRAG_AHV",null,null,{"$f":"IF(ISBLANK(#REF!),\"\",#REF!)","v":{"$error":"#REF!"}}]
[null,{"$f":"#REF!","v":{"$error":"#REF!"}},{"$f":"#REF!","v":{"$error":"#REF!"}},{"$f":"#REF!","v":{"$error":"#REF!"}},"ANZ_MITARBEITER",null,null,{"$f":"IF(ISBLANK(#REF!),\"\",#REF!)","v":{"$error":"#REF!"}}]
[null,{"$f":"#REF!","v":{"$error":"#REF!"}},{"$f":"#REF!","v":{"$error":"#REF!"}},{"$f":"#REF!","v":{"$error":"#REF!"}},"ANZ_MITARBEITER_BEHINDERT",null,null,{"$f":"IF(ISBLANK(#REF!),\"\",#REF!)","v":{"$error":"#REF!"}}]
[null,{"$f":"#REF!","v":{"$error":"#REF!"}},{"$f":"#REF!","v":{"$error":"#REF!"}},{"$f":"#REF!","v":{"$error":"#REF!"}},"ANZ_MITARBEITER_FREIWILLIG",null,null,{"$f":"IF(ISBLANK(#REF!),\"\",#REF!)","v":{"$error":"#REF!"}}]
[null,{"$f":"#REF!","v":{"$error":"#REF!"}},{"$f":"#REF!","v":{"$error":"#REF!"}},{"$f":"#REF!","v":{"$error":"#REF!"}},"ANZ_MA_FREIWILLIG_BEHINDERT",null,null,{"$f":"IF(ISBLANK(#REF!),\"\",#REF!)","v":{"$error":"#REF!"}}]
[null,{"$f":"#REF!","v":{"$error":"#REF!"}},{"$f":"#REF!","v":{"$error":"#REF!"}},{"$f":"#REF!","v":{"$error":"#REF!"}},"ANZ_MITARBEITER_EHRENAMTLICH",null,null,{"$f":"IF(ISBLANK(#REF!),\"\",#REF!)","v":{"$error":"#REF!"}}]
[null,{"$f":"#REF!","v":{"$error":"#REF!"}},{"$f":"#REF!","v":{"$error":"#REF!"}},{"$f":"#REF!","v":{"$error":"#REF!"}},"ANZ_MA_EHRENAMTLICH_BEHINDERT",null,null,{"$f":"IF(ISBLANK(#REF!),\"\",#REF!)","v":{"$error":"#REF!"}}]
[null,{"$f":"#REF!","v":{"$error":"#REF!"}},{"$f":"#REF!","v":{"$error":"#REF!"}},{"$f":"#REF!","v":{"$error":"#REF!"}},"PERSONALAUFWAND",null,null,{"$f":"IF(ISBLANK(#REF!),\"\",#REF!)","v":{"$error":"#REF!"}}]
[null,{"$f":"#REF!","v":{"$error":"#REF!"}},{"$f":"#REF!","v":{"$error":"#REF!"}},{"$f":"#REF!","v":{"$error":"#REF!"}},"BETRIEBSAUFWAND",null,null,{"$f":"IF(ISBLANK(#REF!),\"\",#REF!)","v":{"$error":"#REF!"}}]
[null,{"$f":"#REF!","v":{"$error":"#REF!"}},{"$f":"#REF!","v":{"$error":"#REF!"}},{"$f":"#REF!","v":{"$error":"#REF!"}},"BETRIEBSERTRAG",null,null,{"$f":"IF(ISBLANK(#REF!),\"\",#REF!)","v":{"$error":"#REF!"}}]
[null,{"$f":"#REF!","v":{"$error":"#REF!"}},{"$f":"#REF!","v":{"$error":"#REF!"}},{"$f":"#REF!","v":{"$error":"#REF!"}},"BEITRAG_IV",null,null,{"$f":"IF(ISBLANK(#REF!),\"\",#REF!)","v":{"$error":"#REF!"}}]
[null,{"$f":"#REF!","v":{"$error":"#REF!"}},{"$f":"#REF!","v":{"$error":"#REF!"}},{"$f":"#REF!","v":{"$error":"#REF!"}},"BEITRAG_AHV",null,null,{"$f":"IF(ISBLANK(#REF!),\"\",#REF!)","v":{"$error":"#REF!"}}]
[null,{"$f":"#REF!","v":{"$error":"#REF!"}},{"$f":"#REF!","v":{"$error":"#REF!"}},{"$f":"#REF!","v":{"$error":"#REF!"}},"ANZ_MITARBEITER",null,null,{"$f":"IF(ISBLANK(#REF!),\"\",#REF!)","v":{"$error":"#REF!"}}]
[null,{"$f":"#REF!","v":{"$error":"#REF!"}},{"$f":"#REF!","v":{"$error":"#REF!"}},{"$f":"#REF!","v":{"$error":"#REF!"}},"ANZ_MITARBEITER_BEHINDERT",null,null,{"$f":"IF(ISBLANK(#REF!),\"\",#REF!)","v":{"$error":"#REF!"}}]
[null,{"$f":"#REF!","v":{"$error":"#REF!"}},{"$f":"#REF!","v":{"$error":"#REF!"}},{"$f":"#REF!","v":{"$error":"#REF!"}},"ANZ_MITARBEITER_FREIWILLIG",null,null,{"$f":"IF(ISBLANK(#REF!),\"\",#REF!)","v":{"$error":"#REF!"}}]
[null,{"$f":"#REF!","v":{"$error":"#REF!"}},{"$f":"#REF!","v":{"$error":"#REF!"}},{"$f":"#REF!","v":{"$error":"#REF!"}},"ANZ_MA_FREIWILLIG_BEHINDERT",null,null,{"$f":"IF(ISBLANK(#REF!),\"\",#REF!)","v":{"$error":"#REF!"}}]
[null,{"$f":"#REF!","v":{"$error":"#REF!"}},{"$f":"#REF!","v":{"$error":"#REF!"}},{"$f":"#REF!","v":{"$error":"#REF!"}},"ANZ_MITARBEITER_EHRENAMTLICH",null,null,{"$f":"IF(ISBLANK(#REF!),\"\",#REF!)","v":{"$error":"#REF!"}}]
[null,{"$f":"#REF!","v":{"$error":"#REF!"}},{"$f":"#REF!","v":{"$error":"#REF!"}},{"$f":"#REF!","v":{"$error":"#REF!"}},"ANZ_MA_EHRENAMTLICH_BEHINDERT",null,null,{"$f":"IF(ISBLANK(#REF!),\"\",#REF!)","v":{"$error":"#REF!"}}]
[null,{"$f":"#REF!","v":{"$error":"#REF!"}},{"$f":"#REF!","v":{"$error":"#REF!"}},{"$f":"#REF!","v":{"$error":"#REF!"}},"PERSONALAUFWAND",null,null,{"$f":"IF(ISBLANK(#REF!),\"\",#REF!)","v":{"$error":"#REF!"}}]
[null,{"$f":"#REF!","v":{"$error":"#REF!"}},{"$f":"#REF!","v":{"$error":"#REF!"}},{"$f":"#REF!","v":{"$error":"#REF!"}},"BETRIEBSAUFWAND",null,null,{"$f":"IF(ISBLANK(#REF!),\"\",#REF!)","v":{"$error":"#REF!"}}]
[null,{"$f":"#REF!","v":{"$error":"#REF!"}},{"$f":"#REF!","v":{"$error":"#REF!"}},{"$f":"#REF!","v":{"$error":"#REF!"}},"BETRIEBSERTRAG",null,null,{"$f":"IF(ISBLANK(#REF!),\"\",#REF!)","v":{"$error":"#REF!"}}]
[null,{"$f":"#REF!","v":{"$error":"#REF!"}},{"$f":"#REF!","v":{"$error":"#REF!"}},{"$f":"#REF!","v":{"$error":"#REF!"}},"BEITRAG_IV",null,null,{"$f":"IF(ISBLANK(#REF!),\"\",#REF!)","v":{"$error":"#REF!"}}]
[null,{"$f":"#REF!","v":{"$error":"#REF!"}},{"$f":"#REF!","v":{"$error":"#REF!"}},{"$f":"#REF!","v":{"$error":"#REF!"}},"BEITRAG_AHV",null,null,{"$f":"IF(ISBLANK(#REF!),\"\",#REF!)","v":{"$error":"#REF!"}}]
[null,{"$f":"#REF!","v":{"$error":"#REF!"}},{"$f":"#REF!","v":{"$error":"#REF!"}},{"$f":"#REF!","v":{"$error":"#REF!"}},"ANZ_MITARBEITER",null,null,{"$f":"IF(ISBLANK(#REF!),\"\",#REF!)","v":{"$error":"#REF!"}}]
[null,{"$f":"#REF!","v":{"$error":"#REF!"}},{"$f":"#REF!","v":{"$error":"#REF!"}},{"$f":"#REF!","v":{"$error":"#REF!"}},"ANZ_MITARBEITER_BEHINDERT",null,null,{"$f":"IF(ISBLANK(#REF!),\"\",#REF!)","v":{"$error":"#REF!"}}]
[null,{"$f":"#REF!","v":{"$error":"#REF!"}},{"$f":"#REF!","v":{"$error":"#REF!"}},{"$f":"#REF!","v":{"$error":"#REF!"}},"ANZ_MITARBEITER_FREIWILLIG",null,null,{"$f":"IF(ISBLANK(#REF!),\"\",#REF!)","v":{"$error":"#REF!"}}]
[null,{"$f":"#REF!","v":{"$error":"#REF!"}},{"$f":"#REF!","v":{"$error":"#REF!"}},{"$f":"#REF!","v":{"$error":"#REF!"}},"ANZ_MA_FREIWILLIG_BEHINDERT",null,null,{"$f":"IF(ISBLANK(#REF!),\"\",#REF!)","v":{"$error":"#REF!"}}]
[null,{"$f":"#REF!","v":{"$error":"#REF!"}},{"$f":"#REF!","v":{"$error":"#REF!"}},{"$f":"#REF!","v":{"$error":"#REF!"}},"ANZ_MITARBEITER_EHRENAMTLICH",null,null,{"$f":"IF(ISBLANK(#REF!),\"\",#REF!)","v":{"$error":"#REF!"}}]
[null,{"$f":"#REF!","v":{"$error":"#REF!"}},{"$f":"#REF!","v":{"$error":"#REF!"}},{"$f":"#REF!","v":{"$error":"#REF!"}},"ANZ_MA_EHRENAMTLICH_BEHINDERT",null,null,{"$f":"IF(ISBLANK(#REF!),\"\",#REF!)","v":{"$error":"#REF!"}}]
[null,{"$f":"#REF!","v":{"$error":"#REF!"}},{"$f":"#REF!","v":{"$error":"#REF!"}},{"$f":"#REF!","v":{"$error":"#REF!"}},"PERSONALAUFWAND",null,null,{"$f":"IF(ISBLANK(#REF!),\"\",#REF!)","v":{"$error":"#REF!"}}]
[null,{"$f":"#REF!","v":{"$error":"#REF!"}},{"$f":"#REF!","v":{"$error":"#REF!"}},{"$f":"#REF!","v":{"$error":"#REF!"}},"BETRIEBSAUFWAND",null,null,{"$f":"IF(ISBLANK(#REF!),\"\",#REF!)","v":{"$error":"#REF!"}}]
[null,{"$f":"#REF!","v":{"$error":"#REF!"}},{"$f":"#REF!","v":{"$error":"#REF!"}},{"$f":"#REF!","v":{"$error":"#REF!"}},"BETRIEBSERTRAG",null,null,{"$f":"IF(ISBLANK(#REF!),\"\",#REF!)","v":{"$error":"#REF!"}}]
[null,{"$f":"#REF!","v":{"$error":"#REF!"}},{"$f":"#REF!","v":{"$error":"#REF!"}},{"$f":"#REF!","v":{"$error":"#REF!"}},"BEITRAG_IV",null,null,{"$f":"IF(ISBLANK(#REF!),\"\",#REF!)","v":{"$error":"#REF!"}}]
[null,{"$f":"#REF!","v":{"$error":"#REF!"}},{"$f":"#REF!","v":{"$error":"#REF!"}},{"$f":"#REF!","v":{"$error":"#REF!"}},"BEITRAG_AHV",null,null,{"$f":"IF(ISBLANK(#REF!),\"\",#REF!)","v":{"$error":"#REF!"}}]
[null,{"$f":"#REF!","v":{"$error":"#REF!"}},{"$f":"#REF!","v":{"$error":"#REF!"}},{"$f":"#REF!","v":{"$error":"#REF!"}},"ANZ_MITARBEITER",null,null,{"$f":"IF(ISBLANK(#REF!),\"\",#REF!)","v":{"$error":"#REF!"}}]
[null,{"$f":"#REF!","v":{"$error":"#REF!"}},{"$f":"#REF!","v":{"$error":"#REF!"}},{"$f":"#REF!","v":{"$error":"#REF!"}},"ANZ_MITARBEITER_BEHINDERT",null,null,{"$f":"IF(ISBLANK(#REF!),\"\",#REF!)","v":{"$error":"#REF!"}}]
[null,{"$f":"#REF!","v":{"$error":"#REF!"}},{"$f":"#REF!","v":{"$error":"#REF!"}},{"$f":"#REF!","v":{"$error":"#REF!"}},"ANZ_MITARBEITER_FREIWILLIG",null,null,{"$f":"IF(ISBLANK(#REF!),\"\",#REF!)","v":{"$error":"#REF!"}}]
[null,{"$f":"#REF!","v":{"$error":"#REF!"}},{"$f":"#REF!","v":{"$error":"#REF!"}},{"$f":"#REF!","v":{"$error":"#REF!"}},"ANZ_MA_FREIWILLIG_BEHINDERT",null,null,{"$f":"IF(ISBLANK(#REF!),\"\",#REF!)","v":{"$error":"#REF!"}}]
[null,{"$f":"#REF!","v":{"$error":"#REF!"}},{"$f":"#REF!","v":{"$error":"#REF!"}},{"$f":"#REF!","v":{"$error":"#REF!"}},"ANZ_MITARBEITER_EHRENAMTLICH",null,null,{"$f":"IF(ISBLANK(#REF!),\"\",#REF!)","v":{"$error":"#REF!"}}]
[null,{"$f":"#REF!","v":{"$error":"#REF!"}},{"$f":"#REF!","v":{"$error":"#REF!"}},{"$f":"#REF!","v":{"$error":"#REF!"}},"ANZ_MA_EHRENAMTLICH_BEHINDERT",null,null,{"$f":"IF(ISBLANK(#REF!),\"\",#REF!)","v":{"$error":"#REF!"}}]
[null,{"$f":"#REF!","v":{"$error":"#REF!"}},{"$f":"#REF!","v":{"$error":"#REF!"}},{"$f":"#REF!","v":{"$error":"#REF!"}},"PERSONALAUFWAND",null,null,{"$f":"IF(ISBLANK(#REF!),\"\",#REF!)","v":{"$error":"#REF!"}}]
[null,{"$f":"#REF!","v":{"$error":"#REF!"}},{"$f":"#REF!","v":{"$error":"#REF!"}},{"$f":"#REF!","v":{"$error":"#REF!"}},"BETRIEBSAUFWAND",null,null,{"$f":"IF(ISBLANK(#REF!),\"\",#REF!)","v":{"$error":"#REF!"}}]
[null,{"$f":"#REF!","v":{"$error":"#REF!"}},{"$f":"#REF!","v":{"$error":"#REF!"}},{"$f":"#REF!","v":{"$error":"#REF!"}},"BETRIEBSERTRAG",null,null,{"$f":"IF(ISBLANK(#REF!),\"\",#REF!)","v":{"$error":"#REF!"}}]
[null,{"$f":"#REF!","v":{"$error":"#REF!"}},{"$f":"#REF!","v":{"$error":"#REF!"}},{"$f":"#REF!","v":{"$error":"#REF!"}},"BEITRAG_IV",null,null,{"$f":"IF(ISBLANK(#REF!),\"\",#REF!)","v":{"$error":"#REF!"}}]
[null,{"$f":"#REF!","v":{"$error":"#REF!"}},{"$f":"#REF!","v":{"$error":"#REF!"}},{"$f":"#REF!","v":{"$error":"#REF!"}},"BEITRAG_AHV",null,null,{"$f":"IF(ISBLANK(#REF!),\"\",#REF!)","v":{"$error":"#REF!"}}]
[null,{"$f":"#REF!","v":{"$error":"#REF!"}},{"$f":"#REF!","v":{"$error":"#REF!"}},{"$f":"#REF!","v":{"$error":"#REF!"}},"ANZ_MITARBEITER",null,null,{"$f":"IF(ISBLANK(#REF!),\"\",#REF!)","v":{"$error":"#REF!"}}]
[null,{"$f":"#REF!","v":{"$error":"#REF!"}},{"$f":"#REF!","v":{"$error":"#REF!"}},{"$f":"#REF!","v":{"$error":"#REF!"}},"ANZ_MITARBEITER_BEHINDERT",null,null,{"$f":"IF(ISBLANK(#REF!),\"\",#REF!)","v":{"$error":"#REF!"}}]
[null,{"$f":"#REF!","v":{"$error":"#REF!"}},{"$f":"#REF!","v":{"$error":"#REF!"}},{"$f":"#REF!","v":{"$error":"#REF!"}},"ANZ_MITARBEITER_FREIWILLIG",null,null,{"$f":"IF(ISBLANK(#REF!),\"\",#REF!)","v":{"$error":"#REF!"}}]
[null,{"$f":"#REF!","v":{"$error":"#REF!"}},{"$f":"#REF!","v":{"$error":"#REF!"}},{"$f":"#REF!","v":{"$error":"#REF!"}},"ANZ_MA_FREIWILLIG_BEHINDERT",null,null,{"$f":"IF(ISBLANK(#REF!),\"\",#REF!)","v":{"$error":"#REF!"}}]
[null,{"$f":"#REF!","v":{"$error":"#REF!"}},{"$f":"#REF!","v":{"$error":"#REF!"}},{"$f":"#REF!","v":{"$error":"#REF!"}},"ANZ_MITARBEITER_EHRENAMTLICH",null,null,{"$f":"IF(ISBLANK(#REF!),\"\",#REF!)","v":{"$error":"#REF!"}}]
[null,{"$f":"#REF!","v":{"$error":"#REF!"}},{"$f":"#REF!","v":{"$error":"#REF!"}},{"$f":"#REF!","v":{"$error":"#REF!"}},"ANZ_MA_EHRENAMTLICH_BEHINDERT",null,null,{"$f":"IF(ISBLANK(#REF!),\"\",#REF!)","v":{"$error":"#REF!"}}]
[null,{"$f":"#REF!","v":{"$error":"#REF!"}},{"$f":"#REF!","v":{"$error":"#REF!"}},{"$f":"#REF!","v":{"$error":"#REF!"}},"PERSONALAUFWAND",null,null,{"$f":"IF(ISBLANK(#REF!),\"\",#REF!)","v":{"$error":"#REF!"}}]
[null,{"$f":"#REF!","v":{"$error":"#REF!"}},{"$f":"#REF!","v":{"$error":"#REF!"}},{"$f":"#REF!","v":{"$error":"#REF!"}},"BETRIEBSAUFWAND",null,null,{"$f":"IF(ISBLANK(#REF!),\"\",#REF!)","v":{"$error":"#REF!"}}]
[null,{"$f":"#REF!","v":{"$error":"#REF!"}},{"$f":"#REF!","v":{"$error":"#REF!"}},{"$f":"#REF!","v":{"$error":"#REF!"}},"BETRIEBSERTRAG",null,null,{"$f":"IF(ISBLANK(#REF!),\"\",#REF!)","v":{"$error":"#REF!"}}]
[null,{"$f":"#REF!","v":{"$error":"#REF!"}},{"$f":"#REF!","v":{"$error":"#REF!"}},{"$f":"#REF!","v":{"$error":"#REF!"}},"BEITRAG_IV",null,null,{"$f":"IF(ISBLANK(#REF!),\"\",#REF!)","v":{"$error":"#REF!"}}]
[null,{"$f":"#REF!","v":{"$error":"#REF!"}},{"$f":"#REF!","v":{"$error":"#REF!"}},{"$f":"#REF!","v":{"$error":"#REF!"}},"BEITRAG_AHV",null,null,{"$f":"IF(ISBLANK(#REF!),\"\",#REF!)","v":{"$error":"#REF!"}}]
[null,{"$f":"#REF!","v":{"$error":"#REF!"}},{"$f":"#REF!","v":{"$error":"#REF!"}},{"$f":"#REF!","v":{"$error":"#REF!"}},"ANZ_MITARBEITER",null,null,{"$f":"IF(ISBLANK(#REF!),\"\",#REF!)","v":{"$error":"#REF!"}}]
[null,{"$f":"#REF!","v":{"$error":"#REF!"}},{"$f":"#REF!","v":{"$error":"#REF!"}},{"$f":"#REF!","v":{"$error":"#REF!"}},"ANZ_MITARBEITER_BEHINDERT",null,null,{"$f":"IF(ISBLANK(#REF!),\"\",#REF!)","v":{"$error":"#REF!"}}]
[null,{"$f":"#REF!","v":{"$error":"#REF!"}},{"$f":"#REF!","v":{"$error":"#REF!"}},{"$f":"#REF!","v":{"$error":"#REF!"}},"ANZ_MITARBEITER_FREIWILLIG",null,null,{"$f":"IF(ISBLANK(#REF!),\"\",#REF!)","v":{"$error":"#REF!"}}]
[null,{"$f":"#REF!","v":{"$error":"#REF!"}},{"$f":"#REF!","v":{"$error":"#REF!"}},{"$f":"#REF!","v":{"$error":"#REF!"}},"ANZ_MA_FREIWILLIG_BEHINDERT",null,null,{"$f":"IF(ISBLANK(#REF!),\"\",#REF!)","v":{"$error":"#REF!"}}]
[null,{"$f":"#REF!","v":{"$error":"#REF!"}},{"$f":"#REF!","v":{"$error":"#REF!"}},{"$f":"#REF!","v":{"$error":"#REF!"}},"ANZ_MITARBEITER_EHRENAMTLICH",null,null,{"$f":"IF(ISBLANK(#REF!),\"\",#REF!)","v":{"$error":"#REF!"}}]
[null,{"$f":"#REF!","v":{"$error":"#REF!"}},{"$f":"#REF!","v":{"$error":"#REF!"}},{"$f":"#REF!","v":{"$error":"#REF!"}},"ANZ_MA_EHRENAMTLICH_BEHINDERT",null,null,{"$f":"IF(ISBLANK(#REF!),\"\",#REF!)","v":{"$error":"#REF!"}}]
[null,{"$f":"#REF!","v":{"$error":"#REF!"}},{"$f":"#REF!","v":{"$error":"#REF!"}},{"$f":"#REF!","v":{"$error":"#REF!"}},"PERSONALAUFWAND",null,null,{"$f":"IF(ISBLANK(#REF!),\"\",#REF!)","v":{"$error":"#REF!"}}]
[null,{"$f":"#REF!","v":{"$error":"#REF!"}},{"$f":"#REF!","v":{"$error":"#REF!"}},{"$f":"#REF!","v":{"$error":"#REF!"}},"BETRIEBSAUFWAND",null,null,{"$f":"IF(ISBLANK(#REF!),\"\",#REF!)","v":{"$error":"#REF!"}}]
[null,{"$f":"#REF!","v":{"$error":"#REF!"}},{"$f":"#REF!","v":{"$error":"#REF!"}},{"$f":"#REF!","v":{"$error":"#REF!"}},"BETRIEBSERTRAG",null,null,{"$f":"IF(ISBLANK(#REF!),\"\",#REF!)","v":{"$error":"#REF!"}}]
[null,{"$f":"#REF!","v":{"$error":"#REF!"}},{"$f":"#REF!","v":{"$error":"#REF!"}},{"$f":"#REF!","v":{"$error":"#REF!"}},"BEITRAG_IV",null,null,{"$f":"IF(ISBLANK(#REF!),\"\",#REF!)","v":{"$error":"#REF!"}}]
[null,{"$f":"#REF!","v":{"$error":"#REF!"}},{"$f":"#REF!","v":{"$error":"#REF!"}},{"$f":"#REF!","v":{"$error":"#REF!"}},"BEITRAG_AHV",null,null,{"$f":"IF(ISBLANK(#REF!),\"\",#REF!)","v":{"$error":"#REF!"}}]
[null,{"$f":"#REF!","v":{"$error":"#REF!"}},{"$f":"#REF!","v":{"$error":"#REF!"}},{"$f":"#REF!","v":{"$error":"#REF!"}},"ANZ_MITARBEITER",null,null,{"$f":"IF(ISBLANK(#REF!),\"\",#REF!)","v":{"$error":"#REF!"}}]
[null,{"$f":"#REF!","v":{"$error":"#REF!"}},{"$f":"#REF!","v":{"$error":"#REF!"}},{"$f":"#REF!","v":{"$error":"#REF!"}},"ANZ_MITARBEITER_BEHINDERT",null,null,{"$f":"IF(ISBLANK(#REF!),\"\",#REF!)","v":{"$error":"#REF!"}}]
[null,{"$f":"#REF!","v":{"$error":"#REF!"}},{"$f":"#REF!","v":{"$error":"#REF!"}},{"$f":"#REF!","v":{"$error":"#REF!"}},"ANZ_MITARBEITER_FREIWILLIG",null,null,{"$f":"IF(ISBLANK(#REF!),\"\",#REF!)","v":{"$error":"#REF!"}}]
[null,{"$f":"#REF!","v":{"$error":"#REF!"}},{"$f":"#REF!","v":{"$error":"#REF!"}},{"$f":"#REF!","v":{"$error":"#REF!"}},"ANZ_MA_FREIWILLIG_BEHINDERT",null,null,{"$f":"IF(ISBLANK(#REF!),\"\",#REF!)","v":{"$error":"#REF!"}}]
[null,{"$f":"#REF!","v":{"$error":"#REF!"}},{"$f":"#REF!","v":{"$error":"#REF!"}},{"$f":"#REF!","v":{"$error":"#REF!"}},"ANZ_MITARBEITER_EHRENAMTLICH",null,null,{"$f":"IF(ISBLANK(#REF!),\"\",#REF!)","v":{"$error":"#REF!"}}]
[null,{"$f":"#REF!","v":{"$error":"#REF!"}},{"$f":"#REF!","v":{"$error":"#REF!"}},{"$f":"#REF!","v":{"$error":"#REF!"}},"ANZ_MA_EHRENAMTLICH_BEHINDERT",null,null,{"$f":"IF(ISBLANK(#REF!),\"\",#REF!)","v":{"$error":"#REF!"}}]
[null,{"$f":"#REF!","v":{"$error":"#REF!"}},{"$f":"#REF!","v":{"$error":"#REF!"}},{"$f":"#REF!","v":{"$error":"#REF!"}},"PERSONALAUFWAND",null,null,{"$f":"IF(ISBLANK(#REF!),\"\",#REF!)","v":{"$error":"#REF!"}}]
[null,{"$f":"#REF!","v":{"$error":"#REF!"}},{"$f":"#REF!","v":{"$error":"#REF!"}},{"$f":"#REF!","v":{"$error":"#REF!"}},"BETRIEBSAUFWAND",null,null,{"$f":"IF(ISBLANK(#REF!),\"\",#REF!)","v":{"$error":"#REF!"}}]
[null,{"$f":"#REF!","v":{"$error":"#REF!"}},{"$f":"#REF!","v":{"$error":"#REF!"}},{"$f":"#REF!","v":{"$error":"#REF!"}},"BETRIEBSERTRAG",null,null,{"$f":"IF(ISBLANK(#REF!),\"\",#REF!)","v":{"$error":"#REF!"}}]
[null,{"$f":"#REF!","v":{"$error":"#REF!"}},{"$f":"#REF!","v":{"$error":"#REF!"}},{"$f":"#REF!","v":{"$error":"#REF!"}},"BEITRAG_IV",null,null,{"$f":"IF(ISBLANK(#REF!),\"\",#REF!)","v":{"$error":"#REF!"}}]
[null,{"$f":"#REF!","v":{"$error":"#REF!"}},{"$f":"#REF!","v":{"$error":"#REF!"}},{"$f":"#REF!","v":{"$error":"#REF!"}},"BEITRAG_AHV",null,null,{"$f":"IF(ISBLANK(#REF!),\"\",#REF!)","v":{"$error":"#REF!"}}]
[null,{"$f":"#REF!","v":{"$error":"#REF!"}},{"$f":"#REF!","v":{"$error":"#REF!"}},{"$f":"#REF!","v":{"$error":"#REF!"}},"ANZ_MITARBEITER",null,null,{"$f":"IF(ISBLANK(#REF!),\"\",#REF!)","v":{"$error":"#REF!"}}]
[null,{"$f":"#REF!","v":{"$error":"#REF!"}},{"$f":"#REF!","v":{"$error":"#REF!"}},{"$f":"#REF!","v":{"$error":"#REF!"}},"ANZ_MITARBEITER_BEHINDERT",null,null,{"$f":"IF(ISBLANK(#REF!),\"\",#REF!)","v":{"$error":"#REF!"}}]
[null,{"$f":"#REF!","v":{"$error":"#REF!"}},{"$f":"#REF!","v":{"$error":"#REF!"}},{"$f":"#REF!","v":{"$error":"#REF!"}},"ANZ_MITARBEITER_FREIWILLIG",null,null,{"$f":"IF(ISBLANK(#REF!),\"\",#REF!)","v":{"$error":"#REF!"}}]
[null,{"$f":"#REF!","v":{"$error":"#REF!"}},{"$f":"#REF!","v":{"$error":"#REF!"}},{"$f":"#REF!","v":{"$error":"#REF!"}},"ANZ_MA_FREIWILLIG_BEHINDERT",null,null,{"$f":"IF(ISBLANK(#REF!),\"\",#REF!)","v":{"$error":"#REF!"}}]
[null,{"$f":"#REF!","v":{"$error":"#REF!"}},{"$f":"#REF!","v":{"$error":"#REF!"}},{"$f":"#REF!","v":{"$error":"#REF!"}},"ANZ_MITARBEITER_EHRENAMTLICH",null,null,{"$f":"IF(ISBLANK(#REF!),\"\",#REF!)","v":{"$error":"#REF!"}}]
[null,{"$f":"#REF!","v":{"$error":"#REF!"}},{"$f":"#REF!","v":{"$error":"#REF!"}},{"$f":"#REF!","v":{"$error":"#REF!"}},"ANZ_MA_EHRENAMTLICH_BEHINDERT",null,null,{"$f":"IF(ISBLANK(#REF!),\"\",#REF!)","v":{"$error":"#REF!"}}]
[null,{"$f":"#REF!","v":{"$error":"#REF!"}},{"$f":"#REF!","v":{"$error":"#REF!"}},{"$f":"#REF!","v":{"$error":"#REF!"}},"PERSONALAUFWAND",null,null,{"$f":"IF(ISBLANK(#REF!),\"\",#REF!)","v":{"$error":"#REF!"}}]
[null,{"$f":"#REF!","v":{"$error":"#REF!"}},{"$f":"#REF!","v":{"$error":"#REF!"}},{"$f":"#REF!","v":{"$error":"#REF!"}},"BETRIEBSAUFWAND",null,null,{"$f":"IF(ISBLANK(#REF!),\"\",#REF!)","v":{"$error":"#REF!"}}]
[null,{"$f":"#REF!","v":{"$error":"#REF!"}},{"$f":"#REF!","v":{"$error":"#REF!"}},{"$f":"#REF!","v":{"$error":"#REF!"}},"BETRIEBSERTRAG",null,null,{"$f":"IF(ISBLANK(#REF!),\"\",#REF!)","v":{"$error":"#REF!"}}]
[null,{"$f":"#REF!","v":{"$error":"#REF!"}},{"$f":"#REF!","v":{"$error":"#REF!"}},{"$f":"#REF!","v":{"$error":"#REF!"}},"BEITRAG_IV",null,null,{"$f":"IF(ISBLANK(#REF!),\"\",#REF!)","v":{"$error":"#REF!"}}]
[null,{"$f":"#REF!","v":{"$error":"#REF!"}},{"$f":"#REF!","v":{"$error":"#REF!"}},{"$f":"#REF!","v":{"$error":"#REF!"}},"BEITRAG_AHV",null,null,{"$f":"IF(ISBLANK(#REF!),\"\",#REF!)","v":{"$error":"#REF!"}}]
[null,{"$f":"#REF!","v":{"$error":"#REF!"}},{"$f":"#REF!","v":{"$error":"#REF!"}},{"$f":"#REF!","v":{"$error":"#REF!"}},"ANZ_MITARBEITER",null,null,{"$f":"IF(ISBLANK(#REF!),\"\",#REF!)","v":{"$error":"#REF!"}}]
[null,{"$f":"#REF!","v":{"$error":"#REF!"}},{"$f":"#REF!","v":{"$error":"#REF!"}},{"$f":"#REF!","v":{"$error":"#REF!"}},"ANZ_MITARBEITER_BEHINDERT",null,null,{"$f":"IF(ISBLANK(#REF!),\"\",#REF!)","v":{"$error":"#REF!"}}]
[null,{"$f":"#REF!","v":{"$error":"#REF!"}},{"$f":"#REF!","v":{"$error":"#REF!"}},{"$f":"#REF!","v":{"$error":"#REF!"}},"ANZ_MITARBEITER_FREIWILLIG",null,null,{"$f":"IF(ISBLANK(#REF!),\"\",#REF!)","v":{"$error":"#REF!"}}]
[null,{"$f":"#REF!","v":{"$error":"#REF!"}},{"$f":"#REF!","v":{"$error":"#REF!"}},{"$f":"#REF!","v":{"$error":"#REF!"}},"ANZ_MA_FREIWILLIG_BEHINDERT",null,null,{"$f":"IF(ISBLANK(#REF!),\"\",#REF!)","v":{"$error":"#REF!"}}]
[null,{"$f":"#REF!","v":{"$error":"#REF!"}},{"$f":"#REF!","v":{"$error":"#REF!"}},{"$f":"#REF!","v":{"$error":"#REF!"}},"ANZ_MITARBEITER_EHRENAMTLICH",null,null,{"$f":"IF(ISBLANK(#REF!),\"\",#REF!)","v":{"$error":"#REF!"}}]
[null,{"$f":"#REF!","v":{"$error":"#REF!"}},{"$f":"#REF!","v":{"$error":"#REF!"}},{"$f":"#REF!","v":{"$error":"#REF!"}},"ANZ_MA_EHRENAMTLICH_BEHINDERT",null,null,{"$f":"IF(ISBLANK(#REF!),\"\",#REF!)","v":{"$error":"#REF!"}}]
[null,{"$f":"#REF!","v":{"$error":"#REF!"}},{"$f":"#REF!","v":{"$error":"#REF!"}},{"$f":"#REF!","v":{"$error":"#REF!"}},"PERSONALAUFWAND",null,null,{"$f":"IF(ISBLANK(#REF!),\"\",#REF!)","v":{"$error":"#REF!"}}]
[null,{"$f":"#REF!","v":{"$error":"#REF!"}},{"$f":"#REF!","v":{"$error":"#REF!"}},{"$f":"#REF!","v":{"$error":"#REF!"}},"BETRIEBSAUFWAND",null,null,{"$f":"IF(ISBLANK(#REF!),\"\",#REF!)","v":{"$error":"#REF!"}}]
[null,{"$f":"#REF!","v":{"$error":"#REF!"}},{"$f":"#REF!","v":{"$error":"#REF!"}},{"$f":"#REF!","v":{"$error":"#REF!"}},"BETRIEBSERTRAG",null,null,{"$f":"IF(ISBLANK(#REF!),\"\",#REF!)","v":{"$error":"#REF!"}}]
[null,{"$f":"#REF!","v":{"$error":"#REF!"}},{"$f":"#REF!","v":{"$error":"#REF!"}},{"$f":"#REF!","v":{"$error":"#REF!"}},"BEITRAG_IV",null,null,{"$f":"IF(ISBLANK(#REF!),\"\",#REF!)","v":{"$error":"#REF!"}}]
[null,{"$f":"#REF!","v":{"$error":"#REF!"}},{"$f":"#REF!","v":{"$error":"#REF!"}},{"$f":"#REF!","v":{"$error":"#REF!"}},"BEITRAG_AHV",null,null,{"$f":"IF(ISBLANK(#REF!),\"\",#REF!)","v":{"$error":"#REF!"}}]
[null,{"$f":"#REF!","v":{"$error":"#REF!"}},{"$f":"#REF!","v":{"$error":"#REF!"}},{"$f":"#REF!","v":{"$error":"#REF!"}},"ANZ_MITARBEITER",null,null,{"$f":"IF(ISBLANK(#REF!),\"\",#REF!)","v":{"$error":"#REF!"}}]
[null,{"$f":"#REF!","v":{"$error":"#REF!"}},{"$f":"#REF!","v":{"$error":"#REF!"}},{"$f":"#REF!","v":{"$error":"#REF!"}},"ANZ_MITARBEITER_BEHINDERT",null,null,{"$f":"IF(ISBLANK(#REF!),\"\",#REF!)","v":{"$error":"#REF!"}}]
[null,{"$f":"#REF!","v":{"$error":"#REF!"}},{"$f":"#REF!","v":{"$error":"#REF!"}},{"$f":"#REF!","v":{"$error":"#REF!"}},"ANZ_MITARBEITER_FREIWILLIG",null,null,{"$f":"IF(ISBLANK(#REF!),\"\",#REF!)","v":{"$error":"#REF!"}}]
[null,{"$f":"#REF!","v":{"$error":"#REF!"}},{"$f":"#REF!","v":{"$error":"#REF!"}},{"$f":"#REF!","v":{"$error":"#REF!"}},"ANZ_MA_FREIWILLIG_BEHINDERT",null,null,{"$f":"IF(ISBLANK(#REF!),\"\",#REF!)","v":{"$error":"#REF!"}}]
[null,{"$f":"#REF!","v":{"$error":"#REF!"}},{"$f":"#REF!","v":{"$error":"#REF!"}},{"$f":"#REF!","v":{"$error":"#REF!"}},"ANZ_MITARBEITER_EHRENAMTLICH",null,null,{"$f":"IF(ISBLANK(#REF!),\"\",#REF!)","v":{"$error":"#REF!"}}]
[null,{"$f":"#REF!","v":{"$error":"#REF!"}},{"$f":"#REF!","v":{"$error":"#REF!"}},{"$f":"#REF!","v":{"$error":"#REF!"}},"ANZ_MA_EHRENAMTLICH_BEHINDERT",null,null,{"$f":"IF(ISBLANK(#REF!),\"\",#REF!)","v":{"$error":"#REF!"}}]
[null,{"$f":"#REF!","v":{"$error":"#REF!"}},{"$f":"#REF!","v":{"$error":"#REF!"}},{"$f":"#REF!","v":{"$error":"#REF!"}},"PERSONALAUFWAND",null,null,{"$f":"IF(ISBLANK(#REF!),\"\",#REF!)","v":{"$error":"#REF!"}}]
[null,{"$f":"#REF!","v":{"$error":"#REF!"}},{"$f":"#REF!","v":{"$error":"#REF!"}},{"$f":"#REF!","v":{"$error":"#REF!"}},"BETRIEBSAUFWAND",null,null,{"$f":"IF(ISBLANK(#REF!),\"\",#REF!)","v":{"$error":"#REF!"}}]
[null,{"$f":"#REF!","v":{"$error":"#REF!"}},{"$f":"#REF!","v":{"$error":"#REF!"}},{"$f":"#REF!","v":{"$error":"#REF!"}},"BETRIEBSERTRAG",null,null,{"$f":"IF(ISBLANK(#REF!),\"\",#REF!)","v":{"$error":"#REF!"}}]
[null,{"$f":"#REF!","v":{"$error":"#REF!"}},{"$f":"#REF!","v":{"$error":"#REF!"}},{"$f":"#REF!","v":{"$error":"#REF!"}},"BEITRAG_IV",null,null,{"$f":"IF(ISBLANK(#REF!),\"\",#REF!)","v":{"$error":"#REF!"}}]
[null,{"$f":"#REF!","v":{"$error":"#REF!"}},{"$f":"#REF!","v":{"$error":"#REF!"}},{"$f":"#REF!","v":{"$error":"#REF!"}},"BEITRAG_AHV",null,null,{"$f":"IF(ISBLANK(#REF!),\"\",#REF!)","v":{"$error":"#REF!"}}]
[null,{"$f":"#REF!","v":{"$error":"#REF!"}},{"$f":"#REF!","v":{"$error":"#REF!"}},{"$f":"#REF!","v":{"$error":"#REF!"}},"ANZ_MITARBEITER",null,null,{"$f":"IF(ISBLANK(#REF!),\"\",#REF!)","v":{"$error":"#REF!"}}]
[null,{"$f":"#REF!","v":{"$error":"#REF!"}},{"$f":"#REF!","v":{"$error":"#REF!"}},{"$f":"#REF!","v":{"$error":"#REF!"}},"ANZ_MITARBEITER_BEHINDERT",null,null,{"$f":"IF(ISBLANK(#REF!),\"\",#REF!)","v":{"$error":"#REF!"}}]
[null,{"$f":"#REF!","v":{"$error":"#REF!"}},{"$f":"#REF!","v":{"$error":"#REF!"}},{"$f":"#REF!","v":{"$error":"#REF!"}},"ANZ_MITARBEITER_FREIWILLIG",null,null,{"$f":"IF(ISBLANK(#REF!),\"\",#REF!)","v":{"$error":"#REF!"}}]
[null,{"$f":"#REF!","v":{"$error":"#REF!"}},{"$f":"#REF!","v":{"$error":"#REF!"}},{"$f":"#REF!","v":{"$error":"#REF!"}},"ANZ_MA_FREIWILLIG_BEHINDERT",null,null,{"$f":"IF(ISBLANK(#REF!),\"\",#REF!)","v":{"$error":"#REF!"}}]
[null,{"$f":"#REF!","v":{"$error":"#REF!"}},{"$f":"#REF!","v":{"$error":"#REF!"}},{"$f":"#REF!","v":{"$error":"#REF!"}},"ANZ_MITARBEITER_EHRENAMTLICH",null,null,{"$f":"IF(ISBLANK(#REF!),\"\",#REF!)","v":{"$error":"#REF!"}}]
[null,{"$f":"#REF!","v":{"$error":"#REF!"}},{"$f":"#REF!","v":{"$error":"#REF!"}},{"$f":"#REF!","v":{"$error":"#REF!"}},"ANZ_MA_EHRENAMTLICH_BEHINDERT",null,null,{"$f":"IF(ISBLANK(#REF!),\"\",#REF!)","v":{"$error":"#REF!"}}]
[null,{"$f":"#REF!","v":{"$error":"#REF!"}},{"$f":"#REF!","v":{"$error":"#REF!"}},{"$f":"#REF!","v":{"$error":"#REF!"}},"PERSONALAUFWAND",null,null,{"$f":"IF(ISBLANK(#REF!),\"\",#REF!)","v":{"$error":"#REF!"}}]
[null,{"$f":"#REF!","v":{"$error":"#REF!"}},{"$f":"#REF!","v":{"$error":"#REF!"}},{"$f":"#REF!","v":{"$error":"#REF!"}},"BETRIEBSAUFWAND",null,null,{"$f":"IF(ISBLANK(#REF!),\"\",#REF!)","v":{"$error":"#REF!"}}]
[null,{"$f":"#REF!","v":{"$error":"#REF!"}},{"$f":"#REF!","v":{"$error":"#REF!"}},{"$f":"#REF!","v":{"$error":"#REF!"}},"BETRIEBSERTRAG",null,null,{"$f":"IF(ISBLANK(#REF!),\"\",#REF!)","v":{"$error":"#REF!"}}]
[null,{"$f":"#REF!","v":{"$error":"#REF!"}},{"$f":"#REF!","v":{"$error":"#REF!"}},{"$f":"#REF!","v":{"$error":"#REF!"}},"BEITRAG_IV",null,null,{"$f":"IF(ISBLANK(#REF!),\"\",#REF!)","v":{"$error":"#REF!"}}]
[null,{"$f":"#REF!","v":{"$error":"#REF!"}},{"$f":"#REF!","v":{"$error":"#REF!"}},{"$f":"#REF!","v":{"$error":"#REF!"}},"BEITRAG_AHV",null,null,{"$f":"IF(ISBLANK(#REF!),\"\",#REF!)","v":{"$error":"#REF!"}}]
[null,{"$f":"#REF!","v":{"$error":"#REF!"}},{"$f":"#REF!","v":{"$error":"#REF!"}},{"$f":"#REF!","v":{"$error":"#REF!"}},"ANZ_MITARBEITER",null,null,{"$f":"IF(ISBLANK(#REF!),\"\",#REF!)","v":{"$error":"#REF!"}}]
[null,{"$f":"#REF!","v":{"$error":"#REF!"}},{"$f":"#REF!","v":{"$error":"#REF!"}},{"$f":"#REF!","v":{"$error":"#REF!"}},"ANZ_MITARBEITER_BEHINDERT",null,null,{"$f":"IF(ISBLANK(#REF!),\"\",#REF!)","v":{"$error":"#REF!"}}]
[null,{"$f":"#REF!","v":{"$error":"#REF!"}},{"$f":"#REF!","v":{"$error":"#REF!"}},{"$f":"#REF!","v":{"$error":"#REF!"}},"ANZ_MITARBEITER_FREIWILLIG",null,null,{"$f":"IF(ISBLANK(#REF!),\"\",#REF!)","v":{"$error":"#REF!"}}]
[null,{"$f":"#REF!","v":{"$error":"#REF!"}},{"$f":"#REF!","v":{"$error":"#REF!"}},{"$f":"#REF!","v":{"$error":"#REF!"}},"ANZ_MA_FREIWILLIG_BEHINDERT",null,null,{"$f":"IF(ISBLANK(#REF!),\"\",#REF!)","v":{"$error":"#REF!"}}]
[null,{"$f":"#REF!","v":{"$error":"#REF!"}},{"$f":"#REF!","v":{"$error":"#REF!"}},{"$f":"#REF!","v":{"$error":"#REF!"}},"ANZ_MITARBEITER_EHRENAMTLICH",null,null,{"$f":"IF(ISBLANK(#REF!),\"\",#REF!)","v":{"$error":"#REF!"}}]
[null,{"$f":"#REF!","v":{"$error":"#REF!"}},{"$f":"#REF!","v":{"$error":"#REF!"}},{"$f":"#REF!","v":{"$error":"#REF!"}},"ANZ_MA_EHRENAMTLICH_BEHINDERT",null,null,{"$f":"IF(ISBLANK(#REF!),\"\",#REF!)","v":{"$error":"#REF!"}}]
[null,{"$f":"#REF!","v":{"$error":"#REF!"}},{"$f":"#REF!","v":{"$error":"#REF!"}},{"$f":"#REF!","v":{"$error":"#REF!"}},"PERSONALAUFWAND",null,null,{"$f":"IF(ISBLANK(#REF!),\"\",#REF!)","v":{"$error":"#REF!"}}]
[null,{"$f":"#REF!","v":{"$error":"#REF!"}},{"$f":"#REF!","v":{"$error":"#REF!"}},{"$f":"#REF!","v":{"$error":"#REF!"}},"BETRIEBSAUFWAND",null,null,{"$f":"IF(ISBLANK(#REF!),\"\",#REF!)","v":{"$error":"#REF!"}}]
[null,{"$f":"#REF!","v":{"$error":"#REF!"}},{"$f":"#REF!","v":{"$error":"#REF!"}},{"$f":"#REF!","v":{"$error":"#REF!"}},"BETRIEBSERTRAG",null,null,{"$f":"IF(ISBLANK(#REF!),\"\",#REF!)","v":{"$error":"#REF!"}}]
[null,{"$f":"#REF!","v":{"$error":"#REF!"}},{"$f":"#REF!","v":{"$error":"#REF!"}},{"$f":"#REF!","v":{"$error":"#REF!"}},"BEITRAG_IV",null,null,{"$f":"IF(ISBLANK(#REF!),\"\",#REF!)","v":{"$error":"#REF!"}}]
[null,{"$f":"#REF!","v":{"$error":"#REF!"}},{"$f":"#REF!","v":{"$error":"#REF!"}},{"$f":"#REF!","v":{"$error":"#REF!"}},"BEITRAG_AHV",null,null,{"$f":"IF(ISBLANK(#REF!),\"\",#REF!)","v":{"$error":"#REF!"}}]
[null,{"$f":"#REF!","v":{"$error":"#REF!"}},{"$f":"#REF!","v":{"$error":"#REF!"}},{"$f":"#REF!","v":{"$error":"#REF!"}},"ANZ_MITARBEITER",null,null,{"$f":"IF(ISBLANK(#REF!),\"\",#REF!)","v":{"$error":"#REF!"}}]
[null,{"$f":"#REF!","v":{"$error":"#REF!"}},{"$f":"#REF!","v":{"$error":"#REF!"}},{"$f":"#REF!","v":{"$error":"#REF!"}},"ANZ_MITARBEITER_BEHINDERT",null,null,{"$f":"IF(ISBLANK(#REF!),\"\",#REF!)","v":{"$error":"#REF!"}}]
[null,{"$f":"#REF!","v":{"$error":"#REF!"}},{"$f":"#REF!","v":{"$error":"#REF!"}},{"$f":"#REF!","v":{"$error":"#REF!"}},"ANZ_MITARBEITER_FREIWILLIG",null,null,{"$f":"IF(ISBLANK(#REF!),\"\",#REF!)","v":{"$error":"#REF!"}}]
[null,{"$f":"#REF!","v":{"$error":"#REF!"}},{"$f":"#REF!","v":{"$error":"#REF!"}},{"$f":"#REF!","v":{"$error":"#REF!"}},"ANZ_MA_FREIWILLIG_BEHINDERT",null,null,{"$f":"IF(ISBLANK(#REF!),\"\",#REF!)","v":{"$error":"#REF!"}}]
[null,{"$f":"#REF!","v":{"$error":"#REF!"}},{"$f":"#REF!","v":{"$error":"#REF!"}},{"$f":"#REF!","v":{"$error":"#REF!"}},"ANZ_MITARBEITER_EHRENAMTLICH",null,null,{"$f":"IF(ISBLANK(#REF!),\"\",#REF!)","v":{"$error":"#REF!"}}]
[null,{"$f":"#REF!","v":{"$error":"#REF!"}},{"$f":"#REF!","v":{"$error":"#REF!"}},{"$f":"#REF!","v":{"$error":"#REF!"}},"ANZ_MA_EHRENAMTLICH_BEHINDERT",null,null,{"$f":"IF(ISBLANK(#REF!),\"\",#REF!)","v":{"$error":"#REF!"}}]
[null,{"$f":"#REF!","v":{"$error":"#REF!"}},{"$f":"#REF!","v":{"$error":"#REF!"}},{"$f":"#REF!","v":{"$error":"#REF!"}},"PERSONALAUFWAND",null,null,{"$f":"IF(ISBLANK(#REF!),\"\",#REF!)","v":{"$error":"#REF!"}}]
[null,{"$f":"#REF!","v":{"$error":"#REF!"}},{"$f":"#REF!","v":{"$error":"#REF!"}},{"$f":"#REF!","v":{"$error":"#REF!"}},"BETRIEBSAUFWAND",null,null,{"$f":"IF(ISBLANK(#REF!),\"\",#REF!)","v":{"$error":"#REF!"}}]
[null,{"$f":"#REF!","v":{"$error":"#REF!"}},{"$f":"#REF!","v":{"$error":"#REF!"}},{"$f":"#REF!","v":{"$error":"#REF!"}},"BETRIEBSERTRAG",null,null,{"$f":"IF(ISBLANK(#REF!),\"\",#REF!)","v":{"$error":"#REF!"}}]
[null,{"$f":"#REF!","v":{"$error":"#REF!"}},{"$f":"#REF!","v":{"$error":"#REF!"}},{"$f":"#REF!","v":{"$error":"#REF!"}},"BEITRAG_IV",null,null,{"$f":"IF(ISBLANK(#REF!),\"\",#REF!)","v":{"$error":"#REF!"}}]
[null,{"$f":"#REF!","v":{"$error":"#REF!"}},{"$f":"#REF!","v":{"$error":"#REF!"}},{"$f":"#REF!","v":{"$error":"#REF!"}},"BEITRAG_AHV",null,null,{"$f":"IF(ISBLANK(#REF!),\"\",#REF!)","v":{"$error":"#REF!"}}]
[null,{"$f":"#REF!","v":{"$error":"#REF!"}},{"$f":"#REF!","v":{"$error":"#REF!"}},{"$f":"#REF!","v":{"$error":"#REF!"}},"ANZ_MITARBEITER",null,null,{"$f":"IF(ISBLANK(#REF!),\"\",#REF!)","v":{"$error":"#REF!"}}]
[null,{"$f":"#REF!","v":{"$error":"#REF!"}},{"$f":"#REF!","v":{"$error":"#REF!"}},{"$f":"#REF!","v":{"$error":"#REF!"}},"ANZ_MITARBEITER_BEHINDERT",null,null,{"$f":"IF(ISBLANK(#REF!),\"\",#REF!)","v":{"$error":"#REF!"}}]
[null,{"$f":"#REF!","v":{"$error":"#REF!"}},{"$f":"#REF!","v":{"$error":"#REF!"}},{"$f":"#REF!","v":{"$error":"#REF!"}},"ANZ_MITARBEITER_FREIWILLIG",null,null,{"$f":"IF(ISBLANK(#REF!),\"\",#REF!)","v":{"$error":"#REF!"}}]
[null,{"$f":"#REF!","v":{"$error":"#REF!"}},{"$f":"#REF!","v":{"$error":"#REF!"}},{"$f":"#REF!","v":{"$error":"#REF!"}},"ANZ_MA_FREIWILLIG_BEHINDERT",null,null,{"$f":"IF(ISBLANK(#REF!),\"\",#REF!)","v":{"$error":"#REF!"}}]
[null,{"$f":"#REF!","v":{"$error":"#REF!"}},{"$f":"#REF!","v":{"$error":"#REF!"}},{"$f":"#REF!","v":{"$error":"#REF!"}},"ANZ_MITARBEITER_EHRENAMTLICH",null,null,{"$f":"IF(ISBLANK(#REF!),\"\",#REF!)","v":{"$error":"#REF!"}}]
[null,{"$f":"#REF!","v":{"$error":"#REF!"}},{"$f":"#REF!","v":{"$error":"#REF!"}},{"$f":"#REF!","v":{"$error":"#REF!"}},"ANZ_MA_EHRENAMTLICH_BEHINDERT",null,null,{"$f":"IF(ISBLANK(#REF!),\"\",#REF!)","v":{"$error":"#REF!"}}]
[null,{"$f":"#REF!","v":{"$error":"#REF!"}},{"$f":"#REF!","v":{"$error":"#REF!"}},{"$f":"#REF!","v":{"$error":"#REF!"}},"PERSONALAUFWAND",null,null,{"$f":"IF(ISBLANK(#REF!),\"\",#REF!)","v":{"$error":"#REF!"}}]
[null,{"$f":"#REF!","v":{"$error":"#REF!"}},{"$f":"#REF!","v":{"$error":"#REF!"}},{"$f":"#REF!","v":{"$error":"#REF!"}},"BETRIEBSAUFWAND",null,null,{"$f":"IF(ISBLANK(#REF!),\"\",#REF!)","v":{"$error":"#REF!"}}]
[null,{"$f":"#REF!","v":{"$error":"#REF!"}},{"$f":"#REF!","v":{"$error":"#REF!"}},{"$f":"#REF!","v":{"$error":"#REF!"}},"BETRIEBSERTRAG",null,null,{"$f":"IF(ISBLANK(#REF!),\"\",#REF!)","v":{"$error":"#REF!"}}]
[null,{"$f":"#REF!","v":{"$error":"#REF!"}},{"$f":"#REF!","v":{"$error":"#REF!"}},{"$f":"#REF!","v":{"$error":"#REF!"}},"BEITRAG_IV",null,null,{"$f":"IF(ISBLANK(#REF!),\"\",#REF!)","v":{"$error":"#REF!"}}]
[null,{"$f":"#REF!","v":{"$error":"#REF!"}},{"$f":"#REF!","v":{"$error":"#REF!"}},{"$f":"#REF!","v":{"$error":"#REF!"}},"BEITRAG_AHV",null,null,{"$f":"IF(ISBLANK(#REF!),\"\",#REF!)","v":{"$error":"#REF!"}}]
[null,{"$f":"#REF!","v":{"$error":"#REF!"}},{"$f":"#REF!","v":{"$error":"#REF!"}},{"$f":"#REF!","v":{"$error":"#REF!"}},"ANZ_MITARBEITER",null,null,{"$f":"IF(ISBLANK(#REF!),\"\",#REF!)","v":{"$error":"#REF!"}}]
[null,{"$f":"#REF!","v":{"$error":"#REF!"}},{"$f":"#REF!","v":{"$error":"#REF!"}},{"$f":"#REF!","v":{"$error":"#REF!"}},"ANZ_MITARBEITER_BEHINDERT",null,null,{"$f":"IF(ISBLANK(#REF!),\"\",#REF!)","v":{"$error":"#REF!"}}]
[null,{"$f":"#REF!","v":{"$error":"#REF!"}},{"$f":"#REF!","v":{"$error":"#REF!"}},{"$f":"#REF!","v":{"$error":"#REF!"}},"ANZ_MITARBEITER_FREIWILLIG",null,null,{"$f":"IF(ISBLANK(#REF!),\"\",#REF!)","v":{"$error":"#REF!"}}]
[null,{"$f":"#REF!","v":{"$error":"#REF!"}},{"$f":"#REF!","v":{"$error":"#REF!"}},{"$f":"#REF!","v":{"$error":"#REF!"}},"ANZ_MA_FREIWILLIG_BEHINDERT",null,null,{"$f":"IF(ISBLANK(#REF!),\"\",#REF!)","v":{"$error":"#REF!"}}]
[null,{"$f":"#REF!","v":{"$error":"#REF!"}},{"$f":"#REF!","v":{"$error":"#REF!"}},{"$f":"#REF!","v":{"$error":"#REF!"}},"ANZ_MITARBEITER_EHRENAMTLICH",null,null,{"$f":"IF(ISBLANK(#REF!),\"\",#REF!)","v":{"$error":"#REF!"}}]
[null,{"$f":"#REF!","v":{"$error":"#REF!"}},{"$f":"#REF!","v":{"$error":"#REF!"}},{"$f":"#REF!","v":{"$error":"#REF!"}},"ANZ_MA_EHRENAMTLICH_BEHINDERT",null,null,{"$f":"IF(ISBLANK(#REF!),\"\",#REF!)","v":{"$error":"#REF!"}}]
[null,{"$f":"#REF!","v":{"$error":"#REF!"}},{"$f":"#REF!","v":{"$error":"#REF!"}},{"$f":"#REF!","v":{"$error":"#REF!"}},"PERSONALAUFWAND",null,null,{"$f":"IF(ISBLANK(#REF!),\"\",#REF!)","v":{"$error":"#REF!"}}]
[null,{"$f":"#REF!","v":{"$error":"#REF!"}},{"$f":"#REF!","v":{"$error":"#REF!"}},{"$f":"#REF!","v":{"$error":"#REF!"}},"BETRIEBSAUFWAND",null,null,{"$f":"IF(ISBLANK(#REF!),\"\",#REF!)","v":{"$error":"#REF!"}}]
[null,{"$f":"#REF!","v":{"$error":"#REF!"}},{"$f":"#REF!","v":{"$error":"#REF!"}},{"$f":"#REF!","v":{"$error":"#REF!"}},"BETRIEBSERTRAG",null,null,{"$f":"IF(ISBLANK(#REF!),\"\",#REF!)","v":{"$error":"#REF!"}}]
[null,{"$f":"#REF!","v":{"$error":"#REF!"}},{"$f":"#REF!","v":{"$error":"#REF!"}},{"$f":"#REF!","v":{"$error":"#REF!"}},"BEITRAG_IV",null,null,{"$f":"IF(ISBLANK(#REF!),\"\",#REF!)","v":{"$error":"#REF!"}}]
[null,{"$f":"#REF!","v":{"$error":"#REF!"}},{"$f":"#REF!","v":{"$error":"#REF!"}},{"$f":"#REF!","v":{"$error":"#REF!"}},"BEITRAG_AHV",null,null,{"$f":"IF(ISBLANK(#REF!),\"\",#REF!)","v":{"$error":"#REF!"}}]
[null,{"$f":"#REF!","v":{"$error":"#REF!"}},{"$f":"#REF!","v":{"$error":"#REF!"}},{"$f":"#REF!","v":{"$error":"#REF!"}},"ANZ_MITARBEITER",null,null,{"$f":"IF(ISBLANK(#REF!),\"\",#REF!)","v":{"$error":"#REF!"}}]
[null,{"$f":"#REF!","v":{"$error":"#REF!"}},{"$f":"#REF!","v":{"$error":"#REF!"}},{"$f":"#REF!","v":{"$error":"#REF!"}},"ANZ_MITARBEITER_BEHINDERT",null,null,{"$f":"IF(ISBLANK(#REF!),\"\",#REF!)","v":{"$error":"#REF!"}}]
[null,{"$f":"#REF!","v":{"$error":"#REF!"}},{"$f":"#REF!","v":{"$error":"#REF!"}},{"$f":"#REF!","v":{"$error":"#REF!"}},"ANZ_MITARBEITER_FREIWILLIG",null,null,{"$f":"IF(ISBLANK(#REF!),\"\",#REF!)","v":{"$error":"#REF!"}}]
[null,{"$f":"#REF!","v":{"$error":"#REF!"}},{"$f":"#REF!","v":{"$error":"#REF!"}},{"$f":"#REF!","v":{"$error":"#REF!"}},"ANZ_MA_FREIWILLIG_BEHINDERT",null,null,{"$f":"IF(ISBLANK(#REF!),\"\",#REF!)","v":{"$error":"#REF!"}}]
[null,{"$f":"#REF!","v":{"$error":"#REF!"}},{"$f":"#REF!","v":{"$error":"#REF!"}},{"$f":"#REF!","v":{"$error":"#REF!"}},"ANZ_MITARBEITER_EHRENAMTLICH",null,null,{"$f":"IF(ISBLANK(#REF!),\"\",#REF!)","v":{"$error":"#REF!"}}]
[null,{"$f":"#REF!","v":{"$error":"#REF!"}},{"$f":"#REF!","v":{"$error":"#REF!"}},{"$f":"#REF!","v":{"$error":"#REF!"}},"ANZ_MA_EHRENAMTLICH_BEHINDERT",null,null,{"$f":"IF(ISBLANK(#REF!),\"\",#REF!)","v":{"$error":"#REF!"}}]
[null,{"$f":"#REF!","v":{"$error":"#REF!"}},{"$f":"#REF!","v":{"$error":"#REF!"}},{"$f":"#REF!","v":{"$error":"#REF!"}},"PERSONALAUFWAND",null,null,{"$f":"IF(ISBLANK(#REF!),\"\",#REF!)","v":{"$error":"#REF!"}}]
[null,{"$f":"#REF!","v":{"$error":"#REF!"}},{"$f":"#REF!","v":{"$error":"#REF!"}},{"$f":"#REF!","v":{"$error":"#REF!"}},"BETRIEBSAUFWAND",null,null,{"$f":"IF(ISBLANK(#REF!),\"\",#REF!)","v":{"$error":"#REF!"}}]
[null,{"$f":"#REF!","v":{"$error":"#REF!"}},{"$f":"#REF!","v":{"$error":"#REF!"}},{"$f":"#REF!","v":{"$error":"#REF!"}},"BETRIEBSERTRAG",null,null,{"$f":"IF(ISBLANK(#REF!),\"\",#REF!)","v":{"$error":"#REF!"}}]
[null,{"$f":"#REF!","v":{"$error":"#REF!"}},{"$f":"#REF!","v":{"$error":"#REF!"}},{"$f":"#REF!","v":{"$error":"#REF!"}},"BEITRAG_IV",null,null,{"$f":"IF(ISBLANK(#REF!),\"\",#REF!)","v":{"$error":"#REF!"}}]
[null,{"$f":"#REF!","v":{"$error":"#REF!"}},{"$f":"#REF!","v":{"$error":"#REF!"}},{"$f":"#REF!","v":{"$error":"#REF!"}},"BEITRAG_AHV",null,null,{"$f":"IF(ISBLANK(#REF!),\"\",#REF!)","v":{"$error":"#REF!"}}]
[null,{"$f":"#REF!","v":{"$error":"#REF!"}},{"$f":"#REF!","v":{"$error":"#REF!"}},{"$f":"#REF!","v":{"$error":"#REF!"}},"ANZ_MITARBEITER",null,null,{"$f":"IF(ISBLANK(#REF!),\"\",#REF!)","v":{"$error":"#REF!"}}]
[null,{"$f":"#REF!","v":{"$error":"#REF!"}},{"$f":"#REF!","v":{"$error":"#REF!"}},{"$f":"#REF!","v":{"$error":"#REF!"}},"ANZ_MITARBEITER_BEHINDERT",null,null,{"$f":"IF(ISBLANK(#REF!),\"\",#REF!)","v":{"$error":"#REF!"}}]
[null,{"$f":"#REF!","v":{"$error":"#REF!"}},{"$f":"#REF!","v":{"$error":"#REF!"}},{"$f":"#REF!","v":{"$error":"#REF!"}},"ANZ_MITARBEITER_FREIWILLIG",null,null,{"$f":"IF(ISBLANK(#REF!),\"\",#REF!)","v":{"$error":"#REF!"}}]
[null,{"$f":"#REF!","v":{"$error":"#REF!"}},{"$f":"#REF!","v":{"$error":"#REF!"}},{"$f":"#REF!","v":{"$error":"#REF!"}},"ANZ_MA_FREIWILLIG_BEHINDERT",null,null,{"$f":"IF(ISBLANK(#REF!),\"\",#REF!)","v":{"$error":"#REF!"}}]
[null,{"$f":"#REF!","v":{"$error":"#REF!"}},{"$f":"#REF!","v":{"$error":"#REF!"}},{"$f":"#REF!","v":{"$error":"#REF!"}},"ANZ_MITARBEITER_EHRENAMTLICH",null,null,{"$f":"IF(ISBLANK(#REF!),\"\",#REF!)","v":{"$error":"#REF!"}}]
[null,{"$f":"#REF!","v":{"$error":"#REF!"}},{"$f":"#REF!","v":{"$error":"#REF!"}},{"$f":"#REF!","v":{"$error":"#REF!"}},"ANZ_MA_EHRENAMTLICH_BEHINDERT",null,null,{"$f":"IF(ISBLANK(#REF!),\"\",#REF!)","v":{"$error":"#REF!"}}]
[null,{"$f":"#REF!","v":{"$error":"#REF!"}},{"$f":"#REF!","v":{"$error":"#REF!"}},{"$f":"#REF!","v":{"$error":"#REF!"}},"PERSONALAUFWAND",null,null,{"$f":"IF(ISBLANK(#REF!),\"\",#REF!)","v":{"$error":"#REF!"}}]
[null,{"$f":"#REF!","v":{"$error":"#REF!"}},{"$f":"#REF!","v":{"$error":"#REF!"}},{"$f":"#REF!","v":{"$error":"#REF!"}},"BETRIEBSAUFWAND",null,null,{"$f":"IF(ISBLANK(#REF!),\"\",#REF!)","v":{"$error":"#REF!"}}]
[null,{"$f":"#REF!","v":{"$error":"#REF!"}},{"$f":"#REF!","v":{"$error":"#REF!"}},{"$f":"#REF!","v":{"$error":"#REF!"}},"BETRIEBSERTRAG",null,null,{"$f":"IF(ISBLANK(#REF!),\"\",#REF!)","v":{"$error":"#REF!"}}]
[null,{"$f":"#REF!","v":{"$error":"#REF!"}},{"$f":"#REF!","v":{"$error":"#REF!"}},{"$f":"#REF!","v":{"$error":"#REF!"}},"BEITRAG_IV",null,null,{"$f":"IF(ISBLANK(#REF!),\"\",#REF!)","v":{"$error":"#REF!"}}]
[null,{"$f":"#REF!","v":{"$error":"#REF!"}},{"$f":"#REF!","v":{"$error":"#REF!"}},{"$f":"#REF!","v":{"$error":"#REF!"}},"BEITRAG_AHV",null,null,{"$f":"IF(ISBLANK(#REF!),\"\",#REF!)","v":{"$error":"#REF!"}}]
[null,{"$f":"#REF!","v":{"$error":"#REF!"}},{"$f":"#REF!","v":{"$error":"#REF!"}},{"$f":"#REF!","v":{"$error":"#REF!"}},"ANZ_MITARBEITER",null,null,{"$f":"IF(ISBLANK(#REF!),\"\",#REF!)","v":{"$error":"#REF!"}}]
[null,{"$f":"#REF!","v":{"$error":"#REF!"}},{"$f":"#REF!","v":{"$error":"#REF!"}},{"$f":"#REF!","v":{"$error":"#REF!"}},"ANZ_MITARBEITER_BEHINDERT",null,null,{"$f":"IF(ISBLANK(#REF!),\"\",#REF!)","v":{"$error":"#REF!"}}]
[null,{"$f":"#REF!","v":{"$error":"#REF!"}},{"$f":"#REF!","v":{"$error":"#REF!"}},{"$f":"#REF!","v":{"$error":"#REF!"}},"ANZ_MITARBEITER_FREIWILLIG",null,null,{"$f":"IF(ISBLANK(#REF!),\"\",#REF!)","v":{"$error":"#REF!"}}]
[null,{"$f":"#REF!","v":{"$error":"#REF!"}},{"$f":"#REF!","v":{"$error":"#REF!"}},{"$f":"#REF!","v":{"$error":"#REF!"}},"ANZ_MA_FREIWILLIG_BEHINDERT",null,null,{"$f":"IF(ISBLANK(#REF!),\"\",#REF!)","v":{"$error":"#REF!"}}]
[null,{"$f":"#REF!","v":{"$error":"#REF!"}},{"$f":"#REF!","v":{"$error":"#REF!"}},{"$f":"#REF!","v":{"$error":"#REF!"}},"ANZ_MITARBEITER_EHRENAMTLICH",null,null,{"$f":"IF(ISBLANK(#REF!),\"\",#REF!)","v":{"$error":"#REF!"}}]
[null,{"$f":"#REF!","v":{"$error":"#REF!"}},{"$f":"#REF!","v":{"$error":"#REF!"}},{"$f":"#REF!","v":{"$error":"#REF!"}},"ANZ_MA_EHRENAMTLICH_BEHINDERT",null,null,{"$f":"IF(ISBLANK(#REF!),\"\",#REF!)","v":{"$error":"#REF!"}}]
[null,{"$f":"#REF!","v":{"$error":"#REF!"}},{"$f":"#REF!","v":{"$error":"#REF!"}},{"$f":"#REF!","v":{"$error":"#REF!"}},"PERSONALAUFWAND",null,null,{"$f":"IF(ISBLANK(#REF!),\"\",#REF!)","v":{"$error":"#REF!"}}]
[null,{"$f":"#REF!","v":{"$error":"#REF!"}},{"$f":"#REF!","v":{"$error":"#REF!"}},{"$f":"#REF!","v":{"$error":"#REF!"}},"BETRIEBSAUFWAND",null,null,{"$f":"IF(ISBLANK(#REF!),\"\",#REF!)","v":{"$error":"#REF!"}}]
[null,{"$f":"#REF!","v":{"$error":"#REF!"}},{"$f":"#REF!","v":{"$error":"#REF!"}},{"$f":"#REF!","v":{"$error":"#REF!"}},"BETRIEBSERTRAG",null,null,{"$f":"IF(ISBLANK(#REF!),\"\",#REF!)","v":{"$error":"#REF!"}}]
[null,{"$f":"#REF!","v":{"$error":"#REF!"}},{"$f":"#REF!","v":{"$error":"#REF!"}},{"$f":"#REF!","v":{"$error":"#REF!"}},"BEITRAG_IV",null,null,{"$f":"IF(ISBLANK(#REF!),\"\",#REF!)","v":{"$error":"#REF!"}}]
[null,{"$f":"#REF!","v":{"$error":"#REF!"}},{"$f":"#REF!","v":{"$error":"#REF!"}},{"$f":"#REF!","v":{"$error":"#REF!"}},"BEITRAG_AHV",null,null,{"$f":"IF(ISBLANK(#REF!),\"\",#REF!)","v":{"$error":"#REF!"}}]
[null,{"$f":"#REF!","v":{"$error":"#REF!"}},{"$f":"#REF!","v":{"$error":"#REF!"}},{"$f":"#REF!","v":{"$error":"#REF!"}},"ANZ_MITARBEITER",null,null,{"$f":"IF(ISBLANK(#REF!),\"\",#REF!)","v":{"$error":"#REF!"}}]
[null,{"$f":"#REF!","v":{"$error":"#REF!"}},{"$f":"#REF!","v":{"$error":"#REF!"}},{"$f":"#REF!","v":{"$error":"#REF!"}},"ANZ_MITARBEITER_BEHINDERT",null,null,{"$f":"IF(ISBLANK(#REF!),\"\",#REF!)","v":{"$error":"#REF!"}}]
[null,{"$f":"#REF!","v":{"$error":"#REF!"}},{"$f":"#REF!","v":{"$error":"#REF!"}},{"$f":"#REF!","v":{"$error":"#REF!"}},"ANZ_MITARBEITER_FREIWILLIG",null,null,{"$f":"IF(ISBLANK(#REF!),\"\",#REF!)","v":{"$error":"#REF!"}}]
[null,{"$f":"#REF!","v":{"$error":"#REF!"}},{"$f":"#REF!","v":{"$error":"#REF!"}},{"$f":"#REF!","v":{"$error":"#REF!"}},"ANZ_MA_FREIWILLIG_BEHINDERT",null,null,{"$f":"IF(ISBLANK(#REF!),\"\",#REF!)","v":{"$error":"#REF!"}}]
[null,{"$f":"#REF!","v":{"$error":"#REF!"}},{"$f":"#REF!","v":{"$error":"#REF!"}},{"$f":"#REF!","v":{"$error":"#REF!"}},"ANZ_MITARBEITER_EHRENAMTLICH",null,null,{"$f":"IF(ISBLANK(#REF!),\"\",#REF!)","v":{"$error":"#REF!"}}]
[null,{"$f":"#REF!","v":{"$error":"#REF!"}},{"$f":"#REF!","v":{"$error":"#REF!"}},{"$f":"#REF!","v":{"$error":"#REF!"}},"ANZ_MA_EHRENAMTLICH_BEHINDERT",null,null,{"$f":"IF(ISBLANK(#REF!),\"\",#REF!)","v":{"$error":"#REF!"}}]
[null,{"$f":"#REF!","v":{"$error":"#REF!"}},{"$f":"#REF!","v":{"$error":"#REF!"}},{"$f":"#REF!","v":{"$error":"#REF!"}},"PERSONALAUFWAND",null,null,{"$f":"IF(ISBLANK(#REF!),\"\",#REF!)","v":{"$error":"#REF!"}}]
[null,{"$f":"#REF!","v":{"$error":"#REF!"}},{"$f":"#REF!","v":{"$error":"#REF!"}},{"$f":"#REF!","v":{"$error":"#REF!"}},"BETRIEBSAUFWAND",null,null,{"$f":"IF(ISBLANK(#REF!),\"\",#REF!)","v":{"$error":"#REF!"}}]
[null,{"$f":"#REF!","v":{"$error":"#REF!"}},{"$f":"#REF!","v":{"$error":"#REF!"}},{"$f":"#REF!","v":{"$error":"#REF!"}},"BETRIEBSERTRAG",null,null,{"$f":"IF(ISBLANK(#REF!),\"\",#REF!)","v":{"$error":"#REF!"}}]
[null,{"$f":"#REF!","v":{"$error":"#REF!"}},{"$f":"#REF!","v":{"$error":"#REF!"}},{"$f":"#REF!","v":{"$error":"#REF!"}},"BEITRAG_IV",null,null,{"$f":"IF(ISBLANK(#REF!),\"\",#REF!)","v":{"$error":"#REF!"}}]
[null,{"$f":"#REF!","v":{"$error":"#REF!"}},{"$f":"#REF!","v":{"$error":"#REF!"}},{"$f":"#REF!","v":{"$error":"#REF!"}},"BEITRAG_AHV",null,null,{"$f":"IF(ISBLANK(#REF!),\"\",#REF!)","v":{"$error":"#REF!"}}]
[null,{"$f":"#REF!","v":{"$error":"#REF!"}},{"$f":"#REF!","v":{"$error":"#REF!"}},{"$f":"#REF!","v":{"$error":"#REF!"}},"ANZ_MITARBEITER",null,null,{"$f":"IF(ISBLANK(#REF!),\"\",#REF!)","v":{"$error":"#REF!"}}]
[null,{"$f":"#REF!","v":{"$error":"#REF!"}},{"$f":"#REF!","v":{"$error":"#REF!"}},{"$f":"#REF!","v":{"$error":"#REF!"}},"ANZ_MITARBEITER_BEHINDERT",null,null,{"$f":"IF(ISBLANK(#REF!),\"\",#REF!)","v":{"$error":"#REF!"}}]
[null,{"$f":"#REF!","v":{"$error":"#REF!"}},{"$f":"#REF!","v":{"$error":"#REF!"}},{"$f":"#REF!","v":{"$error":"#REF!"}},"ANZ_MITARBEITER_FREIWILLIG",null,null,{"$f":"IF(ISBLANK(#REF!),\"\",#REF!)","v":{"$error":"#REF!"}}]
[null,{"$f":"#REF!","v":{"$error":"#REF!"}},{"$f":"#REF!","v":{"$error":"#REF!"}},{"$f":"#REF!","v":{"$error":"#REF!"}},"ANZ_MA_FREIWILLIG_BEHINDERT",null,null,{"$f":"IF(ISBLANK(#REF!),\"\",#REF!)","v":{"$error":"#REF!"}}]
[null,{"$f":"#REF!","v":{"$error":"#REF!"}},{"$f":"#REF!","v":{"$error":"#REF!"}},{"$f":"#REF!","v":{"$error":"#REF!"}},"ANZ_MITARBEITER_EHRENAMTLICH",null,null,{"$f":"IF(ISBLANK(#REF!),\"\",#REF!)","v":{"$error":"#REF!"}}]
[null,{"$f":"#REF!","v":{"$error":"#REF!"}},{"$f":"#REF!","v":{"$error":"#REF!"}},{"$f":"#REF!","v":{"$error":"#REF!"}},"ANZ_MA_EHRENAMTLICH_BEHINDERT",null,null,{"$f":"IF(ISBLANK(#REF!),\"\",#REF!)","v":{"$error":"#REF!"}}]
[null,{"$f":"#REF!","v":{"$error":"#REF!"}},{"$f":"#REF!","v":{"$error":"#REF!"}},{"$f":"#REF!","v":{"$error":"#REF!"}},"PERSONALAUFWAND",null,null,{"$f":"IF(ISBLANK(#REF!),\"\",#REF!)","v":{"$error":"#REF!"}}]
[null,{"$f":"#REF!","v":{"$error":"#REF!"}},{"$f":"#REF!","v":{"$error":"#REF!"}},{"$f":"#REF!","v":{"$error":"#REF!"}},"BETRIEBSAUFWAND",null,null,{"$f":"IF(ISBLANK(#REF!),\"\",#REF!)","v":{"$error":"#REF!"}}]
[null,{"$f":"#REF!","v":{"$error":"#REF!"}},{"$f":"#REF!","v":{"$error":"#REF!"}},{"$f":"#REF!","v":{"$error":"#REF!"}},"BETRIEBSERTRAG",null,null,{"$f":"IF(ISBLANK(#REF!),\"\",#REF!)","v":{"$error":"#REF!"}}]
[null,{"$f":"#REF!","v":{"$error":"#REF!"}},{"$f":"#REF!","v":{"$error":"#REF!"}},{"$f":"#REF!","v":{"$error":"#REF!"}},"BEITRAG_IV",null,null,{"$f":"IF(ISBLANK(#REF!),\"\",#REF!)","v":{"$error":"#REF!"}}]
[null,{"$f":"#REF!","v":{"$error":"#REF!"}},{"$f":"#REF!","v":{"$error":"#REF!"}},{"$f":"#REF!","v":{"$error":"#REF!"}},"BEITRAG_AHV",null,null,{"$f":"IF(ISBLANK(#REF!),\"\",#REF!)","v":{"$error":"#REF!"}}]
[null,{"$f":"#REF!","v":{"$error":"#REF!"}},{"$f":"#REF!","v":{"$error":"#REF!"}},{"$f":"#REF!","v":{"$error":"#REF!"}},"ANZ_MITARBEITER",null,null,{"$f":"IF(ISBLANK(#REF!),\"\",#REF!)","v":{"$error":"#REF!"}}]
[null,{"$f":"#REF!","v":{"$error":"#REF!"}},{"$f":"#REF!","v":{"$error":"#REF!"}},{"$f":"#REF!","v":{"$error":"#REF!"}},"ANZ_MITARBEITER_BEHINDERT",null,null,{"$f":"IF(ISBLANK(#REF!),\"\",#REF!)","v":{"$error":"#REF!"}}]
[null,{"$f":"#REF!","v":{"$error":"#REF!"}},{"$f":"#REF!","v":{"$error":"#REF!"}},{"$f":"#REF!","v":{"$error":"#REF!"}},"ANZ_MITARBEITER_FREIWILLIG",null,null,{"$f":"IF(ISBLANK(#REF!),\"\",#REF!)","v":{"$error":"#REF!"}}]
[null,{"$f":"#REF!","v":{"$error":"#REF!"}},{"$f":"#REF!","v":{"$error":"#REF!"}},{"$f":"#REF!","v":{"$error":"#REF!"}},"ANZ_MA_FREIWILLIG_BEHINDERT",null,null,{"$f":"IF(ISBLANK(#REF!),\"\",#REF!)","v":{"$error":"#REF!"}}]
[null,{"$f":"#REF!","v":{"$error":"#REF!"}},{"$f":"#REF!","v":{"$error":"#REF!"}},{"$f":"#REF!","v":{"$error":"#REF!"}},"ANZ_MITARBEITER_EHRENAMTLICH",null,null,{"$f":"IF(ISBLANK(#REF!),\"\",#REF!)","v":{"$error":"#REF!"}}]
[null,{"$f":"#REF!","v":{"$error":"#REF!"}},{"$f":"#REF!","v":{"$error":"#REF!"}},{"$f":"#REF!","v":{"$error":"#REF!"}},"ANZ_MA_EHRENAMTLICH_BEHINDERT",null,null,{"$f":"IF(ISBLANK(#REF!),\"\",#REF!)","v":{"$error":"#REF!"}}]
[null,{"$f":"#REF!","v":{"$error":"#REF!"}},{"$f":"#REF!","v":{"$error":"#REF!"}},{"$f":"#REF!","v":{"$error":"#REF!"}},"PERSONALAUFWAND",null,null,{"$f":"IF(ISBLANK(#REF!),\"\",#REF!)","v":{"$error":"#REF!"}}]
[null,{"$f":"#REF!","v":{"$error":"#REF!"}},{"$f":"#REF!","v":{"$error":"#REF!"}},{"$f":"#REF!","v":{"$error":"#REF!"}},"BETRIEBSAUFWAND",null,null,{"$f":"IF(ISBLANK(#REF!),\"\",#REF!)","v":{"$error":"#REF!"}}]
[null,{"$f":"#REF!","v":{"$error":"#REF!"}},{"$f":"#REF!","v":{"$error":"#REF!"}},{"$f":"#REF!","v":{"$error":"#REF!"}},"BETRIEBSERTRAG",null,null,{"$f":"IF(ISBLANK(#REF!),\"\",#REF!)","v":{"$error":"#REF!"}}]
[null,{"$f":"#REF!","v":{"$error":"#REF!"}},{"$f":"#REF!","v":{"$error":"#REF!"}},{"$f":"#REF!","v":{"$error":"#REF!"}},"BEITRAG_IV",null,null,{"$f":"IF(ISBLANK(#REF!),\"\",#REF!)","v":{"$error":"#REF!"}}]
[null,{"$f":"#REF!","v":{"$error":"#REF!"}},{"$f":"#REF!","v":{"$error":"#REF!"}},{"$f":"#REF!","v":{"$error":"#REF!"}},"BEITRAG_AHV",null,null,{"$f":"IF(ISBLANK(#REF!),\"\",#REF!)","v":{"$error":"#REF!"}}]
[null,{"$f":"#REF!","v":{"$error":"#REF!"}},{"$f":"#REF!","v":{"$error":"#REF!"}},{"$f":"#REF!","v":{"$error":"#REF!"}},"ANZ_MITARBEITER",null,null,{"$f":"IF(ISBLANK(#REF!),\"\",#REF!)","v":{"$error":"#REF!"}}]
[null,{"$f":"#REF!","v":{"$error":"#REF!"}},{"$f":"#REF!","v":{"$error":"#REF!"}},{"$f":"#REF!","v":{"$error":"#REF!"}},"ANZ_MITARBEITER_BEHINDERT",null,null,{"$f":"IF(ISBLANK(#REF!),\"\",#REF!)","v":{"$error":"#REF!"}}]
[null,{"$f":"#REF!","v":{"$error":"#REF!"}},{"$f":"#REF!","v":{"$error":"#REF!"}},{"$f":"#REF!","v":{"$error":"#REF!"}},"ANZ_MITARBEITER_FREIWILLIG",null,null,{"$f":"IF(ISBLANK(#REF!),\"\",#REF!)","v":{"$error":"#REF!"}}]
[null,{"$f":"#REF!","v":{"$error":"#REF!"}},{"$f":"#REF!","v":{"$error":"#REF!"}},{"$f":"#REF!","v":{"$error":"#REF!"}},"ANZ_MA_FREIWILLIG_BEHINDERT",null,null,{"$f":"IF(ISBLANK(#REF!),\"\",#REF!)","v":{"$error":"#REF!"}}]
[null,{"$f":"#REF!","v":{"$error":"#REF!"}},{"$f":"#REF!","v":{"$error":"#REF!"}},{"$f":"#REF!","v":{"$error":"#REF!"}},"ANZ_MITARBEITER_EHRENAMTLICH",null,null,{"$f":"IF(ISBLANK(#REF!),\"\",#REF!)","v":{"$error":"#REF!"}}]
[null,{"$f":"#REF!","v":{"$error":"#REF!"}},{"$f":"#REF!","v":{"$error":"#REF!"}},{"$f":"#REF!","v":{"$error":"#REF!"}},"ANZ_MA_EHRENAMTLICH_BEHINDERT",null,null,{"$f":"IF(ISBLANK(#REF!),\"\",#REF!)","v":{"$error":"#REF!"}}]
[null,{"$f":"#REF!","v":{"$error":"#REF!"}},{"$f":"#REF!","v":{"$error":"#REF!"}},{"$f":"#REF!","v":{"$error":"#REF!"}},"PERSONALAUFWAND",null,null,{"$f":"IF(ISBLANK(#REF!),\"\",#REF!)","v":{"$error":"#REF!"}}]
[null,{"$f":"#REF!","v":{"$error":"#REF!"}},{"$f":"#REF!","v":{"$error":"#REF!"}},{"$f":"#REF!","v":{"$error":"#REF!"}},"BETRIEBSAUFWAND",null,null,{"$f":"IF(ISBLANK(#REF!),\"\",#REF!)","v":{"$error":"#REF!"}}]
[null,{"$f":"#REF!","v":{"$error":"#REF!"}},{"$f":"#REF!","v":{"$error":"#REF!"}},{"$f":"#REF!","v":{"$error":"#REF!"}},"BETRIEBSERTRAG",null,null,{"$f":"IF(ISBLANK(#REF!),\"\",#REF!)","v":{"$error":"#REF!"}}]
[null,{"$f":"#REF!","v":{"$error":"#REF!"}},{"$f":"#REF!","v":{"$error":"#REF!"}},{"$f":"#REF!","v":{"$error":"#REF!"}},"BEITRAG_IV",null,null,{"$f":"IF(ISBLANK(#REF!),\"\",#REF!)","v":{"$error":"#REF!"}}]
[null,{"$f":"#REF!","v":{"$error":"#REF!"}},{"$f":"#REF!","v":{"$error":"#REF!"}},{"$f":"#REF!","v":{"$error":"#REF!"}},"BEITRAG_AHV",null,null,{"$f":"IF(ISBLANK(#REF!),\"\",#REF!)","v":{"$error":"#REF!"}}]
[null,{"$f":"#REF!","v":{"$error":"#REF!"}},{"$f":"#REF!","v":{"$error":"#REF!"}},{"$f":"#REF!","v":{"$error":"#REF!"}},"ANZ_MITARBEITER",null,null,{"$f":"IF(ISBLANK(#REF!),\"\",#REF!)","v":{"$error":"#REF!"}}]
[null,{"$f":"#REF!","v":{"$error":"#REF!"}},{"$f":"#REF!","v":{"$error":"#REF!"}},{"$f":"#REF!","v":{"$error":"#REF!"}},"ANZ_MITARBEITER_BEHINDERT",null,null,{"$f":"IF(ISBLANK(#REF!),\"\",#REF!)","v":{"$error":"#REF!"}}]
[null,{"$f":"#REF!","v":{"$error":"#REF!"}},{"$f":"#REF!","v":{"$error":"#REF!"}},{"$f":"#REF!","v":{"$error":"#REF!"}},"ANZ_MITARBEITER_FREIWILLIG",null,null,{"$f":"IF(ISBLANK(#REF!),\"\",#REF!)","v":{"$error":"#REF!"}}]
[null,{"$f":"#REF!","v":{"$error":"#REF!"}},{"$f":"#REF!","v":{"$error":"#REF!"}},{"$f":"#REF!","v":{"$error":"#REF!"}},"ANZ_MA_FREIWILLIG_BEHINDERT",null,null,{"$f":"IF(ISBLANK(#REF!),\"\",#REF!)","v":{"$error":"#REF!"}}]
[null,{"$f":"#REF!","v":{"$error":"#REF!"}},{"$f":"#REF!","v":{"$error":"#REF!"}},{"$f":"#REF!","v":{"$error":"#REF!"}},"ANZ_MITARBEITER_EHRENAMTLICH",null,null,{"$f":"IF(ISBLANK(#REF!),\"\",#REF!)","v":{"$error":"#REF!"}}]
[null,{"$f":"#REF!","v":{"$error":"#REF!"}},{"$f":"#REF!","v":{"$error":"#REF!"}},{"$f":"#REF!","v":{"$error":"#REF!"}},"ANZ_MA_EHRENAMTLICH_BEHINDERT",null,null,{"$f":"IF(ISBLANK(#REF!),\"\",#REF!)","v":{"$error":"#REF!"}}]
[null,{"$f":"#REF!","v":{"$error":"#REF!"}},{"$f":"#REF!","v":{"$error":"#REF!"}},{"$f":"#REF!","v":{"$error":"#REF!"}},"PERSONALAUFWAND",null,null,{"$f":"IF(ISBLANK(#REF!),\"\",#REF!)","v":{"$error":"#REF!"}}]
[null,{"$f":"#REF!","v":{"$error":"#REF!"}},{"$f":"#REF!","v":{"$error":"#REF!"}},{"$f":"#REF!","v":{"$error":"#REF!"}},"BETRIEBSAUFWAND",null,null,{"$f":"IF(ISBLANK(#REF!),\"\",#REF!)","v":{"$error":"#REF!"}}]
[null,{"$f":"#REF!","v":{"$error":"#REF!"}},{"$f":"#REF!","v":{"$error":"#REF!"}},{"$f":"#REF!","v":{"$error":"#REF!"}},"BETRIEBSERTRAG",null,null,{"$f":"IF(ISBLANK(#REF!),\"\",#REF!)","v":{"$error":"#REF!"}}]
[null,{"$f":"#REF!","v":{"$error":"#REF!"}},{"$f":"#REF!","v":{"$error":"#REF!"}},{"$f":"#REF!","v":{"$error":"#REF!"}},"BEITRAG_IV",null,null,{"$f":"IF(ISBLANK(#REF!),\"\",#REF!)","v":{"$error":"#REF!"}}]
[null,{"$f":"#REF!","v":{"$error":"#REF!"}},{"$f":"#REF!","v":{"$error":"#REF!"}},{"$f":"#REF!","v":{"$error":"#REF!"}},"BEITRAG_AHV",null,null,{"$f":"IF(ISBLANK(#REF!),\"\",#REF!)","v":{"$error":"#REF!"}}]
[null,{"$f":"#REF!","v":{"$error":"#REF!"}},{"$f":"#REF!","v":{"$error":"#REF!"}},{"$f":"#REF!","v":{"$error":"#REF!"}},"ANZ_MITARBEITER",null,null,{"$f":"IF(ISBLANK(#REF!),\"\",#REF!)","v":{"$error":"#REF!"}}]
[null,{"$f":"#REF!","v":{"$error":"#REF!"}},{"$f":"#REF!","v":{"$error":"#REF!"}},{"$f":"#REF!","v":{"$error":"#REF!"}},"ANZ_MITARBEITER_BEHINDERT",null,null,{"$f":"IF(ISBLANK(#REF!),\"\",#REF!)","v":{"$error":"#REF!"}}]
[null,{"$f":"#REF!","v":{"$error":"#REF!"}},{"$f":"#REF!","v":{"$error":"#REF!"}},{"$f":"#REF!","v":{"$error":"#REF!"}},"ANZ_MITARBEITER_FREIWILLIG",null,null,{"$f":"IF(ISBLANK(#REF!),\"\",#REF!)","v":{"$error":"#REF!"}}]
[null,{"$f":"#REF!","v":{"$error":"#REF!"}},{"$f":"#REF!","v":{"$error":"#REF!"}},{"$f":"#REF!","v":{"$error":"#REF!"}},"ANZ_MA_FREIWILLIG_BEHINDERT",null,null,{"$f":"IF(ISBLANK(#REF!),\"\",#REF!)","v":{"$error":"#REF!"}}]
[null,{"$f":"#REF!","v":{"$error":"#REF!"}},{"$f":"#REF!","v":{"$error":"#REF!"}},{"$f":"#REF!","v":{"$error":"#REF!"}},"ANZ_MITARBEITER_EHRENAMTLICH",null,null,{"$f":"IF(ISBLANK(#REF!),\"\",#REF!)","v":{"$error":"#REF!"}}]
[null,{"$f":"#REF!","v":{"$error":"#REF!"}},{"$f":"#REF!","v":{"$error":"#REF!"}},{"$f":"#REF!","v":{"$error":"#REF!"}},"ANZ_MA_EHRENAMTLICH_BEHINDERT",null,null,{"$f":"IF(ISBLANK(#REF!),\"\",#REF!)","v":{"$error":"#REF!"}}]
[null,{"$f":"#REF!","v":{"$error":"#REF!"}},{"$f":"#REF!","v":{"$error":"#REF!"}},{"$f":"#REF!","v":{"$error":"#REF!"}},"PERSONALAUFWAND",null,null,{"$f":"IF(ISBLANK(#REF!),\"\",#REF!)","v":{"$error":"#REF!"}}]
[null,{"$f":"#REF!","v":{"$error":"#REF!"}},{"$f":"#REF!","v":{"$error":"#REF!"}},{"$f":"#REF!","v":{"$error":"#REF!"}},"BETRIEBSAUFWAND",null,null,{"$f":"IF(ISBLANK(#REF!),\"\",#REF!)","v":{"$error":"#REF!"}}]
[null,{"$f":"#REF!","v":{"$error":"#REF!"}},{"$f":"#REF!","v":{"$error":"#REF!"}},{"$f":"#REF!","v":{"$error":"#REF!"}},"BETRIEBSERTRAG",null,null,{"$f":"IF(ISBLANK(#REF!),\"\",#REF!)","v":{"$error":"#REF!"}}]
[null,{"$f":"#REF!","v":{"$error":"#REF!"}},{"$f":"#REF!","v":{"$error":"#REF!"}},{"$f":"#REF!","v":{"$error":"#REF!"}},"BEITRAG_IV",null,null,{"$f":"IF(ISBLANK(#REF!),\"\",#REF!)","v":{"$error":"#REF!"}}]
[null,{"$f":"#REF!","v":{"$error":"#REF!"}},{"$f":"#REF!","v":{"$error":"#REF!"}},{"$f":"#REF!","v":{"$error":"#REF!"}},"BEITRAG_AHV",null,null,{"$f":"IF(ISBLANK(#REF!),\"\",#REF!)","v":{"$error":"#REF!"}}]
[null,{"$f":"#REF!","v":{"$error":"#REF!"}},{"$f":"#REF!","v":{"$error":"#REF!"}},{"$f":"#REF!","v":{"$error":"#REF!"}},"ANZ_MITARBEITER",null,null,{"$f":"IF(ISBLANK(#REF!),\"\",#REF!)","v":{"$error":"#REF!"}}]
[null,{"$f":"#REF!","v":{"$error":"#REF!"}},{"$f":"#REF!","v":{"$error":"#REF!"}},{"$f":"#REF!","v":{"$error":"#REF!"}},"ANZ_MITARBEITER_BEHINDERT",null,null,{"$f":"IF(ISBLANK(#REF!),\"\",#REF!)","v":{"$error":"#REF!"}}]
[null,{"$f":"#REF!","v":{"$error":"#REF!"}},{"$f":"#REF!","v":{"$error":"#REF!"}},{"$f":"#REF!","v":{"$error":"#REF!"}},"ANZ_MITARBEITER_FREIWILLIG",null,null,{"$f":"IF(ISBLANK(#REF!),\"\",#REF!)","v":{"$error":"#REF!"}}]
[null,{"$f":"#REF!","v":{"$error":"#REF!"}},{"$f":"#REF!","v":{"$error":"#REF!"}},{"$f":"#REF!","v":{"$error":"#REF!"}},"ANZ_MA_FREIWILLIG_BEHINDERT",null,null,{"$f":"IF(ISBLANK(#REF!),\"\",#REF!)","v":{"$error":"#REF!"}}]
[null,{"$f":"#REF!","v":{"$error":"#REF!"}},{"$f":"#REF!","v":{"$error":"#REF!"}},{"$f":"#REF!","v":{"$error":"#REF!"}},"ANZ_MITARBEITER_EHRENAMTLICH",null,null,{"$f":"IF(ISBLANK(#REF!),\"\",#REF!)","v":{"$error":"#REF!"}}]
[null,{"$f":"#REF!","v":{"$error":"#REF!"}},{"$f":"#REF!","v":{"$error":"#REF!"}},{"$f":"#REF!","v":{"$error":"#REF!"}},"ANZ_MA_EHRENAMTLICH_BEHINDERT",null,null,{"$f":"IF(ISBLANK(#REF!),\"\",#REF!)","v":{"$error":"#REF!"}}]
[null,{"$f":"#REF!","v":{"$error":"#REF!"}},{"$f":"#REF!","v":{"$error":"#REF!"}},{"$f":"#REF!","v":{"$error":"#REF!"}},"PERSONALAUFWAND",null,null,{"$f":"IF(ISBLANK(#REF!),\"\",#REF!)","v":{"$error":"#REF!"}}]
[null,{"$f":"#REF!","v":{"$error":"#REF!"}},{"$f":"#REF!","v":{"$error":"#REF!"}},{"$f":"#REF!","v":{"$error":"#REF!"}},"BETRIEBSAUFWAND",null,null,{"$f":"IF(ISBLANK(#REF!),\"\",#REF!)","v":{"$error":"#REF!"}}]
[null,{"$f":"#REF!","v":{"$error":"#REF!"}},{"$f":"#REF!","v":{"$error":"#REF!"}},{"$f":"#REF!","v":{"$error":"#REF!"}},"BETRIEBSERTRAG",null,null,{"$f":"IF(ISBLANK(#REF!),\"\",#REF!)","v":{"$error":"#REF!"}}]
[null,{"$f":"#REF!","v":{"$error":"#REF!"}},{"$f":"#REF!","v":{"$error":"#REF!"}},{"$f":"#REF!","v":{"$error":"#REF!"}},"BEITRAG_IV",null,null,{"$f":"IF(ISBLANK(#REF!),\"\",#REF!)","v":{"$error":"#REF!"}}]
[null,{"$f":"#REF!","v":{"$error":"#REF!"}},{"$f":"#REF!","v":{"$error":"#REF!"}},{"$f":"#REF!","v":{"$error":"#REF!"}},"BEITRAG_AHV",null,null,{"$f":"IF(ISBLANK(#REF!),\"\",#REF!)","v":{"$error":"#REF!"}}]
[null,{"$f":"#REF!","v":{"$error":"#REF!"}},{"$f":"#REF!","v":{"$error":"#REF!"}},{"$f":"#REF!","v":{"$error":"#REF!"}},"ANZ_MITARBEITER",null,null,{"$f":"IF(ISBLANK(#REF!),\"\",#REF!)","v":{"$error":"#REF!"}}]
[null,{"$f":"#REF!","v":{"$error":"#REF!"}},{"$f":"#REF!","v":{"$error":"#REF!"}},{"$f":"#REF!","v":{"$error":"#REF!"}},"ANZ_MITARBEITER_BEHINDERT",null,null,{"$f":"IF(ISBLANK(#REF!),\"\",#REF!)","v":{"$error":"#REF!"}}]
[null,{"$f":"#REF!","v":{"$error":"#REF!"}},{"$f":"#REF!","v":{"$error":"#REF!"}},{"$f":"#REF!","v":{"$error":"#REF!"}},"ANZ_MITARBEITER_FREIWILLIG",null,null,{"$f":"IF(ISBLANK(#REF!),\"\",#REF!)","v":{"$error":"#REF!"}}]
[null,{"$f":"#REF!","v":{"$error":"#REF!"}},{"$f":"#REF!","v":{"$error":"#REF!"}},{"$f":"#REF!","v":{"$error":"#REF!"}},"ANZ_MA_FREIWILLIG_BEHINDERT",null,null,{"$f":"IF(ISBLANK(#REF!),\"\",#REF!)","v":{"$error":"#REF!"}}]
[null,{"$f":"#REF!","v":{"$error":"#REF!"}},{"$f":"#REF!","v":{"$error":"#REF!"}},{"$f":"#REF!","v":{"$error":"#REF!"}},"ANZ_MITARBEITER_EHRENAMTLICH",null,null,{"$f":"IF(ISBLANK(#REF!),\"\",#REF!)","v":{"$error":"#REF!"}}]
[null,{"$f":"#REF!","v":{"$error":"#REF!"}},{"$f":"#REF!","v":{"$error":"#REF!"}},{"$f":"#REF!","v":{"$error":"#REF!"}},"ANZ_MA_EHRENAMTLICH_BEHINDERT",null,null,{"$f":"IF(ISBLANK(#REF!),\"\",#REF!)","v":{"$error":"#REF!"}}]
[null,{"$f":"#REF!","v":{"$error":"#REF!"}},{"$f":"#REF!","v":{"$error":"#REF!"}},{"$f":"#REF!","v":{"$error":"#REF!"}},"PERSONALAUFWAND",null,null,{"$f":"IF(ISBLANK(#REF!),\"\",#REF!)","v":{"$error":"#REF!"}}]
[null,{"$f":"#REF!","v":{"$error":"#REF!"}},{"$f":"#REF!","v":{"$error":"#REF!"}},{"$f":"#REF!","v":{"$error":"#REF!"}},"BETRIEBSAUFWAND",null,null,{"$f":"IF(ISBLANK(#REF!),\"\",#REF!)","v":{"$error":"#REF!"}}]
[null,{"$f":"#REF!","v":{"$error":"#REF!"}},{"$f":"#REF!","v":{"$error":"#REF!"}},{"$f":"#REF!","v":{"$error":"#REF!"}},"BETRIEBSERTRAG",null,null,{"$f":"IF(ISBLANK(#REF!),\"\",#REF!)","v":{"$error":"#REF!"}}]
[null,{"$f":"#REF!","v":{"$error":"#REF!"}},{"$f":"#REF!","v":{"$error":"#REF!"}},{"$f":"#REF!","v":{"$error":"#REF!"}},"BEITRAG_IV",null,null,{"$f":"IF(ISBLANK(#REF!),\"\",#REF!)","v":{"$error":"#REF!"}}]
[null,{"$f":"#REF!","v":{"$error":"#REF!"}},{"$f":"#REF!","v":{"$error":"#REF!"}},{"$f":"#REF!","v":{"$error":"#REF!"}},"BEITRAG_AHV",null,null,{"$f":"IF(ISBLANK(#REF!),\"\",#REF!)","v":{"$error":"#REF!"}}]
[null,{"$f":"#REF!","v":{"$error":"#REF!"}},{"$f":"#REF!","v":{"$error":"#REF!"}},{"$f":"#REF!","v":{"$error":"#REF!"}},"ANZ_MITARBEITER",null,null,{"$f":"IF(ISBLANK(#REF!),\"\",#REF!)","v":{"$error":"#REF!"}}]
[null,{"$f":"#REF!","v":{"$error":"#REF!"}},{"$f":"#REF!","v":{"$error":"#REF!"}},{"$f":"#REF!","v":{"$error":"#REF!"}},"ANZ_MITARBEITER_BEHINDERT",null,null,{"$f":"IF(ISBLANK(#REF!),\"\",#REF!)","v":{"$error":"#REF!"}}]
[null,{"$f":"#REF!","v":{"$error":"#REF!"}},{"$f":"#REF!","v":{"$error":"#REF!"}},{"$f":"#REF!","v":{"$error":"#REF!"}},"ANZ_MITARBEITER_FREIWILLIG",null,null,{"$f":"IF(ISBLANK(#REF!),\"\",#REF!)","v":{"$error":"#REF!"}}]
[null,{"$f":"#REF!","v":{"$error":"#REF!"}},{"$f":"#REF!","v":{"$error":"#REF!"}},{"$f":"#REF!","v":{"$error":"#REF!"}},"ANZ_MA_FREIWILLIG_BEHINDERT",null,null,{"$f":"IF(ISBLANK(#REF!),\"\",#REF!)","v":{"$error":"#REF!"}}]
[null,{"$f":"#REF!","v":{"$error":"#REF!"}},{"$f":"#REF!","v":{"$error":"#REF!"}},{"$f":"#REF!","v":{"$error":"#REF!"}},"ANZ_MITARBEITER_EHRENAMTLICH",null,null,{"$f":"IF(ISBLANK(#REF!),\"\",#REF!)","v":{"$error":"#REF!"}}]
[null,{"$f":"#REF!","v":{"$error":"#REF!"}},{"$f":"#REF!","v":{"$error":"#REF!"}},{"$f":"#REF!","v":{"$error":"#REF!"}},"ANZ_MA_EHRENAMTLICH_BEHINDERT",null,null,{"$f":"IF(ISBLANK(#REF!),\"\",#REF!)","v":{"$error":"#REF!"}}]
[null,{"$f":"#REF!","v":{"$error":"#REF!"}},{"$f":"#REF!","v":{"$error":"#REF!"}},{"$f":"#REF!","v":{"$error":"#REF!"}},"PERSONALAUFWAND",null,null,{"$f":"IF(ISBLANK(#REF!),\"\",#REF!)","v":{"$error":"#REF!"}}]
[null,{"$f":"#REF!","v":{"$error":"#REF!"}},{"$f":"#REF!","v":{"$error":"#REF!"}},{"$f":"#REF!","v":{"$error":"#REF!"}},"BETRIEBSAUFWAND",null,null,{"$f":"IF(ISBLANK(#REF!),\"\",#REF!)","v":{"$error":"#REF!"}}]
[null,{"$f":"#REF!","v":{"$error":"#REF!"}},{"$f":"#REF!","v":{"$error":"#REF!"}},{"$f":"#REF!","v":{"$error":"#REF!"}},"BETRIEBSERTRAG",null,null,{"$f":"IF(ISBLANK(#REF!),\"\",#REF!)","v":{"$error":"#REF!"}}]
[null,{"$f":"#REF!","v":{"$error":"#REF!"}},{"$f":"#REF!","v":{"$error":"#REF!"}},{"$f":"#REF!","v":{"$error":"#REF!"}},"BEITRAG_IV",null,null,{"$f":"IF(ISBLANK(#REF!),\"\",#REF!)","v":{"$error":"#REF!"}}]
[null,{"$f":"#REF!","v":{"$error":"#REF!"}},{"$f":"#REF!","v":{"$error":"#REF!"}},{"$f":"#REF!","v":{"$error":"#REF!"}},"BEITRAG_AHV",null,null,{"$f":"IF(ISBLANK(#REF!),\"\",#REF!)","v":{"$error":"#REF!"}}]
[null,{"$f":"#REF!","v":{"$error":"#REF!"}},{"$f":"#REF!","v":{"$error":"#REF!"}},{"$f":"#REF!","v":{"$error":"#REF!"}},"ANZ_MITARBEITER",null,null,{"$f":"IF(ISBLANK(#REF!),\"\",#REF!)","v":{"$error":"#REF!"}}]
[null,{"$f":"#REF!","v":{"$error":"#REF!"}},{"$f":"#REF!","v":{"$error":"#REF!"}},{"$f":"#REF!","v":{"$error":"#REF!"}},"ANZ_MITARBEITER_BEHINDERT",null,null,{"$f":"IF(ISBLANK(#REF!),\"\",#REF!)","v":{"$error":"#REF!"}}]
[null,{"$f":"#REF!","v":{"$error":"#REF!"}},{"$f":"#REF!","v":{"$error":"#REF!"}},{"$f":"#REF!","v":{"$error":"#REF!"}},"ANZ_MITARBEITER_FREIWILLIG",null,null,{"$f":"IF(ISBLANK(#REF!),\"\",#REF!)","v":{"$error":"#REF!"}}]
[null,{"$f":"#REF!","v":{"$error":"#REF!"}},{"$f":"#REF!","v":{"$error":"#REF!"}},{"$f":"#REF!","v":{"$error":"#REF!"}},"ANZ_MA_FREIWILLIG_BEHINDERT",null,null,{"$f":"IF(ISBLANK(#REF!),\"\",#REF!)","v":{"$error":"#REF!"}}]
[null,{"$f":"#REF!","v":{"$error":"#REF!"}},{"$f":"#REF!","v":{"$error":"#REF!"}},{"$f":"#REF!","v":{"$error":"#REF!"}},"ANZ_MITARBEITER_EHRENAMTLICH",null,null,{"$f":"IF(ISBLANK(#REF!),\"\",#REF!)","v":{"$error":"#REF!"}}]
[null,{"$f":"#REF!","v":{"$error":"#REF!"}},{"$f":"#REF!","v":{"$error":"#REF!"}},{"$f":"#REF!","v":{"$error":"#REF!"}},"ANZ_MA_EHRENAMTLICH_BEHINDERT",null,null,{"$f":"IF(ISBLANK(#REF!),\"\",#REF!)","v":{"$error":"#REF!"}}]
[null,{"$f":"#REF!","v":{"$error":"#REF!"}},{"$f":"#REF!","v":{"$error":"#REF!"}},{"$f":"#REF!","v":{"$error":"#REF!"}},"PERSONALAUFWAND",null,null,{"$f":"IF(ISBLANK(#REF!),\"\",#REF!)","v":{"$error":"#REF!"}}]
[null,{"$f":"#REF!","v":{"$error":"#REF!"}},{"$f":"#REF!","v":{"$error":"#REF!"}},{"$f":"#REF!","v":{"$error":"#REF!"}},"BETRIEBSAUFWAND",null,null,{"$f":"IF(ISBLANK(#REF!),\"\",#REF!)","v":{"$error":"#REF!"}}]
[null,{"$f":"#REF!","v":{"$error":"#REF!"}},{"$f":"#REF!","v":{"$error":"#REF!"}},{"$f":"#REF!","v":{"$error":"#REF!"}},"BETRIEBSERTRAG",null,null,{"$f":"IF(ISBLANK(#REF!),\"\",#REF!)","v":{"$error":"#REF!"}}]
[null,{"$f":"#REF!","v":{"$error":"#REF!"}},{"$f":"#REF!","v":{"$error":"#REF!"}},{"$f":"#REF!","v":{"$error":"#REF!"}},"BEITRAG_IV",null,null,{"$f":"IF(ISBLANK(#REF!),\"\",#REF!)","v":{"$error":"#REF!"}}]
[null,{"$f":"#REF!","v":{"$error":"#REF!"}},{"$f":"#REF!","v":{"$error":"#REF!"}},{"$f":"#REF!","v":{"$error":"#REF!"}},"BEITRAG_AHV",null,null,{"$f":"IF(ISBLANK(#REF!),\"\",#REF!)","v":{"$error":"#REF!"}}]
[null,{"$f":"#REF!","v":{"$error":"#REF!"}},{"$f":"#REF!","v":{"$error":"#REF!"}},{"$f":"#REF!","v":{"$error":"#REF!"}},"ANZ_MITARBEITER",null,null,{"$f":"IF(ISBLANK(#REF!),\"\",#REF!)","v":{"$error":"#REF!"}}]
[null,{"$f":"#REF!","v":{"$error":"#REF!"}},{"$f":"#REF!","v":{"$error":"#REF!"}},{"$f":"#REF!","v":{"$error":"#REF!"}},"ANZ_MITARBEITER_BEHINDERT",null,null,{"$f":"IF(ISBLANK(#REF!),\"\",#REF!)","v":{"$error":"#REF!"}}]
[null,{"$f":"#REF!","v":{"$error":"#REF!"}},{"$f":"#REF!","v":{"$error":"#REF!"}},{"$f":"#REF!","v":{"$error":"#REF!"}},"ANZ_MITARBEITER_FREIWILLIG",null,null,{"$f":"IF(ISBLANK(#REF!),\"\",#REF!)","v":{"$error":"#REF!"}}]
[null,{"$f":"#REF!","v":{"$error":"#REF!"}},{"$f":"#REF!","v":{"$error":"#REF!"}},{"$f":"#REF!","v":{"$error":"#REF!"}},"ANZ_MA_FREIWILLIG_BEHINDERT",null,null,{"$f":"IF(ISBLANK(#REF!),\"\",#REF!)","v":{"$error":"#REF!"}}]
[null,{"$f":"#REF!","v":{"$error":"#REF!"}},{"$f":"#REF!","v":{"$error":"#REF!"}},{"$f":"#REF!","v":{"$error":"#REF!"}},"ANZ_MITARBEITER_EHRENAMTLICH",null,null,{"$f":"IF(ISBLANK(#REF!),\"\",#REF!)","v":{"$error":"#REF!"}}]
[null,{"$f":"#REF!","v":{"$error":"#REF!"}},{"$f":"#REF!","v":{"$error":"#REF!"}},{"$f":"#REF!","v":{"$error":"#REF!"}},"ANZ_MA_EHRENAMTLICH_BEHINDERT",null,null,{"$f":"IF(ISBLANK(#REF!),\"\",#REF!)","v":{"$error":"#REF!"}}]
[null,{"$f":"#REF!","v":{"$error":"#REF!"}},{"$f":"#REF!","v":{"$error":"#REF!"}},{"$f":"#REF!","v":{"$error":"#REF!"}},"PERSONALAUFWAND",null,null,{"$f":"IF(ISBLANK(#REF!),\"\",#REF!)","v":{"$error":"#REF!"}}]
[null,{"$f":"#REF!","v":{"$error":"#REF!"}},{"$f":"#REF!","v":{"$error":"#REF!"}},{"$f":"#REF!","v":{"$error":"#REF!"}},"BETRIEBSAUFWAND",null,null,{"$f":"IF(ISBLANK(#REF!),\"\",#REF!)","v":{"$error":"#REF!"}}]
[null,{"$f":"#REF!","v":{"$error":"#REF!"}},{"$f":"#REF!","v":{"$error":"#REF!"}},{"$f":"#REF!","v":{"$error":"#REF!"}},"BETRIEBSERTRAG",null,null,{"$f":"IF(ISBLANK(#REF!),\"\",#REF!)","v":{"$error":"#REF!"}}]
[null,{"$f":"#REF!","v":{"$error":"#REF!"}},{"$f":"#REF!","v":{"$error":"#REF!"}},{"$f":"#REF!","v":{"$error":"#REF!"}},"BEITRAG_IV",null,null,{"$f":"IF(ISBLANK(#REF!),\"\",#REF!)","v":{"$error":"#REF!"}}]
[null,{"$f":"#REF!","v":{"$error":"#REF!"}},{"$f":"#REF!","v":{"$error":"#REF!"}},{"$f":"#REF!","v":{"$error":"#REF!"}},"BEITRAG_AHV",null,null,{"$f":"IF(ISBLANK(#REF!),\"\",#REF!)","v":{"$error":"#REF!"}}]

{"sheet":"PROG","index":9,"n_rows":7,"n_cols":1,"rows_kept":7,"cut":false,"hidden":true,"merged":[]}
[]
["Aucune "]
["Animation SC"]
["Administration"]
["Soins"]
["Gestion"]
["Formation"]